Workbook

Sheet INFO
B3: KOMMUNERNAS BIDRAG TILL BOJ
B4: Kommunbidragsundersökning 2022
B6: Kommunbidragsundersökningen är genomförd av Brottsofferjouren Sverige,
B7: förbundsorganisation för lokala brottsofferjourer.
B9: Undersökningen gäller förhållanden under 2022 och har genomförts efter verksamhetsårets 2022 slut
B10: genom en onlinenkät till lokala brottsofferjourer som är medlemmar i Brottsofferjouren Sverige.
B12: Uppgifterna om invånarantal är baserade på SCBs officiella statistik för samma verksamhetsår,
B13: aktuellt 1 januari 2022.
B15: Uppgifterna om anmälda brott är baserade på BRÅs officiella statistik för samma verksamhetsår,
B16: aktuellt 1 januari 2022.
B18: En del brott drabbar ingen enskild person. Enkla exempel är skattefusk, bidragsfusk, olovlig körning osv. Detta är brott mot ordningsförordningar eller regelverk där samhället i stort är drabbat. Under varje rubrik i Brottsbalken finns emellertid brott där enskilda kan drabbas. Därför är samtliga brott under Brottsbalken med i vår uträkning. Av de specialrättsliga författningarna är lagarna om kontaktförbud, terrorism, könsstympning och krigsförbrytelser medräknade, eftersom brott mot dessa kan drabba enskilda personer.
B19: Material i den här Excelfilen:
... B27: 08-644 88 00

Sheet bidrag per jour
B2: Kommunbidrag, invånare och bidrag per invånare 2022 för lokala brottsofferjourer inom Brottsofferjouren Sverige *
B4: Län | C4: Brottsofferjour | D4: Kommunbidrag 2022 | E4: Invånare 2022-01-01 | F4: Kommunbidrag per inv 2022
B5: Västra Götaland | C5: Ale | D5: 0 | E5: 32148 | F5: =SUM(Tabell2[[#This Row],[Kommunbidrag 2022]]/Tabell2[[#This Row],[Invånare 2022-01-01]]) -> 0
B6: Västra Götaland | C6: Alingsås-Lerum-Vårgårda-Herrljunga | D6: 48620 | E6: 106933 | F6: =SUM(Tabell2[[#This Row],[Kommunbidrag 2022]]/Tabell2[[#This Row],[Invånare 2022-01-01]]) -> 0.45467723
B7: Dalarna | C7: Avesta-Hedemora | D7: 46134 | E7: 38383 | F7: =SUM(Tabell2[[#This Row],[Kommunbidrag 2022]]/Tabell2[[#This Row],[Invånare 2022-01-01]]) -> 1.2019384
B8: Blekinge | C8: Blekinge | D8: 189000 | E8: 158937 | F8: =SUM(Tabell2[[#This Row],[Kommunbidrag 2022]]/Tabell2[[#This Row],[Invånare 2022-01-01]]) -> 1.1891504
B9: Norrbotten | C9: Boden | D9: 0 | E9: 28160 | F9: =SUM(Tabell2[[#This Row],[Kommunbidrag 2022]]/Tabell2[[#This Row],[Invånare 2022-01-01]]) -> 0
B10: Gävleborg | C10: Bollnäs-Ovanåker | D10: 109650 | E10: 38464 | F10: =SUM(Tabell2[[#This Row],[Kommunbidrag 2022]]/Tabell2[[#This Row],[Invånare 2022-01-01]]) -> 2.8507176
B11: Västra Götaland | C11: Borås-Sjuhärad | D11: 155000 | E11: 206625 | F11: =SUM(Tabell2[[#This Row],[Kommunbidrag 2022]]/Tabell2[[#This Row],[Invånare 2022-01-01]]) -> 0.75015124
B12: Uppsala | C12: Enköping | D12: 250000 | E12: 47489 | F12: =SUM(Tabell2[[#This Row],[Kommunbidrag 2022]]/Tabell2[[#This Row],[Invånare 2022-01-01]]) -> 5.264377
B13: Södermanland | C13: Eskilstuna | D13: 229000 | E13: 107593 | F13: =SUM(Tabell2[[#This Row],[Kommunbidrag 2022]]/Tabell2[[#This Row],[Invånare 2022-01-01]]) -> 2.1283913
B14: Halland | C14: Falkenberg | D14: 100000 | E14: 46773 | F14: =SUM(Tabell2[[#This Row],[Kommunbidrag 2022]]/Tabell2[[#This Row],[Invånare 2022-01-01]]) -> 2.1379856
B15: Skåne | C15: Freezonen | D15: 90000 | E15: 100455 | F15: =SUM(Tabell2[[#This Row],[Kommunbidrag 2022]]/Tabell2[[#This Row],[Invånare 2022-01-01]]) -> 0.89592355
B16: Västra Götaland | C16: Fyrbodal | D16: 491764 | E16: 332182 | F16: =SUM(Tabell2[[#This Row],[Kommunbidrag 2022]]/Tabell2[[#This Row],[Invånare 2022-01-01]]) -> 1.4804053
... B68: Dalarna | C68: Övre Dalarna | D68: 77841 | E68: 78739 | F68: =SUM(Tabell2[[#This Row],[Kommunbidrag 2022]]/Tabell2[[#This Row],[Invånare 2022-01-01]]) -> 0.98859523
C69: =SUBTOTAL(103,Tabell2[Brottsofferjour]) -> 64 | D69: =SUBTOTAL(109,Tabell2[Kommunbidrag 2022]) -> 28119220 | E69: =SUBTOTAL(109,Tabell2[Invånare 2022-01-01]) -> 10087675 | F69: =SUM(Tabell2[[#Totals],[Kommunbidrag 2022]]/Tabell2[[#Totals],[Invånare 2022-01-01]]) -> 2.7874827
B71: Skåne | C71: INGEN BOJ (Malmö) | D71: 0 | E71: 351749
B72: Västra Götaland | C72: INGEN BOJ (Öckerö) | D72: 0 | E72: 12902
B74: * Tabellen visar sammanlagt bidrag per BOJ. Jourerna täcker olika geografiska områden - oftast ingår flera kommuner.
B75: För att se bidrag från varje kommun, se länstabellerna längre fram i denna Excelfil.

Sheet ej bidrag
B2: Kommuner där ansökan gjorts av lokal brottsofferjour för 2022 men där bidrag uteblivit
B5: Län | C5: Brottsofferjour | D5: Kommun | E5: Invånare 1 jan 2022 | F5: Anmälda brott 1 jan 2022* | G5: Skäl till att bidrag ej beviljats | H5: Kommentar
B6: Dalarna | C6: Mellersta Dalarna | D6: Falun | E6: 59837 | F6: 5081.7411 | G6: Avslag
B7: Norrbotten | C7: Norrbotten | D7: Gällivare | E7: 17449 | F7: 1207.3209 | G7: Avslag | H7: Kommunen uppger de hanterar stödverksamheten själva
B8: Norrbotten | C8: Norrbotten | D8: Haparanda | E8: 9496 | F8: 850.33528 | G8: Ej svar från kommunen
B9: Dalarna | C9: Avesta-Hedemora | D9: Hedemora | E9: 15458 | F9: 1116.2991 | G9: Ej svar från kommunen
B10: Gävleborg | C10: Gästrike Västra | D10: Hofors | E10: 9578 | F10: 631.60585 | G10: Ej svar från kommunen
B11: Norrbotten | C11: Norrbotten | D11: Jokkmokk | E11: 4780 | F11: 286.03194 | G11: Ej svar från kommunen
B12: Norrbotten | C12: Norrbotten | D12: Kalix | E12: 15768 | F12: 1373.6185 | G12: Avslag | H12: Ekonomiska skäl
B13: Östergötland | C13: Östergötland | D13: Kinda | E13: 10048 | F13: 724.92404 | G13: Ej svar från kommunen
B14: Norrbotten | C14: Norrbotten | D14: Kiruna | E14: 22555 | F14: 1447.8981 | G14: Ej svar från kommunen
B15: Östergötland | C15: Östergötland | D15: Linköping | E15: 165527 | F15: 16514.676 | G15: Ej svar från kommunen
B16: Östergötland | C16: Västra Östergötland | D16: Mjölby | E16: 28269 | F16: 2534.569 | G16: Avslag | H16: Kommunen uppger de hanterar stödverksamheten själva
B17: Dalarna | C17: Övre Dalarna | D17: Mora | E17: 20670 | F17: 1723.3376 | G17: Ej svar från kommunen
B18: Västra Götaland | C18: Fyrbodal | D18: Munkedal | E18: 10588 | F18: 898.54634 | G18: Avslag | H18: Kommun vill förhandla IOP istället
B19: Kalmar | C19: Oskarshamn-Mönsterås-Högsby | D19: Mönsterås | E19: 13258 | F19: 1321.3144 | G19: Ej svar från kommunen
B20: Gävleborg | C20: Gästrike Västra | D20: Ockelbo | E20: 5865 | F20: 560.59691 | G20: Ej svar från kommunen
B21: Dalarna | C21: Övre Dalarna | D21: Orsa | E21: 6918 | F21: 388.39603 | G21: Ej svar från kommunen
B22: Norrbotten | C22: Norrbotten | D22: Pajala | E22: 5973 | F22: 294.90115 | G22: Ej svar från kommunen
B23: Skåne | C23: Freezonen | D23: Simrishamn | E23: 19267 | F23: 1552.6782 | G23: Avslag | H23: Inga skäl angavs.
B24: Skåne | C24: Freezonen | D24: Sjöbo | E24: 19497 | F24: 1678.3903 | G24: Avslag | H24: Inga skäl angavs.
B25: Skåne | C25: Freezonen | D25: Skurup | E25: 16419 | F25: 1658.3299 | G25: Avslag | H25: Inga skäl angavs.
B26: Västra Götaland | C26: Borås-Sjuhärad | D26: Svenljunga | E26: 10864 | F26: 954.42609 | G26: Ej svar från kommunen
B27: Dalarna | C27: Mellersta Dalarna | D27: Säter | E27: 11242 | F27: 632.84109 | G27: Ej svar från kommunen
B28: Blekinge | C28: Blekinge | D28: Sölvesborg | E28: 17540 | F28: 1642.2815 | G28: Ej svar från kommunen
B29: Skåne | C29: Freezonen | D29: Tomelilla | E29: 13712 | F29: 1131.4089 | G29: Avslag | H29: Inga skäl angavs.
B30: Västra Götaland | C30: Borås-Sjuhärad | D30: Tranemo | E30: 11937 | F30: 889.60558 | G30: Ej svar från kommunen
B31: Södermanland | C31: Östra Sörmland | D31: Trosa | E31: 14658 | F31: 1119.368 | G31: Ej svar från kommunen
B32: Dalarna | C32: Övre Dalarna | D32: Vansbro | E32: 6776 | F32: 365.30956 | G32: Ej svar från kommunen
B33: Östergötland | C33: Östergötland | D33: Ydre | E33: 3695 | F33: 175.90069 | G33: Ej svar från kommunen
B34: Östergötland | C34: Östergötland | D34: Åtvidaberg | E34: 11462 | F34: 668.95564 | G34: Ej svar från kommunen
B35: Dalarna | C35: Övre Dalarna | D35: Älvdalen | E35: 7042 | F35: 533.70504 | G35: Ej svar från kommunen
B36: Norrbotten | C36: Norrbotten | D36: Älvsbyn | E36: 8009 | F36: 457.87284 | G36: Ej svar från kommunen
B37: Norrbotten | C37: Norrbotten | D37: Överkalix | E37: 3252 | F37: 248.33781 | G37: Ej svar från kommunen
B38: Norrbotten | C38: Norrbotten | D38: Övertorneå | E38: 4211 | F38: 242.79456 | G38: Ej svar från kommunen
D39: =SUBTOTAL(103,Tabell34[Kommun]) -> 33 | E39: =SUBTOTAL(109,Tabell34[Invånare 1 jan 2022]) -> 601620 | F39: =SUBTOTAL(109,Tabell34[Anmälda brott 1 jan 2022*]) -> 50908.318
B41: * Alla anmälda brott under Brottsbalken samt ett fåtal specialrättsliga lagar (se utförligare under INFO).

Sheet IOP
B2: Kommuner som tecknat IOP (Idéburet Offentligt Partnerskap) med lokala brottsofferjouren
B5: Län | C5: Brottsofferjour | D5: Kommun | E5: Bidrag per inv och år | F5: Hur är bidragsnivån uttryckt i avtalet? | G5: Löptid | H5: Vad händer när avtalstiden går ut?
B6: Kronoberg | C6: Växjö | D6: Alvesta | E6: 2.55 | F6: X kr per invånare och år | G6: 2 år | H6: Avtalet förlängs automatiskt om ingen påkallar omförhandling eller formellt säger upp avtalet.
B7: Västra götaland | C7: Fyrbodal | D7: Bengtsfors | E7: 2 | F7: X kr per invånare och år | G7: tills vidare | H7: Avtalet förlängs automatiskt om ingen påkallar omförhandling eller formellt säger upp avtalet.
B8: Västerbotten | C8: Umeåregionen | D8: Bjurholm | E8: 2.9812109 | F8: X kr per invånare och år | G8: 1 år | H8: Avtalet förlängs automatiskt om ingen påkallar omförhandling eller formellt säger upp avtalet.
B9: Skåne | C9: Helsingborg | D9: Bjuv | E9: 5.0498674 | F9: Fast summa, X kr per år | G9: tills vidare | H9: Avtalet förlängs automatiskt om ingen påkallar omförhandling eller formellt säger upp avtalet.
B10: Kalmar | C10: Södra Kalmar län | D10: Borgholm | E10: 2.996145 | F10: X kr per invånare och år | G10: 3 år | H10: Avtalet förlängs automatiskt om ingen påkallar omförhandling eller formellt säger upp avtalet.
B11: Stockholm | C11: Huddinge-Botkyrka | D11: Botkyrka | E11: 3.3571833 | F11: Fast summa, X kr per år | G11: tills vidare | H11: Avtalet förlängs automatiskt om ingen påkallar omförhandling eller formellt säger upp avtalet.
B12: Östergötland | C12: Västra Östergötland | D12: Boxholm | E12: 4.9709724 | F12: X kr per invånare och år | G12: 3 år | H12: Avtalet löper ut och nytt avtal måste förhandlas och tecknas.
B13: Kalmar | C13: Södra Kalmar län | D13: Emmaboda | E13: 3.0157573 | F13: X kr per invånare och år | G13: 3 år | H13: Avtalet förlängs automatiskt om ingen påkallar omförhandling eller formellt säger upp avtalet.
B14: Värmland | C14: Värmland | D14: Hammarö | E14: 5.9648076 | F14: X kr per invånare och år | G14: 3 år | H14: Avtalet förlängs automatiskt om ingen påkallar omförhandling eller formellt säger upp avtalet.
B15: Stockholm | C15: Huddinge-Botkyrka | D15: Huddinge | E15: 3.0714956 | F15: Fast summa, X kr per år | G15: tills vidare | H15: Avtalet förlängs automatiskt om ingen påkallar omförhandling eller formellt säger upp avtalet.
B16: Gävleborg | C16: Hudiksvall-Nordanstig | D16: Hudiksvall | E16: 1.0553201 | F16: Bidrag räknas upp med index | G16: 3 år | H16: Avtalet löper ut och nytt avtal måste förhandlas och tecknas.
B17: Uppsala | C17: Uppsala län | D17: Håbo | E17: 4 | F17: X kr per invånare och år | G17: tills vidare | H17: Avtalet förlängs automatiskt om ingen påkallar omförhandling eller formellt säger upp avtalet.
... B63: Uppsala | C63: Uppsala län | D63: Östhammar | E63: 4 | F63: X kr per invånare och år | G63: tills vidare | H63: Avtalet förlängs automatiskt om ingen påkallar omförhandling eller formellt säger upp avtalet.
D64: =SUBTOTAL(103,Tabell9[Kommun]) -> 58
B66: * ca 75% av bidraget är IOP-avtal på 3 år, ca 25% är ett 1-årigt avtal kring stödverksamhet inom VINR

Sheet s-avtal
B2: Kommuner som tecknat samverkansavtal med lokala brottsofferjouren
B5: Län | C5: Brottsofferjour | D5: Kommun | E5: Bidrag per inv och år | F5: Hur är bidragsnivån uttryckt i avtalet? | G5: Löptid | H5: Vad händer när avtalstiden går ut?
B6: Gävleborg | C6: Bollnäs-Ovanåker | D6: Bollnäs | E6: 3.0052704 | F6: X kr per invånare och år | G6: tills vidare | H6: Avtalet förlängs automatiskt om ingen påkallar omförhandling eller formellt säger upp avtalet.
B7: Skåne | C7: Nordöstra Skåne | D7: Bromölla | E7: 5 | F7: X kr per invånare och år | G7: tills vidare | H7: Avtalet förlängs automatiskt om ingen påkallar omförhandling eller formellt säger upp avtalet.
B8: Skåne | C8: Mellersta Skåne | D8: Burlöv | E8: 4 | F8: X kr per invånare och år | G8: tills vidare | H8: Avtalet förlängs automatiskt om ingen påkallar omförhandling eller formellt säger upp avtalet.
B9: Skåne | C9: Ängelholm | D9: Båstad | E9: 3.9429522 | F9: X kr per invånare och år | G9: tills vidare | H9: Avtalet förlängs automatiskt om ingen påkallar omförhandling eller formellt säger upp avtalet.
B10: Stockholm | C10: Västerort | D10: Ekerö | E10: 3.0588397 | F10: Fast summa, X kr per år | G10: 3 år | H10: Avtalet löper ut och nytt avtal måste förhandlas och tecknas.
B11: Södermanland | C11: Eskilstuna | D11: Eskilstuna | E11: 2.1283913 | F11: Fast summa, X kr per år | G11: tills vidare | H11: Avtalet förlängs automatiskt om ingen påkallar omförhandling eller formellt säger upp avtalet.
B12: Skåne | C12: Mellersta Skåne | D12: Eslöv | E12: 3 | F12: X kr per invånare och år | G12: tills vidare | H12: Avtalet förlängs automatiskt om ingen påkallar omförhandling eller formellt säger upp avtalet.
B13: Västra götaland | C13: Östra Skaraborg | D13: Essunga | E13: 2.9942085 | F13: X kr per invånare och år | G13: tills vidare | H13: Avtalet förlängs automatiskt om ingen påkallar omförhandling eller formellt säger upp avtalet.
B14: Västra götaland | C14: Östra Skaraborg | D14: Falköping | E14: 2.9971145 | F14: X kr per invånare och år | G14: tills vidare | H14: Avtalet förlängs automatiskt om ingen påkallar omförhandling eller formellt säger upp avtalet.
B15: Västra götaland | C15: Östra Skaraborg | D15: Grästorp | E15: 2.9764398 | F15: X kr per invånare och år | G15: tills vidare | H15: Avtalet förlängs automatiskt om ingen påkallar omförhandling eller formellt säger upp avtalet.
B16: Gävleborg | C16: Gävle | D16: Gävle | E16: 2.8273348 | F16: Fast summa, X kr per år | G16: tills vidare | H16: Avtalet löper ut och nytt avtal måste förhandlas och tecknas.
B17: Stockholm | C17: Haninge-Nynäshamn | D17: Haninge | E17: 4.5997198 | F17: Fast summa, X kr per år | G17: 3 år | H17: Avtalet förlängs automatiskt om ingen påkallar omförhandling eller formellt säger upp avtalet.
... B63: Skåne | C63: Nordöstra Skåne | D63: Östra Göinge | E63: 3 | F63: X kr per invånare och år | G63: tills vidare | H63: Avtalet förlängs automatiskt om ingen påkallar omförhandling eller formellt säger upp avtalet.
D64: =SUBTOTAL(103,Tabell910[Kommun]) -> 58

Sheet sammanräkn
B3: Sammanräkning Sverige
B5: Län | C5: Bidrag (kr) | D5: Brott där BOJ finns | E5: Inv där BOJ finns | F5: I detta län finns X kommuner som inte ingår i BOJ
B6: Blekinge | C6: =Blekinge!$C$11 -> 0 | D6: =Blekinge!$H$11 -> 14542.483 | E6: =Blekinge!$I$11 -> 158937
B7: Dalarna | C7: =Dalarna!$C$21 -> 0 | D7: =Dalarna!$H$21 -> 24568.086 | E7: =Dalarna!$I$21 -> 288387
B8: Gotland | C8: =Gotland!$C$7 -> 0 | D8: =Gotland!$H$7 -> 4786.6495 | E8: =Gotland!$I$7 -> 61001
B9: Gävleborg | C9: =Gävleborg!$C$16 -> 0 | D9: =Gävleborg!$H$16 -> 27529.046 | E9: =Gävleborg!$I$16 -> 287767
B10: Halland | C10: =Halland!$C$12 -> 0 | D10: =Halland!$H$12 -> 29042.94 | E10: =Halland!$I$12 -> 340243
B11: Jämtland | C11: =Jämtland!$C$14 -> 0 | D11: =Jämtland!$H$14 -> 10972.318 | E11: =Jämtland!$I$14 -> 132054
B12: Jönköping | C12: =Jönköping!$C$19 -> 0 | D12: =Jönköping!$H$19 -> 31025.15 | E12: =Jönköping!$I$19 -> 367064
B13: Kalmar | C13: =Kalmar!$C$18 -> 0 | D13: =Kalmar!$H$18 -> 23651.261 | E13: =Kalmar!$I$18 -> 247175
B14: Kronoberg | C14: =Kronoberg!$C$14 -> 0 | D14: =Kronoberg!$H$14 -> 18605.391 | E14: =Kronoberg!$I$14 -> 203340
B15: Norrbotten | C15: =Norrbotten!$C$20 -> 0 | D15: =Norrbotten!$H$20 -> 19304.939 | E15: =Norrbotten!$I$20 -> 249693 | F15: 8
B16: Skåne | C16: =Skåne!$C$39 -> 0 | D16: =Skåne!$H$39 -> 164575.86 | E16: =Skåne!$I$39 -> 1402425 | F16: 2
B17: Stockholm | C17: =Stockholm!$C$32 -> 0 | D17: =Stockholm!$H$32 -> 394389.56 | E17: =Stockholm!$I$32 -> 2415139 | F17: 1
B18: Södermanland | C18: =Södermanland!$C$15 -> 0 | D18: =Södermanland!$H$15 -> 34672.424 | E18: =Södermanland!$I$15 -> 301801
B19: Uppsala | C19: =Uppsala!$C$14 -> 0 | D19: =Uppsala!$H$14 -> 35561.776 | E19: =Uppsala!$I$14 -> 395026
B20: Värmland | C20: =Värmland!$C$22 -> 0 | D20: =Värmland!$H$22 -> 24974.137 | E20: =Värmland!$I$22 -> 283196
B21: Västerbotten | C21: =Västerbotten!$C$21 -> 0 | D21: =Västerbotten!$H$21 -> 17971.232 | E21: =Västerbotten!$I$21 -> 274563
B22: Västernorrland | C22: =Västernorrland!$C$13 -> 0 | D22: =Västernorrland!$H$13 -> 21300.511 | E22: =Västernorrland!$I$13 -> 244193
B23: Västmanland | C23: =Västmanland!$C$16 -> 0 | D23: =Västmanland!$H$16 -> 33455.178 | E23: =Västmanland!$I$16 -> 278967
B24: Västra Götaland | C24: ='Västra Götaland'!$C$55 -> 0 | D24: ='Västra Götaland'!$H$55 -> 180401.06 | E24: ='Västra Götaland'!$I$55 -> 1744859 | F24: 1
B25: Örebro | C25: =Örebro!$C$18 -> 0 | D25: =Örebro!$H$18 -> 39215.777 | E25: =Örebro!$I$18 -> 306792
B26: Östergötland | C26: =Östergötland!$C$19 -> 0 | D26: =Östergötland!$H$19 -> 47065.427 | E26: =Östergötland!$I$19 -> 469704
B27: TOTALT SVERIGE | C27: =SUM(C6:C26) -> 0 | D27: =SUM(D6:D26) -> 1197611.2 | E27: =SUM(E6:E26) -> 10452326 | F27: =SUM(F6:F26) -> 12
B28: (278 av 290 kommuner)

Sheet Blekinge
B2: Blekinge läns kommuner
B4: Kommun | C4: Kommunbidrag i kronor | E4: Kommunbidrag per invånare (kr) | G4: Övrigt (kommunen betalar/subventionerar lokal, tjänst eller övrigt) | H4: Anmälda brott där det kan finnas enskilda brottsutsatta* 220101 | I4: Invånare 220101 | J4: Brottsofferjour
C5: 2021 | D5: 2022 | E5: 2021 | F5: 2022
B6: Karlshamn | C6: 50000 | D6: 50000 | E6: 1.5431146 | F6: 1.5515422 | H6: 3261.8278 | I6: 32226 | J6: Blekinge
B7: Karlskrona | C7: 100000 | D7: 100000 | E7: 1.5034203 | F7: 1.4990706 | H7: 5496.5611 | I7: 66708 | J7: Blekinge
B8: Olofström | C8: 0 | D8: 14000 | E8: 0 | F8: 1.0555681 | H8: 1337.3628 | I8: 13263 | J8: Blekinge
B9: Ronneby | C9: 25000 | D9: 25000 | E9: 0.84365403 | F9: 0.85616438 | H9: 2804.4498 | I9: 29200 | J9: Blekinge
B10: Sölvesborg (1) | C10: 36000 | D10: 0 | E10: 2.0623281 | F10: 0 | H10: 1642.2815 | I10: 17540 | J10: Blekinge
B11: HELA LÄNET | D11: =SUM(D6:D10) -> 189000 | F11: =SUM(D11/I11) -> 1.1891504 | H11: =SUM(H6:H10) -> 14542.483 | I11: =SUM(I6:I10) -> 158937
B13: * Alla anmälda brott under Brottsbalken samt ett fåtal specialrättsliga lagar (se utförligare under INFO).
B15: 1) Kommunen har inte besvarat jourens ansökan om bidrag.

Sheet Dalarna
B2: Dalarna läns kommuner
B4: Kommun | C4: Kommunbidrag i kronor | E4: Kommunbidrag per invånare (kr) | G4: Övrigt (kommunen betalar/subventionerar lokal, tjänst eller övrigt) | H4: Anmälda brott där det kan finnas enskilda brottsutsatta* 220101 | I4: Invånare 220101 | J4: Brottsofferjour
C5: 2021 | D5: 2022 | E5: 2021 | F5: 2022
B6: Avesta | C6: 46134 | D6: 46134 | E6: 2 | F6: 2.0123882 | H6: 2383.3393 | I6: 22925 | J6: Avesta-Hedemora
B7: Borlänge | C7: 0 | D7: 104788 | E7: 0 | F7: 2.0053584 | H7: 6453.3495 | I7: 52254 | J7: Mellersta Dalarna
B8: Falun (1) | C8: 100000 | D8: 0 | E8: 1.6798817 | F8: 0 | H8: 5081.7411 | I8: 59837 | J8: Mellersta Dalarna
B9: Gagnef | C9: 15000 | D9: 15500 | E9: 1.4453652 | F9: 1.4759094 | H9: 507.90251 | I9: 10502 | J9: Mellersta Dalarna
B10: Hedemora (2) | C10: 0 | D10: 0 | E10: 0 | F10: 0 | H10: 1116.2991 | I10: 15458 | J10: Avesta-Hedemora
B11: Leksand | C11: 39518 | D11: 40035 | E11: 2.500981 | F11: 2.5003123 | H11: 763.21179 | I11: 16012 | J11: Övre Dalarna
B12: Ludvika | C12: 50000 | D12: 50000 | E12: 1.8794166 | F12: 1.8870061 | H12: 2398.2776 | I12: 26497 | J12: Mellersta Dalarna
B13: Malung-Sälen | C13: 10106 | D13: 10106 | E13: 0.99302348 | F13: 0.98903895 | H13: 767.28587 | I13: 10218 | J13: Övre Dalarna
B14: Mora (2) | C14: 20470 | D14: 0 | E14: 0.99892641 | F14: 0 | H14: 1723.3376 | I14: 20670 | J14: Övre Dalarna
B15: Orsa (2) | C15: 13800 | D15: 0 | E15: 2.006689 | F15: 0 | H15: 388.39603 | I15: 6918 | J15: Norra Dalarna
B16: Rättvik | C16: 27700 | D16: 27700 | E16: 2.5074681 | F16: 2.4948212 | H16: 726.54503 | I16: 11103 | J16: Övre Dalarna
B17: Smedjebacken | C17: 21788 | D17: 11000 | E17: 2.0073706 | F17: 1.0061282 | H17: 726.54503 | I17: 10933 | J17: Mellersta Dalarna
... B20: Älvdalen (2) | C20: 17802 | D20: 0 | E20: 2.53121 | F20: 0 | H20: 533.70504 | I20: 7042 | J20: Övre Dalarna
B21: HELA LÄNET | D21: =SUM(D6:D20) -> 305263 | F21: =SUM(D21/I21) -> 1.0585186 | H21: =SUM(H6:H20) -> 24568.086 | I21: =SUM(I6:I20) -> 288387
B23: * Alla anmälda brott under Brottsbalken samt ett fåtal specialrättsliga lagar (se utförligare under INFO).
B25: 1. Kommunen har avslagit jourens ansökan om bidrag.
B26: 2. Kommunen har inte besvarat jourens ansökan om bidrag.

Sheet Gotland
B2: Gotlands läns kommuner
B4: Kommun | C4: Kommunbidrag i kronor | E4: Kommunbidrag per invånare (kr) | G4: Övrigt (kommunen betalar/subventionerar lokal, tjänst eller övrigt) | H4: Anmälda brott där det kan finnas enskilda brottsutsatta* 220101 | I4: Invånare 220101 | J4: Brottsofferjour
C5: 2021 | D5: 2022 | E5: 2021 | F5: 2022
B6: Gotland | C6: 70000 | D6: 70000 | E6: 1.1642605 | F6: 1.1475222 | H6: 4786.6495 | I6: 61001 | J6: Stockholm-Gotland
B7: HELA LÄNET | D7: =SUM(D6) -> 70000 | F7: =SUM(D7/I7) -> 1.1475222 | H7: =SUM(H6) -> 4786.6495 | I7: =SUM(I6) -> 61001
B9: * Alla anmälda brott under Brottsbalken samt ett fåtal specialrättsliga lagar (se utförligare under INFO).

Sheet Gävleborg
B2: Gävleborgs läns kommuner
B4: Kommun | C4: Kommunbidrag i kronor | E4: Kommunbidrag per invånare (kr) | G4: Övrigt (kommunen betalar/subventionerar lokal, tjänst eller övrigt) | H4: Anmälda brott där det kan finnas enskilda brottsutsatta* 220101 | I4: Invånare 220101 | J4: Brottsofferjour
C5: 2021 | D5: 2022 | E5: 2021 | F5: 2022
B6: Bollnäs | C6: 80650 | D6: 80400 | E6: 3.0083181 | F6: 3.0052704 | H6: 2530.1607 | I6: 26753 | J6: Bollnäs-Ovanåker
B7: Gävle | C7: 282900 | D7: 291600 | E7: 2.7491643 | F7: 2.8273348 | H7: 12042.867 | I7: 103136 | J7: Gävle
B8: Hofors (1) | C8: 0 | D8: 0 | E8: 0 | F8: 0 | H8: 631.60585 | I8: 9578 | J8: Gästrike Västra
B9: Hudiksvall | C9: 39231 | D9: 39832 | E9: 1.0452959 | F9: 1.0553201 | H9: 2952.4771 | I9: 37744 | J9: Hudiksvall-Nordanstig
B10: Ljusdal (2) | C10: 0 | D10: 0 | E10: 0 | F10: 0 | H10: 1346.6784 | I10: 18804 | J10: Ljusdal
B11: Nordanstig | C11: 10000 | D11: 10000 | E11: 1.0545186 | F11: 1.0548523 | H11: 732.5133 | I11: 9480 | J11: Hudiksvall-Nordanstig
B12: Ockelbo (1) | C12: 0 | D12: 0 | E12: 0 | F12: 0 | H12: 560.59691 | I12: 5865 | J12: Gästrike Västra
B13: Ovanåker | C13: 29000 | D13: 29250 | E13: 2.4845785 | F13: 2.4976518 | H13: 654.02973 | I13: 11711 | J13: Bollnäs-Ovanåker
B14: Sandviken | C14: 80000 | D14: 80000 | E14: 2.0361415 | F14: 2.0382166 | H14: 3457.0143 | I14: 39250 | J14: Gästrike Västra
B15: Söderhamn | C15: 20000 | D15: 20000 | E15: 0.78455986 | F15: 0.78597815 | H15: 2621.102 | I15: 25446 | J15: Söderhamn
B16: HELA LÄNET | D16: =SUM(D6:D15) -> 551082 | F16: =SUM(D16/I16) -> 1.9150285 | H16: =SUM(H6:H15) -> 27529.046 | I16: =SUM(I6:I15) -> 287767
B18: * Alla anmälda brott under Brottsbalken samt ett fåtal specialrättsliga lagar (se utförligare under INFO).
B19: 1. Kommunen har inte besvarat jourens ansökan om bidrag.
B20: 2. Jouren har inte ansökt om bidrag. Kommunen sagt upp avtalet 2021.

Sheet Halland
B2: Hallands läns kommuner
B4: Kommun | C4: Kommunbidrag i kronor | E4: Kommunbidrag per invånare (kr) | G4: Övrigt (kommunen betalar/subventionerar lokal, tjänst eller övrigt) | H4: Anmälda brott där det kan finnas enskilda brottsutsatta* 220101 | I4: Invånare 220101 | J4: Brottsofferjour
C5: 2021 | D5: 2022 | E5: 2021 | F5: 2022
B6: Falkenberg | C6: 0 | D6: 100000 | E6: 0 | F6: 2.1379856 | G6: Kommunen subv lokal | H6: 4178.6875 | I6: 46773 | J6: Falkenberg
B7: Halmstad | C7: 115000 | D7: 139746 | E7: 1.108391 | F7: 1.3363488 | H7: 11798.45 | I7: 104573 | J7: Södra Halland
B8: Hylte | C8: 30000 | D8: 30000 | E8: 2.8171659 | F8: 2.8251248 | H8: 1115.3598 | I8: 10619 | J8: Södra Halland
B9: Kungsbacka | C9: 100000 | D9: 100000 | E9: 1.1774402 | F9: 1.1723192 | G9: Kommunen subv telefonkostnader | H9: 5126.4081 | I9: 85301 | J9: Kungsbacka
B10: Laholm | C10: 15000 | D10: 15000 | E10: 0.57765626 | F10: 0.56993047 | H10: 2106.6665 | I10: 26319 | J10: Södra Halland
B11: Varberg | C11: 140000 | D11: 145000 | E11: 2.140771 | F11: 2.1752828 | H11: 4717.3683 | I11: 66658 | J11: Varberg
B12: HELA LÄNET | D12: =SUM(D6:D11) -> 529746 | F12: =SUM(D12/I12) -> 1.5569637 | H12: =SUM(H6:H11) -> 29042.94 | I12: =SUM(I6:I11) -> 340243
B14: * Alla anmälda brott under Brottsbalken samt ett fåtal specialrättsliga lagar (se utförligare under INFO).

Sheet Jämtland
B2: Jämtlands läns kommuner
B4: Kommun | C4: Kommunbidrag i kronor | E4: Kommunbidrag per invånare (kr) | G4: Övrigt (kommunen betalar/subventionerar lokal, tjänst eller övrigt) | H4: Anmälda brott där det kan finnas enskilda brottsutsatta* 220101 | I4: Invånare 220101 | J4: Brottsofferjour
C5: 2021 | D5: 2022 | E5: 2021 | F5: 2022
B6: Berg | C6: 30000 | D6: 30000 | E6: 4.2134831 | F6: 4.2046251 | H6: 400.22299 | I6: 7135 | J6: Jämtland
B7: Bräcke | C7: 30000 | D7: 30000 | E7: 4.8535836 | F7: 4.8582996 | H7: 353.65965 | I7: 6175 | J7: Jämtland
B8: Härjedalen | C8: 48000 | D8: 48000 | E8: 4.7666336 | F8: 4.7458968 | H8: 692.90684 | I8: 10114 | J8: Jämtland
B9: Krokom | C9: 66000 | D9: 66000 | E9: 4.3842168 | F9: 4.2991141 | H9: 895.78997 | I9: 15352 | J9: Jämtland
B10: Ragunda | C10: 24000 | D10: 24000 | E10: 4.6082949 | F10: 4.6065259 | H10: 284.92329 | I10: 5210 | J10: Jämtland
B11: Strömsund | C11: 54000 | D11: 54000 | E11: 4.7005571 | F11: 4.7067027 | H11: 720.62312 | I11: 11473 | J11: Jämtland
B12: Åre | C12: 54000 | D12: 54000 | E12: 4.4816997 | F12: 4.4006193 | H12: 778.27297 | I12: 12271 | J12: Jämtland
B13: Östersund | C13: 294000 | D13: 294000 | E13: 4.5948269 | F13: 4.5706113 | H13: 6845.9196 | I13: 64324 | J13: Jämtland
B14: HELA LÄNET | D14: =SUM(D6:D13) -> 600000 | F14: =SUM(D14/I14) -> 4.5435958 | H14: =SUM(H6:H13) -> 10972.318 | I14: =SUM(I6:I13) -> 132054
B16: * Alla anmälda brott under Brottsbalken samt ett fåtal specialrättsliga lagar (se utförligare under INFO).

Sheet Jönköping
B2: Jönköpings läns kommuner
B4: Kommun | C4: Kommunbidrag i kronor | E4: Kommunbidrag per invånare (kr) | G4: Övrigt (kommunen betalar/subventionerar lokal, tjänst eller övrigt) | H4: Anmälda brott där det kan finnas enskilda brottsutsatta* 220101 | I4: Invånare 220101 | J4: Brottsofferjour
C5: 2021 | D5: 2022 | E5: 2021 | F5: 2022
B6: Aneby | C6: 6821 | D6: 6882.076 | E6: 1 | F6: 0.99856007 | H6: 417.09784 | I6: 6892 | J6: Jönköpings län
B7: Eksjö | C7: 17788 | D7: 17808.32 | E7: 1 | F7: 0.99856007 | H7: 1908.2559 | I7: 17834 | J7: Jönköpings län
B8: Gislaved | C8: 59270 | D8: 59112 | E8: 2 | F8: 2 | H8: 2234.7383 | I8: 29556 | J8: Småland West
B9: Gnosjö | C9: 19200 | D9: 19122 | E9: 1.9970876 | F9: 1.9981191 | H9: 663.62531 | I9: 9570 | J9: Småland West
B10: Habo | C10: 20000 | D10: 20000 | E10: 1.5886885 | F10: 1.5612802 | H10: 531.6998 | I10: 12810 | J10: Jönköpings län
B11: Jönköping | C11: 284632 | D11: 287158 | E11: 1.9984413 | F11: 2 | G11: Kommunen subv. telefonkostnader | H11: 12792.777 | I11: 143579 | J11: Jönköpings län
B12: Mullsjö | C12: 15000 | D12: 15000 | E12: 2.0311442 | F12: 2.0188425 | H12: 646.30176 | I12: 7430 | J12: Jönköpings län
B13: Nässjö | C13: 31563 | D13: 31736.236 | E13: 1 | F13: 0.99856007 | H13: 3400.7466 | I13: 31782 | J13: Jönköpings län
B14: Sävsjö | C14: 11721 | D14: 11692.14 | E14: 1 | F14: 0.99856007 | H14: 827.53277 | I14: 11709 | J14: Jönköpings län
B15: Tranås | C15: 19000 | D15: 18700 | E15: 1.0051315 | F15: 0.99078097 | H15: 1759.0069 | I15: 18874 | J15: Jönköpings län
B16: Vaggeryd | C16: 28000 | D16: 29192 | E16: 1.9267823 | F16: 1.9796555 | H16: 1047.4086 | I16: 14746 | J16: Småland West
B17: Vetlanda | C17: 27502 | D17: 27581.228 | E17: 1 | F17: 0.99856007 | H17: 1739.0181 | I17: 27621 | J17: Jönköpings län
B18: Värnamo | C18: 65000 | D18: 65000 | E18: 1.8824211 | F18: 1.8753065 | H18: 3056.9407 | I18: 34661 | J18: Småland West
B19: HELA LÄNET | D19: =SUM(D6:D18) -> 608984 | F19: =SUM(D19/I19) -> 1.6590676 | H19: =SUM(H6:H18) -> 31025.15 | I19: =SUM(I6:I18) -> 367064
B21: * Alla anmälda brott under Brottsbalken samt ett fåtal specialrättsliga lagar (se utförligare under INFO).

Sheet Kalmar
B2: Kalmar läns kommuner
B4: Kommun | C4: Kommunbidrag i kronor | E4: Kommunbidrag per invånare (kr) | G4: Övrigt (kommunen betalar/subventionerar lokal, tjänst eller övrigt) | H4: Anmälda brott där det kan finnas enskilda brottsutsatta* 220101 | I4: Invånare 220101 | J4: Brottsofferjour
C5: 2021 | D5: 2022 | E5: 2021 | F5: 2022
B6: Borgholm | C6: 32658 | D6: 32643 | E6: 3.0138427 | F6: 2.996145 | H6: 886.67153 | I6: 10895 | J6: Södra Kalmar län
B7: Emmaboda | C7: 28302 | D7: 28134 | E7: 3.0237179 | F7: 3.0157573 | H7: 1015.0584 | I7: 9329 | J7: Södra Kalmar län
B8: Hultsfred | C8: 44606 | D8: 42168 | E8: 3.1619763 | F8: 3 | H8: 1495.1716 | I8: 14056 | J8: Vimmerby-Hultsfred-Västervik
B9: Högsby (1) | C9: 0 | D9: 0 | E9: 0 | F9: 0 | H9: 730.20008 | I9: 5645 | J9: Oskarshamn-Mönsterås-Högsby
B10: Kalmar | C10: 208971 | D10: 213765 | E10: 2.9713347 | F10: 2.9969297 | H10: 8195.3592 | I10: 71328 | J10: Södra Kalmar län
B11: Mönsterås (2) | C11: 0 | D11: 0 | E11: 0 | F11: 0 | H11: 1321.3144 | I11: 13258 | J11: Oskarshamn-Mönsterås-Högsby
B12: Mörbylånga | C12: 45996 | D12: 47907 | E12: 2.9699748 | F12: 3.0471314 | H12: 883.9968 | I12: 15722 | J12: Södra Kalmar län
B13: Nybro | C13: 60984 | D13: 60792 | E13: 3.0081389 | F13: 2.997042 | H13: 2113.0332 | I13: 20284 | J13: Södra Kalmar län
B14: Oskarshamn | C14: 0 | D14: 120000 | E14: 0 | F14: 4.4085231 | H14: 2507.5552 | I14: 27220 | J14: Oskarshamn-Mönsterås-Högsby
B15: Torsås | C15: 21327 | D15: 20270 | E15: 2.9832144 | F15: 2.8497118 | H15: 492.14951 | I15: 7113 | J15: Södra Kalmar län
B16: Vimmerby | C16: 62688 | D16: 62312 | E16: 4 | F16: 4 | H16: 1045.8177 | I16: 15578 | J16: Vimmerby-Hultsfred-Västervik
B17: Västervik | C17: 146408 | D17: 146988 | E17: 3.9942163 | F17: 4 | H17: 2964.9333 | I17: 36747 | J17: Vimmerby-Hultsfred-Västervik
B18: HELA LÄNET | D18: =SUM(D6:D17) -> 774979 | F18: =SUM(D18/I18) -> 3.1353454 | H18: =SUM(H6:H17) -> 23651.261 | I18: =SUM(I6:I17) -> 247175
B20: * Alla anmälda brott under Brottsbalken samt ett fåtal specialrättsliga lagar (se utförligare under INFO).
B22: 1. Jouren har inte ansökt om kommunbidrag.
B23: 2. Kommunen har inte besvarat jourens ansökan om bidrag.

Sheet Kronoberg
B2: Kronobergs läns kommuner
B4: Kommun | C4: Kommunbidrag i kronor | E4: Kommunbidrag per invånare (kr) | G4: Övrigt (kommunen betalar/subventionerar lokal, tjänst eller övrigt) | H4: Anmälda brott där det kan finnas enskilda brottsutsatta* 220101 | I4: Invånare 220101 | J4: Brottsofferjour
C5: 2021 | D5: 2022 | E5: 2021 | F5: 2022
B6: Alvesta | C6: 49186 | D6: 51731.85 | E6: 2.4320609 | F6: 2.55 | H6: 1599.4859 | I6: 20287 | J6: Växjö
B7: Lessebo | C7: 21075 | D7: 21863.7 | E7: 2.4350087 | F7: 2.55 | H7: 1005.6968 | I7: 8574 | J7: Växjö
B8: Ljungby | C8: 55000 | D8: 55000 | E8: 1.9365515 | F8: 1.934372 | H8: 2318.9871 | I8: 28433 | J8: Sunnerbo
B9: Markaryd | C9: 15000 | D9: 15000 | E9: 1.4460619 | F9: 1.4534884 | H9: 1278.5188 | I9: 10320 | J9: Sunnerbo
B10: Tingsryd | C10: 28492 | D10: 31413.45 | E10: 2.3035007 | F10: 2.55 | H10: 1084.6012 | I10: 12319 | J10: Växjö
B11: Uppvidinge | C11: 23058 | D11: 24094.95 | E11: 2.427669 | F11: 2.55 | H11: 758.2847 | I11: 9449 | J11: Växjö
B12: Växjö | C12: 230507 | D12: 244787.25 | E12: 2.4299961 | F12: 2.55 | H12: 9128.8384 | I12: 95995 | J12: Växjö
B13: Älmhult | C13: 30000 | D13: 30000 | E13: 1.6774771 | F13: 1.6700996 | H13: 1430.9782 | I13: 17963 | J13: Älmhult
B14: HELA LÄNET | D14: =SUM(D6:D13) -> 473891.2 | F14: =SUM(D14/I14) -> 2.330536 | H14: =SUM(H6:H13) -> 18605.391 | I14: =SUM(I6:I13) -> 203340
B16: * Alla anmälda brott under Brottsbalken samt ett fåtal specialrättsliga lagar (se utförligare under INFO).

Sheet Norrbotten
B2: Norrbottens läns kommuner
B4: Kommun | C4: Kommunbidrag i kronor | E4: Kommunbidrag per invånare (kr) | G4: Övrigt (kommunen betalar/subventionerar lokal, tjänst eller övrigt) | H4: Anmälda brott där det kan finnas enskilda brottsutsatta* 220101 | I4: Invånare 220101 | J4: Brottsofferjour
C5: 2021 | D5: 2022 | E5: 2021 | F5: 2022
B6: Arjeplog (1) | C6: 0 | D6: 0 | E6: 0 | F6: 0 | H6: 125.27756 | I6: 2707 | J6: Norrbotten
B7: Arvidsjaur (1) | C7: 0 | D7: 0 | E7: 0 | F7: 0 | H7: 313.74822 | I7: 6143 | J7: Norrbotten
B8: Boden (1) | C8: 0 | D8: 0 | E8: 0 | F8: 0 | H8: 2315.9718 | I8: 28160 | J8: Boden
B9: Gällivare (4) | C9: 0 | D9: 0 | E9: 0 | F9: 0 | H9: 1207.3209 | I9: 17449 | J9: Norrbotten
B10: Haparanda (2) | C10: 0 | D10: 0 | E10: 0 | F10: 0 | H10: 850.33528 | I10: 9496 | J10: Norrbotten
B11: Jokkmokk (2) | C11: 0 | D11: 0 | E11: 0 | F11: 0 | H11: 286.03194 | I11: 4780 | J11: Norrbotten
B12: Kalix (4) | C12: 0 | D12: 0 | E12: 0 | F12: 0 | H12: 1373.6185 | I12: 15768 | J12: Norrbotten
B13: Kiruna (2) | C13: 0 | D13: 0 | E13: 0 | F13: 0 | H13: 1447.8981 | I13: 22555 | J13: Norrbotten
B14: Luleå (3) | C14: 1050000 | D14: 1250000 | E14: 13.367452 | F14: 15.849468 | H14: 7737.275 | I14: 78867 | J14: Norrbotten
B15: Pajala (2) | C15: 0 | D15: 0 | E15: 0 | F15: 0 | H15: 294.90115 | I15: 5973 | J15: Norrbotten
B16: Piteå | C16: 68500 | D16: 92300 | E16: 1.6222233 | F16: 2.1808473 | H16: 2403.5553 | I16: 42323 | J16: Norrbotten
B17: Älvsbyn (2) | C17: 0 | D17: 0 | E17: 0 | F17: 0 | H17: 457.87284 | I17: 8009 | J17: Norrbotten
... B19: Övertorneå (2) | C19: 0 | D19: 0 | E19: 0 | F19: 0 | H19: 242.79456 | I19: 4211 | J19: Norrbotten
B20: HELA LÄNET | D20: =SUM(D6:D19) -> 1342300 | F20: =SUM(D20/I20) -> 5.3758015 | H20: =SUM(H6:H19) -> 19304.939 | I20: =SUM(I6:I19) -> 249693
B22: * Alla anmälda brott under Brottsbalken samt ett fåtal specialrättsliga lagar (se utförligare under INFO).
B24: 1. Jouren har inte ansökt om bidrag.
B25: 2. Kommunen har inte besvarat jourens ansökan om bidrag.
B26: 3. Jouren driver inom ramen för bidragen både Stödcentrum för unga och en brottsofferjour för vuxna stödsökande.
B27: 4. Kommunen har avslagit jourens ansökan.

Sheet Skåne
B2: Skåne läns kommuner
B4: Kommun | C4: Kommunbidrag i kronor | E4: Kommunbidrag per invånare (kr) | G4: Övrigt (kommunen betalar/subventionerar lokal, tjänst eller övrigt) | H4: Anmälda brott där det kan finnas enskilda brottsutsatta* 220101 | I4: Invånare 220101 | J4: Brottsofferjour
C5: 2021 | D5: 2022 | E5: 2021 | F5: 2022
B6: Bjuv | C6: 40000 | D6: 80000 | E6: 2.5482576 | F6: 5.0498674 | H6: 1838.8738 | I6: 15842 | J6: Helsingborg
B7: Bromölla | C7: 63795 | D7: 63250 | E7: 5 | F7: 5 | H7: 1384.1705 | I7: 12650 | J7: Nordöstra Skåne
B8: Burlöv | C8: 76844 | D8: 79012 | E8: 3.9790804 | F8: 4 | H8: 2574.4234 | I8: 19753 | J8: Mellersta Skåne
B9: Båstad | C9: 60512 | D9: 61652 | E9: 3.9260365 | F9: 3.9429522 | H9: 1263.8078 | I9: 15636 | J9: Ängelholm
B10: Eslöv | C10: 102264 | D10: 103779 | E10: 2.9969229 | F10: 3 | H10: 3601.518 | I10: 34593 | J10: Mellersta Skåne
B11: Helsingborg | C11: 1700000 | D11: 1700000 | E11: 11.387996 | F11: 11.325104 | H11: 23168.473 | I11: 150109 | J11: Helsingborg
B12: Hässleholm | C12: 300000 | D12: 300000 | E12: 5.7681215 | F12: 5.7351507 | H12: 5765.371 | I12: 52309 | J12: Hässleholm-Osby-Perstorp
B13: Höganäs | C13: 60000 | D13: 137945 | E13: 2.2084806 | F13: 5 | H13: 2002.0321 | I13: 27589 | J13: Helsingborg
B14: Hörby | C14: 47109 | D14: 47235 | E14: 3.0095828 | F14: 3 | H14: 1638.2694 | I14: 15745 | J14: Mellersta Skåne
B15: Höör | C15: 50313 | D15: 50862 | E15: 2.9894831 | F15: 3 | H15: 1701.1255 | I15: 16954 | J15: Mellersta Skåne
B16: Klippan | C16: 70000 | D16: 70000 | E16: 3.9463299 | F16: 3.9363437 | H16: 2064.8881 | I16: 17783 | J16: Ängelholm
B17: Kristianstad | C17: 431085 | D17: 433205 | E17: 5 | F17: 5 | G17: Kommunen subventionerar lokal | H17: 9713.2659 | I17: 86641 | J17: Nordöstra Skåne
B18: Kävlinge | C18: 96198 | D18: 97023 | E18: 3.0043098 | F18: 3 | H18: 2761.6542 | I18: 32341 | J18: Mellersta Skåne
B19: Landskrona | C19: 0 | D19: 200000 | E19: 0 | F19: 4.3021855 | H19: 5832.2391 | I19: 46488 | J19: Landskrona-Svalöv
B20: Lomma | C20: 74733 | D20: 73914 | E20: 3.0042209 | F20: 3 | H20: 1527.2683 | I20: 24638 | J20: Mellersta Skåne
B21: Lund | C21: 378126 | D21: 382128 | E21: 3.0024059 | F21: 3 | H21: 13171.686 | I21: 127376 | J21: Mellersta Skåne
B22: Malmö (1) | C22: 0 | D22: 0 | E22: 0 | F22: 0 | H22: 54394.557 | I22: 351749 | J22: INGEN BOJ (Malmö)
B23: Osby | C23: 66021 | D23: 66040 | E23: 5.0023488 | F23: 4.9770141 | H23: 1218.3375 | I23: 13269 | J23: Hässleholm-Osby-Perstorp
B24: Perstorp | C24: 22000 | D24: 22800 | E24: 2.9427501 | F24: 3.0138797 | H24: 957.55176 | I24: 7565 | J24: Hässleholm-Osby-Perstorp
B25: Simrishamn (2) | C25: 0 | D25: 0 | E25: 0 | F25: 0 | H25: 1552.6782 | I25: 19267 | J25: Freezonen
B26: Sjöbo (2) | C26: 0 | D26: 0 | E26: 0 | F26: 0 | H26: 1678.3903 | I26: 19497 | J26: Freezonen
B27: Skurup (2) | C27: 90000 | D27: 0 | E27: 5.610273 | F27: 0 | H27: 1658.3299 | I27: 16419 | J27: Freezonen
B28: Staffanstorp | C28: 77526 | D28: 78504 | E28: 2.9952478 | F28: 2.9915403 | H28: 1888.3563 | I28: 26242 | J28: Mellersta Skåne
B29: Svalöv | C29: 0 | D29: 57648 | E29: 0 | F29: 4 | H29: 1356.0859 | I29: 14412 | J29: Landskrona-Svalöv
... B38: Östra Göinge | C38: 45051 | D38: 44823 | E38: 3 | F38: 3 | H38: 1612.8595 | I38: 14941 | J38: Nordöstra Skåne
B39: HELA LÄNET | D39: =SUM(D6:D38) -> 4624847 | F39: =SUM(D39/I39) -> 3.29775 | H39: =SUM(H6:H38) -> 164575.86 | I39: =SUM(I6:I38) -> 1402425
B41: * Alla anmälda brott under Brottsbalken samt ett fåtal specialrättsliga lagar (se utförligare under INFO).
B43: 1. Kommunen samverkar inte med BOJ. Malmö kommun har brottsofferstödjande verksamhet i egen regi.
B44: 2. Kommunen har avslagit jourens bidragsansökan.

Sheet Stockholm
B2: Stockholms läns kommuner
B4: Kommun | C4: Kommunbidrag i kronor | E4: Kommunbidrag per invånare (kr) | G4: Övrigt (kommunen betalar/subventionerar lokal, tjänst eller övrigt) | H4: Anmälda brott där det kan finnas enskilda brottsutsatta* 220101 | I4: Invånare 220101 | J4: Brottsofferjour
C5: 2021 | D5: 2022 | E5: 2021 | F5: 2022
B6: Botkyrka | C6: 320000 | D6: 320000 | E6: 3.3738547 | F6: 3.3571833 | H6: 12464.581 | I6: 95318 | J6: Huddinge-Botkyrka
B7: Danderyd | C7: 40000 | D7: 45000 | E7: 1.2227929 | F7: 1.3718257 | H7: 4687.6845 | I7: 32803 | J7: Roslagen
B8: Ekerö | C8: 89000 | D8: 89000 | E8: 3.0818242 | F8: 3.0588397 | H8: 2179.7357 | I8: 29096 | J8: Västerort
B9: Haninge | C9: 374760 | D9: 440000 | E9: 4 | F9: 4.5997198 | G9: Kommunen erbjuder gratis möteslokaler samt står för kostnad för tolk | H9: 11325.857 | I9: 95658 | J9: Haninge-Nynäshamn
B10: Huddinge | C10: 350000 | D10: 350000 | E10: 3.0909444 | F10: 3.0714956 | H10: 14665.613 | I10: 113951 | J10: Huddinge-Botkyrka
B11: Järfälla | C11: 173400 | D11: 173500 | E11: 2.1335236 | F11: 2.0860887 | H11: 9655.9786 | I11: 83170 | J11: Stockholm-Gotland
B12: Lidingö | C12: 90000 | D12: 90000 | E12: 1.8748047 | F12: 1.8686932 | H12: 4574.9395 | I12: 48162 | J12: Stockholm-Gotland
B13: Nacka | C13: 532525 | D13: 541170 | E13: 5 | F13: 5 | H13: 10809.735 | I13: 108234 | J13: Nacka-Tyresö-Värmdö
B14: Norrtälje | C14: 62000 | D14: 70000 | E14: 0.97372513 | F14: 1.0808808 | H14: 6792.2569 | I14: 64762 | J14: Stockholm-Gotland
B15: Nykvarn | C15: 0 | D15: 20000 | E15: 0 | F15: 1.7391304 | H15: 810.51092 | I15: 11500 | J15: Södertälje
B16: Nynäshamn | C16: 115244 | D16: 117980 | E16: 4 | F16: 4 | H16: 4526.0834 | I16: 29495 | J16: Haninge-Nynäshamn
B17: Salem | C17: 0 | D17: 25000 | E17: 0 | F17: 1.4491073 | H17: 1634.8018 | I17: 17252 | J17: Södertälje
B18: Sigtuna | C18: 173488 | D18: 173488 | E18: 3.5021903 | F18: 3.450918 | H18: 6722.1044 | I18: 50273 | J18: Stockholm-Gotland
B19: Sollentuna | C19: 150000 | D19: 150000 | E19: 2.027301 | F19: 1.9971241 | H19: 8974.498 | I19: 75108 | J19: Stockholm-Gotland
B20: Solna | C20: 335000 | D20: 335000 | E20: 4.0282821 | F20: 3.9792367 | H20: 11897.098 | I20: 84187 | J20: Västerort
B21: Stockholm (1) | C21: 2260000 | D21: 2468250 | E21: 2.3166395 | F21: =SUM(D21/I21) -> 2.5217875 | H21: 225326 | I21: 978770 | J21: tre jourer (1)
B22: Sundbyberg (3) | C22: 213000 | D22: 213000 | E22: 4.0340145 | F22: 3.9765514 | H22: 7806.9614 | I22: 53564 | J22: Västerort
B23: Södertälje (2) | C23: 786000 | D23: 684000 | E23: 7.8512851 | F23: 6.7582922 | H23: 15317.028 | I23: 101209 | J23: Södertälje
B24: Tyresö | C24: 243390 | D24: 245310 | E24: 5 | F24: 5 | H24: 4779.1331 | I24: 49062 | J24: Nacka-Tyresö-Värmdö
B25: Täby | C25: 107253 | D25: 147240 | E25: 1.4741667 | F25: 1.9909404 | H25: 7138.008 | I25: 73955 | J25: Roslagen
B26: Upplands Väsby | C26: 165000 | D26: 231000 | E26: 3.4969481 | F26: 4.8306148 | H26: 6991.4396 | I26: 47820 | J26: Stockholm-Gotland
B27: Upplands-Bro | C27: 70000 | D27: 70000 | E27: 2.3182646 | F27: 2.2521073 | H27: 3999.9403 | I27: 31082 | J27: Stockholm-Gotland
B28: Vallentuna | C28: 35000 | D28: 50000 | E28: 1.0258214 | F28: 1.4600245 | H28: 2950.1595 | I28: 34246 | J28: Roslagen
B29: Vaxholm | C29: 6000 | D29: 7500 | E29: 0.50479556 | F29: 0.6252084 | H29: 559.96658 | I29: 11996 | J29: Roslagen
B30: Värmdö | C30: 227830 | D30: 231160 | E30: 5 | F30: 5 | H30: 3936.0515 | I30: 46232 | J30: Nacka-Tyresö-Värmdö
B31: Österåker | C31: 139932 | D31: 144702 | E31: 3 | F31: 3 | H31: 3863.3936 | I31: 48234 | J31: Roslagen
B32: HELA LÄNET | D32: =SUM(D6:D31) -> 7432300 | F32: =SUM(D32/I32) -> 3.0773798 | H32: =SUM(H6:H31) -> 394389.56 | I32: =SUM(I6:I31) -> 2415139
B34: * Alla anmälda brott under Brottsbalken samt ett fåtal specialrättsliga lagar (se utförligare under INFO).
B36: 1. Stockholms kommun har tre jourer som verkar i olika stadsdelar inom dess område: Stockholm-Gotland, Västerort och Södra Stockholm.
B37: 2. Jouren bedriver inom ramen för bidraget tredelad verksamhet:både brottsofferjour, ungdomsjour och kvinnojour.
B38: 3. 163 000 kr för alllmän stödverksamhet, 50 000 kr specifikt för VINR.

Sheet Södermanland
B2: Södermanlands läns kommuner
B4: Kommun | C4: Kommunbidrag i kronor | E4: Kommunbidrag per invånare (kr) | G4: Övrigt (kommunen betalar/subventionerar lokal, tjänst eller övrigt) | H4: Anmälda brott där det kan finnas enskilda brottsutsatta* 220101 | I4: Invånare 220101 | J4: Brottsofferjour
C5: 2021 | D5: 2022 | E5: 2021 | F5: 2022
B6: Eskilstuna | C6: 229000 | D6: 229000 | E6: 2.1406871 | F6: 2.1283913 | G6: Kommunen subventionerar lokal | H6: 14251.953 | I6: 107593 | J6: Eskilstuna
B7: Flen | C7: 75000 | D7: 75000 | E7: 4.5645426 | F7: 4.5967149 | H7: 1697.7081 | I7: 16316 | J7: Katrineholm-Flen-Vingåker
B8: Gnesta | C8: 11374 | D8: 11499 | E8: 0.99588477 | F8: 0.99878398 | H8: 1060.7344 | I8: 11513 | J8: Östra Sörmland
B9: Katrineholm | C9: 130000 | D9: 104400 | E9: 3.7393931 | F9: 3.0031067 | H9: 3812.5141 | I9: 34764 | J9: Katrineholm-Flen-Vingåker
B10: Nyköping | C10: 114142 | D10: 115266 | E10: 2 | F10: 2 | H10: 6900.1042 | I10: 57633 | J10: Östra Sörmland
B11: Oxelösund | C11: 19750 | D11: 20250 | E11: 1.6465194 | F11: 1.6691395 | H11: 1212.6487 | I11: 12132 | J11: Östra Sörmland
B12: Strängnäs | C12: 0 | D12: 100000 | E12: 0 | F12: 2.6226757 | H12: 3857.8219 | I12: 38129 | J12: Strängnäs
B13: Trosa (1) | C13: 14300 | D13: 0 | E13: 0.99937103 | F13: 0 | H13: 1119.368 | I13: 14658 | J13: Östra Sörmland
B14: Vingåker | C14: 52000 | D14: 52000 | E14: 5.6867892 | F14: 5.7376145 | H14: 759.57114 | I14: 9063 | J14: Katrineholm-Flen-Vingåker
B15: HELA LÄNET | D15: =SUM(D6:D14) -> 707415 | F15: =SUM(D15/I15) -> 2.3439783 | H15: =SUM(H6:H14) -> 34672.424 | I15: =SUM(I6:I14) -> 301801
B17: * Alla anmälda brott under Brottsbalken samt ett fåtal specialrättsliga lagar (se utförligare under INFO).
B18: 1. Kommunen har inte besvarat jourens ansökan om bidrag.

Sheet Uppsala
B2: Uppsala läns kommuner
B4: Kommun | C4: Kommunbidrag i kronor | E4: Kommunbidrag per invånare (kr) | G4: Övrigt (kommunen betalar/subventionerar lokal, tjänst eller övrigt) | H4: Anmälda brott där det kan finnas enskilda brottsutsatta* 220101 | I4: Invånare 220101 | J4: Brottsofferjour
C5: 2021 | D5: 2022 | E5: 2021 | F5: 2022
B6: Enköping | C6: 236000 | D6: 250000 | E6: 5.1038062 | F6: 5.264377 | H6: 4341.5116 | I6: 47489 | J6: Enköping
B7: Heby | C7: 31000 | D7: 39000 | E7: 2.1984256 | F7: 2.7267007 | H7: 933.08241 | I7: 14303 | J7: Uppsala län
B8: Håbo | C8: 88000 | D8: 89376 | E8: 3.9965484 | F8: 4 | H8: 1649.4007 | I8: 22344 | J8: Uppsala län
B9: Knivsta | C9: 76000 | D9: 79270 | E9: 3.977808 | F9: 3.9998991 | H9: 1053.9222 | I9: 19818 | J9: Uppsala län
B10: Tierp | C10: 85000 | D10: 86700 | E10: 3.9855582 | F10: 4.0353735 | H10: 1684.2823 | I10: 21485 | J10: Uppsala län
B11: Uppsala | C11: 450000 | D11: 456000 | E11: 1.924401 | F11: 1.9192242 | H11: 23617.325 | I11: 237596 | J11: Uppsala län
B12: Älvkarleby | C12: 18360 | D12: 28000 | E12: 1.9303964 | F12: 2.9084865 | H12: 838.40382 | I12: 9627 | J12: Uppsala län
B13: Östhammar | C13: 89000 | D13: 89456 | E13: 3.9998202 | F13: 4 | H13: 1443.8485 | I13: 22364 | J13: Uppsala län
B14: HELA LÄNET | D14: =SUM(D6:D13) -> 1117802 | F14: =SUM(D14/I14) -> 2.8296922 | H14: =SUM(H6:H13) -> 35561.776 | I14: =SUM(I6:I13) -> 395026
B16: * Alla anmälda brott under Brottsbalken samt ett fåtal specialrättsliga lagar (se utförligare under INFO).

Sheet Värmland
B2: Värmlands läns kommuner
B4: Kommun | C4: Kommunbidrag i kronor | E4: Kommunbidrag per invånare (kr) | G4: Övrigt (kommunen betalar/subventionerar lokal, tjänst eller övrigt) | H4: Anmälda brott där det kan finnas enskilda brottsutsatta* 220101 | I4: Invånare 220101 | J4: Brottsofferjour
C5: 2021 | D5: 2022 | E5: 2021 | F5: 2022
B6: Arvika | C6: 95000 | D6: 116000 | E6: 3.6634274 | F6: 4.4867332 | H6: 2133.4621 | I6: 25854 | J6: Värmland
B7: Eda | C7: 19000 | D7: 20000 | E7: 2.2222222 | F7: 2.3557126 | H7: 843.33544 | I7: 8490 | J7: Värmland
B8: Filipstad | C8: 50000 | D8: 50000 | E8: 4.7605446 | F8: 4.8063059 | H8: 1023.9532 | I8: 10403 | J8: Östra Värmland
B9: Forshaga | C9: 30000 | D9: 26320 | E9: 2.6032628 | F9: 2.2677925 | H9: 829.75516 | I9: 11606 | J9: Värmland
B10: Grums | C10: 54300 | D10: 54300 | E10: 6.0046445 | F10: 5.9729403 | H10: 774.07601 | I10: 9091 | J10: Värmland
B11: Hagfors | C11: 46424 | D11: 46068 | E11: 4.0309108 | F11: 3.9875357 | H11: 1047.0397 | I11: 11553 | J11: Värmland
B12: Hammarö | C12: 99408 | D12: 100000 | E12: 5.9640029 | F12: 5.9648076 | H12: 871.85403 | I12: 16765 | J12: Värmland
B13: Karlstad | C13: 562500 | D13: 570000 | E13: 5.9317923 | F13: 5.9743418 | H13: 10202.865 | I13: 95408 | J13: Värmland
B14: Kil | C14: 60000 | D14: 60000 | E14: 4.9525382 | F14: 4.9447833 | H14: 846.0515 | I14: 12134 | J14: Värmland
B15: Kristinehamn | C15: 266090 | D15: 265397 | E15: 11 | F15: 11.012781 | H15: 2440.3765 | I15: 24099 | J15: Östra Värmland
B16: Munkfors | C16: 14900 | D16: 14720 | E16: 4 | F16: 4 | H16: 221.35858 | I16: 3680 | J16: Värmland
B17: Storfors | C17: 43890 | D17: 43252 | E17: 11 | F17: 10.95542 | H17: 184.69182 | I17: 3948 | J17: Östra Värmland
... B21: Årjäng | C21: 39920 | D21: 39708 | E21: 3.9935974 | F21: 3.993965 | H21: 505.18645 | I21: 9942 | J21: Värmland
B22: HELA LÄNET | D22: =SUM(D6:D21) -> 1633522 | F22: =SUM(D22/I22) -> 5.7681676 | H22: =SUM(H6:H21) -> 24974.137 | I22: =SUM(I6:I21) -> 283196
B24: * Alla anmälda brott under Brottsbalken samt ett fåtal specialrättsliga lagar (se utförligare under INFO).

Sheet Västerbotten
B2: Västerbottens läns kommuner
B4: Kommun | C4: Kommunbidrag i kronor | E4: Kommunbidrag per invånare (kr) | G4: Övrigt (kommunen betalar/subventionerar lokal, tjänst eller övrigt) | H4: Anmälda brott där det kan finnas enskilda brottsutsatta* 220101 | I4: Invånare 220101 | J4: Brottsofferjour
C5: 2021 | D5: 2022 | E5: 2021 | F5: 2022
B6: Bjurholm | C6: 7176 | D6: 7140 | E6: 3.006284 | F6: 2.9812109 | H6: 166.29764 | I6: 2395 | J6: Umeåregionen
B7: Dorotea (1) | C7: 0 | D7: 0 | E7: 0 | F7: 0 | H7: 146.34193 | I7: 2459 | J7: Södra Lappland
B8: Lycksele (1) | C8: 0 | D8: 0 | E8: 0 | F8: 0 | H8: 1005.5464 | I8: 12264 | J8: Södra Lappland
B9: Malå (1) | C9: 0 | D9: 0 | E9: 0 | F9: 0 | H9: 157.42843 | I9: 3034 | J9: Skellefteå
B10: Nordmaling | C10: 21312 | D10: 21309 | E10: 2.9983118 | F10: 3.0012676 | H10: 504.43618 | I10: 7100 | J10: Umeåregionen
B11: Norsjö (1) | C11: 0 | D11: 0 | E11: 0 | F11: 0 | H11: 211.75233 | I11: 3971 | J11: Skellefteå
B12: Robertsfors | C12: 20280 | D12: 20313 | E12: 3.0053349 | F12: 2.9933687 | H12: 264.96758 | I12: 6786 | J12: Umeåregionen
B13: Skellefteå | C13: 25000 | D13: 25000 | E13: 0.34321801 | F13: 0.34063194 | H13: 4762.7645 | I13: 73393 | J13: Skellefteå
B14: Sorsele (1) | C14: 0 | D14: 0 | E14: 0 | F14: 0 | H14: 117.517 | I14: 2460 | J14: Södra Lappland
B15: Storuman (1) | C15: 0 | D15: 0 | E15: 0 | F15: 0 | H15: 309.31361 | I15: 5808 | J15: Södra Lappland
B16: Umeå | C16: 390102 | D16: 392619 | E16: 2.9956229 | F16: 2.9971602 | H16: 8865.8816 | I16: 130997 | J16: Umeåregionen
B17: Vilhelmina (1) | C17: 0 | D17: 0 | E17: 0 | F17: 0 | H17: 472.2853 | I17: 6485 | J17: Södra Lappland
... B20: Åsele (1) | C20: 0 | D20: 0 | E20: 0 | F20: 0 | H20: 254.98972 | I20: 2807 | J20: Södra Lappland
B21: HELA LÄNET | D21: =SUM(D6:D20) -> 510115 | F21: =SUM(D21/I21) -> 1.857916 | H21: =SUM(H6:H20) -> 17971.232 | I21: =SUM(I6:I20) -> 274563
B23: * Alla anmälda brott under Brottsbalken samt ett fåtal specialrättsliga lagar (se utförligare under INFO).
B25: 1. Jouren har inte ansökt om kommunbidrag.

Sheet Västernorrland
B2: Västernorrlands läns kommuner
B4: Kommun | C4: Kommunbidrag i kronor | E4: Kommunbidrag per invånare (kr) | G4: Övrigt (kommunen betalar/subventionerar lokal, tjänst eller övrigt) | H4: Anmälda brott där det kan finnas enskilda brottsutsatta* 220101 | I4: Invånare 220101 | J4: Brottsofferjour
C5: 2021 | D5: 2022 | E5: 2021 | F5: 2022
B6: Härnösand | C6: 75342 | D6: 75072 | E6: 3 | F6: 3.0014393 | H6: 2691.8045 | I6: 25012 | J6: Västernorrland
B7: Kramfors | C7: 54399 | D7: 54210 | E7: 3 | F7: 3.0108303 | H7: 1769.4069 | I7: 18005 | J7: Västernorrland
B8: Sollefteå | C8: 56616 | D8: 56616 | E8: 3 | F8: 3.0092484 | H8: 1512.1999 | I8: 18814 | J8: Västernorrland
B9: Sundsvall | C9: 298317 | D9: 300000 | E9: 3 | F9: 3.0186249 | H9: 9052.135 | I9: 99383 | J9: Västernorrland
B10: Timrå | C10: 53889 | D10: 53832 | E10: 3 | F10: 3.003515 | H10: 1384.705 | I10: 17923 | J10: Västernorrland
B11: Ånge | C11: 27678 | D11: 22792 | E11: 3 | F11: 2.4685368 | H11: 514.41404 | I11: 9233 | J11: Västernorrland
B12: Örnsköldsvik | C12: 167421 | D12: 167421 | E12: 3 | F12: 2.9991401 | H12: 4375.8453 | I12: 55823 | J12: Västernorrland
B13: HELA LÄNET | D13: =SUM(D6:D12) -> 729943 | F13: =SUM(D13/I13) -> 2.9892053 | H13: =SUM(H6:H12) -> 21300.511 | I13: =SUM(I6:I12) -> 244193
B15: * Alla anmälda brott under Brottsbalken samt ett fåtal specialrättsliga lagar (se utförligare under INFO).

Sheet Västmanland
B2: Västmanlands läns kommuner
B4: Kommun | C4: Kommunbidrag i kronor | E4: Kommunbidrag per invånare (kr) | G4: Övrigt (kommunen betalar/subventionerar lokal, tjänst eller övrigt) | H4: Anmälda brott där det kan finnas enskilda brottsutsatta* 220101 | I4: Invånare 220101 | J4: Brottsofferjour
C5: 2021 | D5: 2022 | E5: 2021 | F5: 2022
B6: Arboga | C6: 14500 | D6: 14000 | E6: 1.0328371 | F6: 0.9929078 | H6: 1076.3461 | I6: 14100 | J6: Västmanland
B7: Fagersta | C7: 79602 | D7: 79602 | E7: 6 | F7: 5.9765748 | H7: 1306.8137 | I7: 13319 | J7: Västmanland
B8: Hallstahammar | C8: 98400 | D8: 98400 | E8: 6 | F8: 5.9248555 | H8: 1558.4594 | I8: 16608 | J8: Västmanland
B9: Kungsör | C9: 52470 | D9: 50000 | E9: 6 | F9: 5.6902242 | H9: 518.2407 | I9: 8787 | J9: Västmanland
B10: Köping | C10: 28600 | D10: 28000 | E10: 1.0964156 | F10: 1.0714422 | H10: 2778.0691 | I10: 26133 | J10: Västmanland
B11: Norberg | C11: 34374 | D11: 34374 | E11: 6 | F11: 6.0157508 | H11: 617.90237 | I11: 5714 | J11: Västmanland
B12: Sala | C12: 137202 | D12: 137867 | E12: 6 | F12: 5.9947387 | H12: 2313.3966 | I12: 22998 | J12: Västmanland
B13: Skinnskatteberg | C13: 26196 | D13: 26196 | E13: 6 | F13: 5.9931366 | H13: 413.59594 | I13: 4371 | J13: Västmanland
B14: Surahammar | C14: 60552 | D14: 60552 | E14: 6 | F14: 5.9958412 | H14: 730.02176 | I14: 10099 | J14: Västmanland
B15: Västerås | C15: 933306 | D15: 941028 | E15: 6 | F15: 6 | H15: 22142.332 | I15: 156838 | J15: Västmanland
B16: HELA LÄNET | D16: =SUM(D6:D15) -> 1470019 | F16: =SUM(D16/I16) -> 5.2695086 | H16: =SUM(H6:H15) -> 33455.178 | I16: =SUM(I6:I15) -> 278967
B18: * Alla anmälda brott under Brottsbalken samt ett fåtal specialrättsliga lagar (se utförligare under INFO).

Sheet Västra Götaland
B2: Västra Götalands läns kommuner
B4: Kommun | C4: Kommunbidrag i kronor | E4: Kommunbidrag per invånare (kr) | G4: Övrigt (kommunen betalar/subventionerar lokal, tjänst eller övrigt) | H4: Anmälda brott där det kan finnas enskilda brottsutsatta* 220101 | I4: Invånare 220101 | J4: Brottsofferjour
C5: 2021 | D5: 2022 | E5: 2021 | F5: 2022
B6: Ale (1) | C6: 0 | D6: 0 | E6: 0 | F6: 0 | H6: 2415.1227 | I6: 32148 | J6: Ale
B7: Alingsås | C7: 16000 | D7: 16000 | E7: 0.38459689 | F7: 0.3822904 | H7: 3503.6602 | I7: 41853 | J7: Alingsås-Lerum-Vårgårda-Herrljunga
B8: Bengtsfors | C8: 0 | D8: 18818 | E8: 0 | F8: 2 | H8: 918.66305 | I8: 9409 | J8: Fyrbodal
B9: Bollebygd (1) | C9: 0 | D9: 0 | E9: 0 | F9: 0 | H9: 587.85495 | I9: 9634 | J9: Borås-Sjuhärad
B10: Borås | C10: 90000 | D10: 90000 | E10: 0.79145928 | F10: 0.78884399 | H10: 11322.354 | I10: 114091 | J10: Borås-Sjuhärad
B11: Dals-Ed | C11: 1500 | D11: 1500 | E11: 0.31505986 | F11: 0.31539108 | H11: 331.9257 | I11: 4756 | J11: Fyrbodal
B12: Essunga | C12: 16980 | D12: 17061 | E12: 2.985757 | F12: 2.9942085 | H12: 382.21747 | I12: 5698 | J12: Östra Skaraborg
B13: Falköping | C13: 99738 | D13: 99714 | E13: 3.0007221 | F13: 2.9971145 | H13: 2981.7433 | I13: 33270 | J13: Östra Skaraborg
B14: Färgelanda | C14: 0 | D14: 5000 | E14: 0 | F14: 0.76034063 | H14: 574.44381 | I14: 6576 | J14: Fyrbodal
B15: Grästorp | C15: 17055 | D15: 17055 | E15: 3 | F15: 2.9764398 | H15: 394.51102 | I15: 5730 | J15: Östra Skaraborg
B16: Gullspång | C16: 10338 | D16: 10200 | E16: 2 | F16: 1.9592778 | H16: 615.79482 | I16: 5206 | J16: Norra Skaraborg
B17: Göteborg (4) | C17: 600000 | D17: 600000 | E17: 1.0290607 | F17: 1.0211914 | H17: 83109.949 | I17: 587549 | J17: Storgöteborg
... B38: Stenungsund | C38: 0 | D38: 25000 | E38: 0 | F38: 0.90724343 | H38: 1968.0847 | I38: 27556 | J38: Fyrbodal
B39: Strömstad | C39: 26488 | D39: 26554 | E39: 2 | F39: 2 | G39: Kommunen subventionerar lokal | H39: 1077.3615 | I39: 13277 | J39: Fyrbodal
B40: Svenljunga (3) | C40: 0 | D40: 0 | E40: 0 | F40: 0 | H40: 954.42609 | I40: 10864 | J40: Borås-Sjuhärad
B41: Tanum | C41: 25824 | D41: 25930 | E41: 2 | F41: 2 | G41: Kommunen subventionerar lokal | H41: 891.84077 | I41: 12965 | J41: Fyrbodal
B42: Tibro | C42: 33720 | D42: 33891 | E42: 2.9848632 | F42: 3.0042549 | H42: 692.90887 | I42: 11281 | J42: Östra Skaraborg
B43: Tidaholm | C43: 38538 | D43: 38370 | E43: 3.0131353 | F43: 2.9918129 | H43: 844.90179 | I43: 12825 | J43: Östra Skaraborg
B44: Tjörn | C44: 0 | D44: 30000 | E44: 0 | F44: 1.8391368 | H44: 842.6666 | I44: 16312 | J44: Fyrbodal
B45: Tranemo (3) | C45: 0 | D45: 0 | E45: 0 | F45: 0 | H45: 889.60558 | I45: 11937 | J45: Borås-Sjuhärad
B46: Trollhättan | C46: 118498 | D46: 118308 | E46: 2 | F46: 2 | H46: 6444.0525 | I46: 59154 | J46: Fyrbodal
B47: Töreboda | C47: 18562 | D47: 18562 | E47: 2 | F47: 2.0160747 | H47: 704.08482 | I47: 9207 | J47: Norra Skaraborg
B48: Uddevalla | C48: 70000 | D48: 70000 | E48: 1.2326765 | F48: 1.2254473 | H48: 5378.9845 | I48: 57122 | J48: Fyrbodal
B49: Ulricehamn (1) | C49: 0 | D49: 0 | E49: 0 | F49: 0 | H49: 1769.1528 | I49: 24898 | J49: Borås-Sjuhärad
B50: Vara | C50: 48087 | D50: 48288 | E50: 2.9875124 | F50: 2.987749 | H50: 1537.8107 | I50: 16162 | J50: Östra Skaraborg
B51: Vårgårda | C51: 6000 | D51: 6000 | E51: 0.50226017 | F51: 0.49261084 | H51: 830.37305 | I51: 12180 | J51: Alingsås-Lerum-Vårgårda-Herrljunga
B52: Vänersborg | C52: 70000 | D52: 70000 | E52: 1.7666061 | F52: 1.7660712 | H52: 3469.0147 | I52: 39636 | J52: Fyrbodal
B53: Åmål | C53: 20000 | D53: 24636 | E53: 1.6075878 | F53: 2 | H53: 881.78242 | I53: 12318 | J53: Fyrbodal
B54: Öckerö | C54: 0 | D54: 0 | E54: 0 | F54: 0 | H54: 711.90799 | I54: 12902 | J54: INGEN BOJ (Öckerö)
B55: HELA LÄNET | D55: =SUM(D6:D54) -> 2832214 | F55: =SUM(D55/I55) -> 1.6231764 | H55: =SUM(H6:H54) -> 180401.06 | I55: =SUM(I6:I54) -> 1744859
B57: * Alla anmälda brott under Brottsbalken samt ett fåtal specialrättsliga lagar (se utförligare under INFO).
B59: 1. Jouren har inte ansökt om kommunbidrag.
B60: 2. Kommunen har avslagit jourens bidragsansökan.
B61: 3. Kommunen har inte svarat på jourens ansökan.
B62: 4. Göteborgs kommun bedriver egen brottsofferstödjande verksamhet, varför Brottsofferjouren i den kommunen är mer att se som ett komplement.

Sheet Örebro
B2: Örebro läns kommuner
B4: Kommun | C4: Kommunbidrag i kronor | E4: Kommunbidrag per invånare (kr) | G4: Övrigt (kommunen betalar/subventionerar lokal, tjänst eller övrigt) | H4: Anmälda brott där det kan finnas enskilda brottsutsatta* 220101 | I4: Invånare 220101 | J4: Brottsofferjour
C5: 2021 | D5: 2022 | E5: 2021 | F5: 2022
B6: Askersund | C6: 12031 | D6: 25664 | E6: 1.0488188 | F6: 2.2250737 | H6: 950.61966 | I6: 11534 | J6: Örebro län
B7: Degerfors | C7: 39000 | D7: 50000 | E7: 4.0494237 | F7: 5.2443885 | H7: 918.02699 | I7: 9534 | J7: Örebro län
B8: Hallsberg | C8: 31820.1 | D8: 48696 | E8: 1.99 | F8: 3.0066683 | H8: 1823.8317 | I8: 16196 | J8: Örebro län
B9: Hällefors | C9: 42076 | D9: 41460 | E9: 6.1015081 | F9: 6.0534385 | H9: 721.11292 | I9: 6849 | J9: Örebro län
B10: Karlskoga | C10: 135000 | D10: 110000 | E10: 4.4608928 | F10: 3.6140224 | G10: Kommunen subventionerar lokal | H10: 3805.1947 | I10: 30437 | J10: Örebro län
B11: Kumla | C11: 54655 | D11: 88576 | E11: 2.5 | F11: 4 | H11: 2626.4263 | I11: 22144 | J11: Örebro län
B12: Laxå | C12: 0 | D12: 10000 | E12: 0 | F12: 1.7914726 | H12: 608.39658 | I12: 5582 | J12: Örebro län
B13: Lekeberg | C13: 21101 | D13: 21482 | E13: 2.4906752 | F13: 2.4970359 | H13: 567.65574 | I13: 8603 | J13: Örebro län
B14: Lindesberg | C14: 94632 | D14: 94033 | E14: 4 | F14: 3.9842803 | G14: Kommunen subventionerar lokal | H14: 1758.6464 | I14: 23601 | J14: Örebro län
B15: Ljusnarsberg | C15: 28044 | D15: 30518 | E15: 6 | F15: 6.6285838 | H15: 639.63123 | I15: 4604 | J15: Örebro län
B16: Nora | C16: 32178 | D16: 35570 | E16: 3.0112296 | F16: 3.3177875 | H16: 745.55742 | I16: 10721 | J16: Örebro län
B17: Örebro | C17: 497291.58 | D17: 506004 | E17: 3.18 | F17: 3.2232223 | H17: 24050.677 | I17: 156987 | J17: Örebro län
B18: HELA LÄNET | D18: =SUM(D6:D17) -> 1062003 | F18: =SUM(D18/I18) -> 3.4616385 | H18: =SUM(H6:H17) -> 39215.777 | I18: =SUM(I6:I17) -> 306792
B20: * Alla anmälda brott under Brottsbalken samt ett fåtal specialrättsliga lagar (se utförligare under INFO).

Sheet Östergötland
B2: Östergötlands läns kommuner
B4: Kommun | C4: Kommunbidrag i kronor | E4: Kommunbidrag per invånare (kr) | G4: Övrigt (kommunen betalar/subventionerar lokal, tjänst eller övrigt) | H4: Anmälda brott där det kan finnas enskilda brottsutsatta* 220101 | I4: Invånare 220101 | J4: Brottsofferjour
C5: 2021 | D5: 2022 | E5: 2021 | F5: 2022
B6: Boxholm | C6: 27205 | D6: 27400 | E6: 5 | F6: 4.9709724 | H6: 255.85554 | I6: 5512 | J6: Västra Östergötland
B7: Finspång | C7: 33203 | D7: 35022.4 | E7: 1.5255226 | F7: 1.6 | H7: 1743.0159 | I7: 21889 | J7: Östergötland
B8: Kinda (1) | C8: 0 | D8: 0 | E8: 0 | F8: 0 | H8: 724.92404 | I8: 10048 | J8: Östergötland
B9: Linköping (1) | C9: 0 | D9: 0 | E9: 0 | F9: 0 | H9: 16514.676 | I9: 165527 | J9: Östergötland
B10: Mjölby (2) | C10: 0 | D10: 0 | E10: 0 | F10: 0 | H10: 2534.569 | I10: 28269 | J10: Västra Östergötland
B11: Motala | C11: 218200 | D11: 218370 | E11: 5 | F11: 5 | H11: 4612.0627 | I11: 43674 | J11: Västra Östergötland
B12: Norrköping | C12: 214910 | D12: 144458 | E12: 1.4978603 | F12: 1 | H12: 17580.74 | I12: 144458 | J12: Östergötland
B13: Söderköping | C13: 43884 | D13: 44019 | E13: 3.0024631 | F13: 3 | H13: 867.5102 | I13: 14673 | J13: Östergötland
B14: Vadstena | C14: 33000 | D14: 35000 | E14: 4.4456419 | F14: 4.6493092 | H14: 489.05721 | I14: 7528 | J14: Västra Östergötland
B15: Valdemarsvik | C15: 23229 | D15: 22980 | E15: 3.0023265 | F15: 3 | H15: 487.72463 | I15: 7660 | J15: Östergötland
B16: Ydre (1) | C16: 0 | D16: 0 | E16: 0 | F16: 0 | H16: 175.90069 | I16: 3695 | J16: Östergötland
B17: Åtvidaberg (1) | C17: 0 | D17: 0 | E17: 0 | F17: 0 | H17: 668.95564 | I17: 11462 | J17: Östergötland
B18: Ödeshög | C18: 0 | D18: 26545 | E18: 0 | F18: 5 | H18: 410.43493 | I18: 5309 | J18: Västra Östergötland
B19: HELA LÄNET | D19: =SUM(D6:D18) -> 553794.4 | F19: =SUM(D19/I19) -> 1.1790285 | H19: =SUM(H6:H18) -> 47065.427 | I19: =SUM(I6:I18) -> 469704
B21: * Alla anmälda brott under Brottsbalken samt ett fåtal specialrättsliga lagar (se utförligare under INFO).
B23: 1. Kommunen har inte besvarat jourens bidragsansökan.
B24: 2. Kommunen har avslagit jourens bidragsansökan.

Sheet kontrollsumma
C2: kommunbidrag | D2: invånare | G2: bidrag / inv och län
B3: =Östergötland!$B$2 -> Östergötlands läns kommuner | C3: =Östergötland!$C$19 -> 0 | D3: =Östergötland!$I$19 -> 469704 | F3: Värmland | G3: 5.687958
B4: =Örebro!$B$2 -> Örebro läns kommuner | C4: =Örebro!$C$18 -> 0 | D4: =Örebro!$I$18 -> 306792 | F4: Västmanland | G4: 5.2868468
B5: ='Västra Götaland'!$B$2 -> Västra Götalands läns kommuner | C5: ='Västra Götaland'!$C$55 -> 0 | D5: ='Västra Götaland'!$I$55 -> 1744859 | F5: Jämtland | G5: 4.5747398
B6: =Västmanland!$B$2 -> Västmanlands läns kommuner | C6: =Västmanland!$C$16 -> 0 | D6: =Västmanland!$I$16 -> 278967 | F6: Norrbotten | G6: 4.4809185
B7: =Västernorrland!$B$2 -> Västernorrlands läns kommuner | C7: =Västernorrland!$C$13 -> 0 | D7: =Västernorrland!$I$13 -> 244193 | F7: Örebro | G7: 3.2319689
B8: =Västerbotten!$B$2 -> Västerbottens läns kommuner | C8: =Västerbotten!$C$21 -> 0 | D8: =Västerbotten!$I$21 -> 274563 | F8: Skåne | G8: 3.0636606
B9: =Värmland!$B$2 -> Värmlands läns kommuner | C9: =Värmland!$C$22 -> 0 | D9: =Värmland!$I$22 -> 283196 | F9: Västernorrland | G9: 3
B10: =Uppsala!$B$2 -> Uppsala läns kommuner | C10: =Uppsala!$C$14 -> 0 | D10: =Uppsala!$I$14 -> 395026 | F10: Stockholm | G10: 2.9510249
B11: =Södermanland!$B$2 -> Södermanlands läns kommuner | C11: =Södermanland!$C$15 -> 0 | D11: =Södermanland!$I$15 -> 301801 | F11: Uppsala | G11: 2.7635854
B12: =Stockholm!$B$2 -> Stockholms läns kommuner | C12: =Stockholm!$C$32 -> 0 | D12: =Stockholm!$I$32 -> 2415139 | F12: Kalmar | G12: 2.6500549
B13: =Skåne!$B$2 -> Skåne läns kommuner | C13: =Skåne!$C$39 -> 0 | D13: =Skåne!$I$39 -> 1402425 | F13: Kronoberg | G13: 2.2362864
B14: =Norrbotten!$B$2 -> Norrbottens läns kommuner | C14: =Norrbotten!$C$20 -> 0 | D14: =Norrbotten!$I$20 -> 249693 | F14: Södermanland | G14: 2.1561919
B15: =Kronoberg!$B$2 -> Kronobergs läns kommuner | C15: =Kronoberg!$C$14 -> 0 | D15: =Kronoberg!$I$14 -> 203340 | F15: Gävleborg | G15: 1.8844425
B16: =Kalmar!$B$2 -> Kalmar läns kommuner | C16: =Kalmar!$C$18 -> 0 | D16: =Kalmar!$I$18 -> 247175 | F16: Västerbotten | G16: 1.8564563
B17: =Jönköping!$B$2 -> Jönköpings läns kommuner | C17: =Jönköping!$C$19 -> 0 | D17: =Jönköping!$I$19 -> 367064 | F17: Jönköping | G17: 1.6588504
B18: =Jämtland!$B$2 -> Jämtlands läns kommuner | C18: =Jämtland!$C$14 -> 0 | D18: =Jämtland!$I$14 -> 132054 | F18: Västra Götaland | G18: 1.5624543
B19: =Halland!$B$2 -> Hallands läns kommuner | C19: =Halland!$C$12 -> 0 | D19: =Halland!$I$12 -> 340243 | F19: Dalarna | G19: 1.3417108
B20: =Gävleborg!$B$2 -> Gävleborgs läns kommuner | C20: =Gävleborg!$C$16 -> 0 | D20: =Gävleborg!$I$16 -> 287767 | F20: Östergötland | G20: 1.2707285
B21: =Gotland!$B$2 -> Gotlands läns kommuner | C21: =Gotland!$C$7 -> 0 | D21: =Gotland!$I$7 -> 61001 | F21: Halland | G21: 1.1878319
B22: =Dalarna!$B$2 -> Dalarna läns kommuner | C22: =Dalarna!$C$21 -> 0 | D22: =Dalarna!$I$21 -> 288387 | F22: Blekinge | G22: 1.1693995
B23: =Blekinge!$B$2 -> Blekinge läns kommuner | C23: =Blekinge!$C$11 -> 0 | D23: =Blekinge!$I$11 -> 158937 | F23: Gotland | G23: 1.1642605
C24: =SUM(C3:C23) -> 0 | D24: =SUM(D3:D23) -> 10452326
