Workbook

Sheet INFO
B3: KOMMUNERNAS BIDRAG TILL BROTTSOFFERJOUREN
B4: Kommunbidragsundersökning 2018
B6: Kommunbidragsundersökningen är genomförd av Brottsofferjouren Sverige,
B7: förbundsorganisation för lokala brottsofferjourer.
B9: Undersökningen gäller förhållanden under 2018 och har genomförts efter verksamhetsårets 2018 slut
B10: genom en onlinenkät till lokala brottsofferjourer som är medlemmar i Brottsofferjouren Sverige.
B12: Uppgifterna om invånarantal är baserade på SCBs officiella statistik för samma verksamhetsår,
B13: aktuellt 1 januari 2018.
B15: Uppgifterna om anmälda brott är baserade på BRÅs officiella statistik för samma verksamhetsår,
B16: aktuellt 1 januari 2018.
B18: Alla brott som begås drabbar inte enskilda personer. Vi har därför i vår sammanräkning plockat bort denna typ av brottslighet, exempelvis innehav av narkotika, olovlig körning, bidragsfusk osv. som framför allt finns i specialrättsliga författningar. Under varje rubrik i Brottsbalken finns brott där det kan finns en brottsutsatt individ. Därför är anmälda brott under Brottsbalken med i sammanräkningen. Även överträdelse av kontaktförbud, som regleras i en specialrättslig författning, är med i sammanräkningen av anmälda brott där det kan finnas enskilda drabbade.
B19: Material i den här Excelfilen:
... B27: 08-644 88 00

Sheet bidrag per jour
B2: Kommunbidrag, invånare och bidrag per invånare 2018 för lokala brottsofferjourer inom Brottsofferjouren Sverige
B4: Län | C4: Brottsofferjour | D4: Kommunbidrag 2018 | E4: Invånare 2018-01-01 | F4: Kommunbidrag per inv 2018
B5: Västra Götaland | C5: Ale | E5: 30223 | F5: =SUM(Tabell2[[#This Row],[Kommunbidrag 2018]]/Tabell2[[#This Row],[Invånare 2018-01-01]]) -> 0
B6: Västra Götaland | C6: Alingsås-Lerum-Vårgårda-Herrljunga | D6: 47740 | E6: 102875 | F6: =SUM(Tabell2[[#This Row],[Kommunbidrag 2018]]/Tabell2[[#This Row],[Invånare 2018-01-01]]) -> 0.46405832
B7: Dalarna | C7: Avesta-Hedemora | D7: 61344 | E7: 38822 | F7: =SUM(Tabell2[[#This Row],[Kommunbidrag 2018]]/Tabell2[[#This Row],[Invånare 2018-01-01]]) -> 1.580135
B8: Blekinge | C8: Blekinge | D8: 225000 | E8: 159371 | F8: =SUM(Tabell2[[#This Row],[Kommunbidrag 2018]]/Tabell2[[#This Row],[Invånare 2018-01-01]]) -> 1.4118001
B9: Norrbotten | C9: Boden | D9: 35000 | E9: 28181 | F9: =SUM(Tabell2[[#This Row],[Kommunbidrag 2018]]/Tabell2[[#This Row],[Invånare 2018-01-01]]) -> 1.2419715
B10: Västra Götaland | C10: Bohus-Norra Älvsborg | D10: 169500 | E10: 172379 | F10: =SUM(Tabell2[[#This Row],[Kommunbidrag 2018]]/Tabell2[[#This Row],[Invånare 2018-01-01]]) -> 0.98329843
B11: Gävleborg | C11: Bollnäs-Ovanåker | D11: 109700 | E11: 38527 | F11: =SUM(Tabell2[[#This Row],[Kommunbidrag 2018]]/Tabell2[[#This Row],[Invånare 2018-01-01]]) -> 2.8473538
B12: Västra Götaland | C12: Borås-Sjuhärad | D12: 87250 | E12: 201568 | F12: =SUM(Tabell2[[#This Row],[Kommunbidrag 2018]]/Tabell2[[#This Row],[Invånare 2018-01-01]]) -> 0.43285641
B13: Västerbotten | C13: Dorotea | E13: 2646 | F13: =SUM(Tabell2[[#This Row],[Kommunbidrag 2018]]/Tabell2[[#This Row],[Invånare 2018-01-01]]) -> 0
B14: Uppsala | C14: Enköping | D14: 240000 | E14: 43797 | F14: =SUM(Tabell2[[#This Row],[Kommunbidrag 2018]]/Tabell2[[#This Row],[Invånare 2018-01-01]]) -> 5.4798274
B15: Södermanland | C15: Eskilstuna | D15: 230000 | E15: 104709 | F15: =SUM(Tabell2[[#This Row],[Kommunbidrag 2018]]/Tabell2[[#This Row],[Invånare 2018-01-01]]) -> 2.1965638
B16: Halland | C16: Falkenberg | D16: 20000 | E16: 44195 | F16: =SUM(Tabell2[[#This Row],[Kommunbidrag 2018]]/Tabell2[[#This Row],[Invånare 2018-01-01]]) -> 0.45253988
B17: Skåne | C17: Freezonen | D17: 872000 | E17: 97353 | F17: =SUM(Tabell2[[#This Row],[Kommunbidrag 2018]]/Tabell2[[#This Row],[Invånare 2018-01-01]]) -> 8.9570943
B18: Gävleborg | C18: Gästrike Västra | D18: 80000 | E18: 54815 | F18: =SUM(Tabell2[[#This Row],[Kommunbidrag 2018]]/Tabell2[[#This Row],[Invånare 2018-01-01]]) -> 1.4594545
B19: Gävleborg | C19: Gävle | D19: 248400 | E19: 100603 | F19: =SUM(Tabell2[[#This Row],[Kommunbidrag 2018]]/Tabell2[[#This Row],[Invånare 2018-01-01]]) -> 2.4691113
B20: Stockholm | C20: Haninge-Nynäshamn | D20: 462056 | E20: 116146 | F20: =SUM(Tabell2[[#This Row],[Kommunbidrag 2018]]/Tabell2[[#This Row],[Invånare 2018-01-01]]) -> 3.9782343
B21: Skåne | C21: Helsingborg | D21: 1555000 | E21: 184926 | F21: =SUM(Tabell2[[#This Row],[Kommunbidrag 2018]]/Tabell2[[#This Row],[Invånare 2018-01-01]]) -> 8.4087689
B22: Stockholm | C22: Huddinge-Botkyrka | D22: 670000 | E22: 201928 | F22: =SUM(Tabell2[[#This Row],[Kommunbidrag 2018]]/Tabell2[[#This Row],[Invånare 2018-01-01]]) -> 3.3180143
B23: Gävleborg | C23: Hudiksvall-Nordanstig | D23: 48570 | E23: 46882 | F23: =SUM(Tabell2[[#This Row],[Kommunbidrag 2018]]/Tabell2[[#This Row],[Invånare 2018-01-01]]) -> 1.0360053
B24: Skåne | C24: Hässleholm-Osby-Perstorp | D24: 386300 | E24: 72520 | F24: =SUM(Tabell2[[#This Row],[Kommunbidrag 2018]]/Tabell2[[#This Row],[Invånare 2018-01-01]]) -> 5.3268064
B25: Jönköping | C25: Höglandskommunerna | D25: 107999 | E25: 113175 | F25: =SUM(Tabell2[[#This Row],[Kommunbidrag 2018]]/Tabell2[[#This Row],[Invånare 2018-01-01]]) -> 0.95426552
... B34: Norrbotten | C34: Luleå | D34: 982000 | E34: 77470 | F34: =SUM(Tabell2[[#This Row],[Kommunbidrag 2018]]/Tabell2[[#This Row],[Invånare 2018-01-01]]) -> 12.675875
B35: Västerbotten | C35: Lycksele | E35: 23484 | F35: =SUM(Tabell2[[#This Row],[Kommunbidrag 2018]]/Tabell2[[#This Row],[Invånare 2018-01-01]]) -> 0
B36: Dalarna | C36: Mellersta Dalarna | D36: 344000 | E36: 169591 | F36: =SUM(Tabell2[[#This Row],[Kommunbidrag 2018]]/Tabell2[[#This Row],[Invånare 2018-01-01]]) -> 2.0284095
B37: Skåne | C37: Mellersta Skåne | D37: 794545 | E37: 265930 | F37: =SUM(Tabell2[[#This Row],[Kommunbidrag 2018]]/Tabell2[[#This Row],[Invånare 2018-01-01]]) -> 2.9877975
B38: Stockholm | C38: Nacka-Tyresö-Värmdö | D38: 733236 | E38: 191979 | F38: =SUM(Tabell2[[#This Row],[Kommunbidrag 2018]]/Tabell2[[#This Row],[Invånare 2018-01-01]]) -> 3.8193552
B39: Skåne | C39: Nordöstra Skåne | D39: 502417 | E39: 111565 | F39: =SUM(Tabell2[[#This Row],[Kommunbidrag 2018]]/Tabell2[[#This Row],[Invånare 2018-01-01]]) -> 4.5033568
B40: Dalarna | C40: Norra Dalarna | D40: 68311 | E40: 51275 | F40: =SUM(Tabell2[[#This Row],[Kommunbidrag 2018]]/Tabell2[[#This Row],[Invånare 2018-01-01]]) -> 1.3322477
B41: Västra Götaland | C41: Norra Skaraborg | D41: 67428 | E41: 38984 | F41: =SUM(Tabell2[[#This Row],[Kommunbidrag 2018]]/Tabell2[[#This Row],[Invånare 2018-01-01]]) -> 1.7296327
B42: Kalmar | C42: Oskarshamn-Mönsterås-Högsby | E42: 46513 | F42: =SUM(Tabell2[[#This Row],[Kommunbidrag 2018]]/Tabell2[[#This Row],[Invånare 2018-01-01]]) -> 0
B43: Norrbotten | C43: Piteå-Älvdal | D43: 73700 | E43: 59719 | F43: =SUM(Tabell2[[#This Row],[Kommunbidrag 2018]]/Tabell2[[#This Row],[Invånare 2018-01-01]]) -> 1.2341131
B44: Stockholm | C44: Roslagen | D44: 246932 | E44: 253237 | F44: =SUM(Tabell2[[#This Row],[Kommunbidrag 2018]]/Tabell2[[#This Row],[Invånare 2018-01-01]]) -> 0.97510237
B45: Västerbotten | C45: Skellefteå | D45: 20000 | E45: 79942 | F45: =SUM(Tabell2[[#This Row],[Kommunbidrag 2018]]/Tabell2[[#This Row],[Invånare 2018-01-01]]) -> 0.25018138
B46: Jönköping | C46: Småland West | D46: 174798 | E46: 87408 | F46: =SUM(Tabell2[[#This Row],[Kommunbidrag 2018]]/Tabell2[[#This Row],[Invånare 2018-01-01]]) -> 1.9997941
B47: Stockholm, Gotland | C47: Stockholm-Gotland | D47: 1705000 | E47: 720731.81 | F47: =SUM(Tabell2[[#This Row],[Kommunbidrag 2018]]/Tabell2[[#This Row],[Invånare 2018-01-01]]) -> 2.3656511
B48: Västra Götaland | C48: Storgöteborg | D48: 1040924 | E48: 705452 | F48: =SUM(Tabell2[[#This Row],[Kommunbidrag 2018]]/Tabell2[[#This Row],[Invånare 2018-01-01]]) -> 1.4755419
B49: Södermanland | C49: Strängnäs | E49: 35045 | F49: =SUM(Tabell2[[#This Row],[Kommunbidrag 2018]]/Tabell2[[#This Row],[Invånare 2018-01-01]]) -> 0
B50: Västra Götaland | C50: Strömstad-Tanum | D50: 34000 | E50: 25981 | F50: =SUM(Tabell2[[#This Row],[Kommunbidrag 2018]]/Tabell2[[#This Row],[Invånare 2018-01-01]]) -> 1.3086486
B51: Kronoberg | C51: Sunnerbo | D51: 70000 | E51: 38467 | F51: =SUM(Tabell2[[#This Row],[Kommunbidrag 2018]]/Tabell2[[#This Row],[Invånare 2018-01-01]]) -> 1.8197416
B52: Gävleborg | C52: Söderhamn | D52: 20000 | E52: 25782 | F52: =SUM(Tabell2[[#This Row],[Kommunbidrag 2018]]/Tabell2[[#This Row],[Invånare 2018-01-01]]) -> 0.77573501
B53: Skåne | C53: Söderslätt | D53: 101489 | E53: 101459 | F53: =SUM(Tabell2[[#This Row],[Kommunbidrag 2018]]/Tabell2[[#This Row],[Invånare 2018-01-01]]) -> 1.0002957
B54: Stockholm | C54: Södertälje | D54: 335000 | E54: 123357 | F54: =SUM(Tabell2[[#This Row],[Kommunbidrag 2018]]/Tabell2[[#This Row],[Invånare 2018-01-01]]) -> 2.7156951
B55: Halland | C55: Södra Halland | D55: 130000 | E55: 135889 | F55: =SUM(Tabell2[[#This Row],[Kommunbidrag 2018]]/Tabell2[[#This Row],[Invånare 2018-01-01]]) -> 0.95666316
B56: Kalmar | C56: Södra Kalmar län | D56: 382128 | E56: 130165 | F56: =SUM(Tabell2[[#This Row],[Kommunbidrag 2018]]/Tabell2[[#This Row],[Invånare 2018-01-01]]) -> 2.93572
B57: Stockholm | C57: Södra Stockholm | D57: 726000 | E57: 358835.59 | F57: =SUM(Tabell2[[#This Row],[Kommunbidrag 2018]]/Tabell2[[#This Row],[Invånare 2018-01-01]]) -> 2.0232107
B58: Västra Götaland | C58: Trollhättan-Lilla Edet | D58: 178656 | E58: 72199 | F58: =SUM(Tabell2[[#This Row],[Kommunbidrag 2018]]/Tabell2[[#This Row],[Invånare 2018-01-01]]) -> 2.4744941
B59: Västerbotten | C59: Umeåregionen | D59: 465624 | E59: 155606 | F59: =SUM(Tabell2[[#This Row],[Kommunbidrag 2018]]/Tabell2[[#This Row],[Invånare 2018-01-01]]) -> 2.9923268
B60: Uppsala | C60: Uppsala län | D60: 792110 | E60: 325174 | F60: =SUM(Tabell2[[#This Row],[Kommunbidrag 2018]]/Tabell2[[#This Row],[Invånare 2018-01-01]]) -> 2.4359574
B61: Halland | C61: Varberg | D61: 135000 | E61: 62755 | F61: =SUM(Tabell2[[#This Row],[Kommunbidrag 2018]]/Tabell2[[#This Row],[Invånare 2018-01-01]]) -> 2.151223
B62: Västerbotten | C62: Vilhelmina | E62: 6787 | F62: =SUM(Tabell2[[#This Row],[Kommunbidrag 2018]]/Tabell2[[#This Row],[Invånare 2018-01-01]]) -> 0
B63: Kalmar | C63: Vimmerby-Hultsfred-Västervik | D63: 198597 | E63: 66858 | F63: =SUM(Tabell2[[#This Row],[Kommunbidrag 2018]]/Tabell2[[#This Row],[Invånare 2018-01-01]]) -> 2.9704299
B64: Värmland | C64: Värmland | D64: 1209930 | E64: 240843 | F64: =SUM(Tabell2[[#This Row],[Kommunbidrag 2018]]/Tabell2[[#This Row],[Invånare 2018-01-01]]) -> 5.0237292
B65: Västernorrland | C65: Västernorrland | D65: 683529 | E65: 227938 | F65: =SUM(Tabell2[[#This Row],[Kommunbidrag 2018]]/Tabell2[[#This Row],[Invånare 2018-01-01]]) -> 2.9987497
B66: Stockholm | C66: Västerort | D66: 1031000 | E66: 400523.6 | F66: =SUM(Tabell2[[#This Row],[Kommunbidrag 2018]]/Tabell2[[#This Row],[Invånare 2018-01-01]]) -> 2.5741305
B67: Västmanland | C67: Västmanland | D67: 1586200 | E67: 271095 | F67: =SUM(Tabell2[[#This Row],[Kommunbidrag 2018]]/Tabell2[[#This Row],[Invånare 2018-01-01]]) -> 5.8510854
B68: Västra Götaland | C68: Västra Skaraborg | D68: 98930 | E68: 98930 | F68: =SUM(Tabell2[[#This Row],[Kommunbidrag 2018]]/Tabell2[[#This Row],[Invånare 2018-01-01]]) -> 1
B69: Östergötland | C69: Västra Östergötland | D69: 403150 | E69: 88785 | F69: =SUM(Tabell2[[#This Row],[Kommunbidrag 2018]]/Tabell2[[#This Row],[Invånare 2018-01-01]]) -> 4.5407445
B70: Kronoberg | C70: Växjö | D70: 298554 | E70: 141904 | F70: =SUM(Tabell2[[#This Row],[Kommunbidrag 2018]]/Tabell2[[#This Row],[Invånare 2018-01-01]]) -> 2.1039153
B71: Kronoberg | C71: Älmhult | E71: 17148 | F71: =SUM(Tabell2[[#This Row],[Kommunbidrag 2018]]/Tabell2[[#This Row],[Invånare 2018-01-01]]) -> 0
B72: Skåne | C72: Ängelholm | D72: 341015 | E72: 99919 | F72: =SUM(Tabell2[[#This Row],[Kommunbidrag 2018]]/Tabell2[[#This Row],[Invånare 2018-01-01]]) -> 3.4129145
B73: Örebro | C73: Örebro län | D73: 1033190 | E73: 298907 | F73: =SUM(Tabell2[[#This Row],[Kommunbidrag 2018]]/Tabell2[[#This Row],[Invånare 2018-01-01]]) -> 3.4565601
B74: Östergötland | C74: Östergötland | E74: 368711 | F74: =SUM(Tabell2[[#This Row],[Kommunbidrag 2018]]/Tabell2[[#This Row],[Invånare 2018-01-01]]) -> 0
B75: Västra Götaland | C75: Östra Skaraborg | D75: 384867 | E75: 128036 | F75: =SUM(Tabell2[[#This Row],[Kommunbidrag 2018]]/Tabell2[[#This Row],[Invånare 2018-01-01]]) -> 3.005928
B76: Södermanland | C76: Östra Sörmland | D76: 154278 | E76: 91410 | F76: =SUM(Tabell2[[#This Row],[Kommunbidrag 2018]]/Tabell2[[#This Row],[Invånare 2018-01-01]]) -> 1.6877585
B77: Värmland | C77: Östra Värmland | D77: 402275 | E77: 39556 | F77: =SUM(Tabell2[[#This Row],[Kommunbidrag 2018]]/Tabell2[[#This Row],[Invånare 2018-01-01]]) -> 10.169759
C78: =SUBTOTAL(103,Tabell2[Brottsofferjour]) -> 73 | D78: =SUBTOTAL(109,Tabell2[Kommunbidrag 2018]) -> 25113823 | E78: =SUBTOTAL(109,Tabell2[Invånare 2018-01-01]) -> 9651658
B80: Kommuner som inte samverkar med lokala jourer inom Brottsofferjouren är inte medräknade i sammanställningen.
B81: Se länstabellerna för detaljer.

Sheet ej bidrag
B2: Kommuner där ansökan gjorts av lokal brottsofferjour men där bidrag uteblivit
B5: Län | C5: Brottsofferjour | D5: Kommun | E5: Invånare 1 jan 2018 | F5: Anmälda brott 1 jan 2018 | G5: Skäl till att bidrag ej beviljats | H5: Kommentar
B6: Västmanland | C6: Västmanland | D6: Arboga | E6: 13934 | F6: 1058.9488 | G6: Ej svar på ansökan
B7: Norrbotten | C7: Piteå-Älvdal | D7: Arjeplog | E7: 2821 | F7: 203.43409 | G7: Avslag | H7: Kommunen hänvisar till dålig ekonomi
B8: Norrbotten | C8: Piteå-Älvdal | D8: Arvidsjaur | E8: 6440 | F8: 553.85196 | G8: Avslag | H8: Kommunen uppger att de själva ska ta brottsofferärenden
B9: Västra Götaland | C9: Bohus-Norra Älvsborg | D9: Bengtsfors | E9: 9905 | F9: 845.88499 | G9: Avslag | H9: Inga skäl angavs
B10: Västra Götaland | C10: Borås-Sjuhärad | D10: Bollebygd | E10: 9262 | F10: 580.56082 | G10: Avslag | H10: Inga skäl angavs
B11: Västra Götaland | C11: Bohus-Norra Älvsborg | D11: Färgelanda | E11: 6592 | F11: 538.52927 | G11: Ej svar på ansökan
B12: Västra Götaland | C12: Norra Skaraborg | D12: Gullspång | E12: 5280 | F12: 614.71146 | G12: Ej svar på ansökan
B13: Gävleborg | C13: Gästrike Västra | D13: Hofors | E13: 9660 | F13: 713.40947 | G13: Avtal finns, ingen utbetalning gjord | H13: Utbetalning för 2019 har inkommit.
B14: Dalarna | C14: Norra Dalarna | D14: Malung-Sälen | E14: 10114 | F14: 1283.4589 | G14: Avslag | H14: Inga skäl angavs
B15: Västra Götaland | C15: Borås-Sjuhärad | D15: Mark | E15: 34484 | F15: 2651.9283 | G15: Ej svar på ansökan
B16: Östergötland | C16: Östergötland | D16: Norrköping | E16: 140927 | F16: 17221.433 | G16: Avslag | H16: Kommunen valde att göra en upphandling där en annan aktör gav ett lägre anbud.
B17: Stockholm | C17: Södertälje | D17: Nykvarn | E17: 10660 | F17: 751.84431 | G17: Ej svar på ansökan
B18: Gävleborg | C18: Gästrike Västra | D18: Ockelbo | E18: 5896 | F18: 590.00256 | G18: Avtal finns, ingen utbetalning gjord | H18: Utbetalning för 2019 har inkommit.
B19: Dalarna | C19: Norra Dalarna | D19: Orsa | E19: 6887 | F19: 643.77536 | G19: Ej svar på ansökan
B20: Skåne | C20: Freezonen | D20: Simrishamn | E20: 19376 | F20: 1775.6841 | G20: Avslag | H20: Kommunen anger att ansökan inte kom in i tid, vilket jouren bestrider
B21: Västra Götaland | C21: Bohus-Norra Älvsborg | D21: Sotenäs | E21: 9073 | F21: 1016.6382 | G21: Ej svar på ansökan
B22: Södermanland | C22: Strängnäs | D22: Strängnäs | E22: 35045 | F22: 3912.5067 | G22: Ej svar på ansökan
B23: Västra Götaland | C23: Borås-Sjuhärad | D23: Svenljunga | E23: 10659 | F23: 1150.6138 | G23: Ej svar på ansökan
B24: Västernorrland | C24: Västernorrland | D24: Timrå | E24: 18030 | F24: 1627.4727 | G24: Avslag | H24: Kommunen hänvisar till dålig ekonomi
B25: Västra Götaland | C25: Borås-Sjuhärad | D25: Tranemo | E25: 11841 | F25: 750.00052 | G25: Ej svar på ansökan
B26: Östergötland | C26: Västra Östergötland | D26: Vadstena | E26: 7421 | F26: 512.30808 | G26: Avslag | H26: Inga skäl angavs
B27: Dalarna | C27: Norra Dalarna | D27: Vansbro | E27: 6837 | F27: 402.3596 | G27: Avslag | H27: Kommunen uppger att endast föreningar med styrelse och verksamhet förlagd inom kommunen kan få bidrag
D28: =SUBTOTAL(103,Tabell34[Kommun]) -> 22 | E28: =SUBTOTAL(109,Tabell34[Invånare 1 jan 2018]) -> 391144 | F28: =SUBTOTAL(109,Tabell34[Anmälda brott 1 jan 2018]) -> 39399.357

Sheet IOP
B2: Kommuner som tecknat IOP (Idéburet Offentligt Partnerskap) med lokala brottsofferjouren
B5: Län | C5: Brottsofferjour | D5: Kommun | E5: Bidrag per inv och år | F5: Hur är bidragsnivån uttryckt i avtalet? | G5: Löptid | H5: Vad händer när avtalstiden går ut? | I5: Kommentar
B6: Kronoberg | C6: Växjö | D6: Alvesta | E6: 4.0447418 | F6: X kr per invånare och år | G6: 3 år | H6: Avtalet löper ut och nytt avtal måste förhandlas och tecknas.
B7: Västerbotten | C7: Umeåregionen | D7: Bjurholm | E7: 3.003672 | F7: X kr per invånare och år | G7: 3 år | H7: Avtalet förlängs automatiskt om ingen påkallar omförhandling eller formellt säger upp avtalet.
B8: Kalmar | C8: Södra Kalmar län | D8: Borgholm | E8: 2.9718154 | F8: X kr per invånare och år | G8: 3 år | H8: Avtalet förlängs automatiskt om ingen påkallar omförhandling eller formellt säger upp avtalet.
B9: Stockholm | C9: Huddinge-Botkyrka | D9: Botkyrka | E9: 3.4810987 | F9: fast summa per år | G9: 3 år | H9: Avtalet förlängs automatiskt om ingen påkallar omförhandling eller formellt säger upp avtalet.
B10: Östergötland | C10: Västra Östergötland | D10: Boxholm | E10: 4.7680176 | F10: X kr per invånare och år | G10: 3 år | H10: Avtalet förlängs automatiskt om ingen påkallar omförhandling eller formellt säger upp avtalet.
B11: Kalmar | C11: Södra Kalmar län | D11: Emmaboda | E11: 2.9417165 | F11: X kr per invånare och år | G11: 3 år | H11: Avtalet förlängs automatiskt om ingen påkallar omförhandling eller formellt säger upp avtalet.
B12: Uppsala | C12: Enköping | D12: Enköping | E12: 5.4798274 | F12: fast summa per år | G12: 1 år | H12: Avtalet löper ut och nytt avtal måste förhandlas och tecknas.
B13: Värmland | C13: Värmland | D13: Hammarö | E13: 6 | F13: X kr per invånare och år | G13: 3 år | H13: Avtalet förlängs automatiskt om ingen påkallar omförhandling eller formellt säger upp avtalet.
B14: Stockholm | C14: Huddinge-Botkyrka | D14: Huddinge | E14: 3.1817314 | F14: fast summa per år | G14: 3 år | H14: Avtalet förlängs automatiskt om ingen påkallar omförhandling eller formellt säger upp avtalet.
B15: Gävleborg | C15: Hudiksvall-Nordanstig | D15: Hudiksvall | E15: 1.0312558 | F15: fast summa per år | G15: 3 år | H15: Avtalet löper ut och nytt avtal måste förhandlas och tecknas.
B16: Uppsala | C16: Uppsala län | D16: Håbo | E16: 3.7945264 | F16: X kr per invånare och år | G16: tills vidare
B17: Kalmar | C17: Södra Kalmar län | D17: Kalmar | E17: 2.9251012 | F17: X kr per invånare och år | G17: 3 år | H17: Avtalet förlängs automatiskt om ingen påkallar omförhandling eller formellt säger upp avtalet.
B18: Uppsala | C18: Uppsala län | D18: Knivsta | E18: 3.8418955 | F18: X kr per invånare och år | G18: tills vidare
B19: Värmland | C19: Östra Värmland | D19: Kristinehamn | E19: 12.587221 | F19: X kr per invånare och år | G19: tills vidare
B20: Skåne | C20: Landskrona-Svalöv | D20: Landskrona | E20: 3.5000221 | F20: X kr per invånare och år | G20: 2 år | H20: Avtalet löper ut och nytt avtal måste förhandlas och tecknas.
B21: Kronoberg | C21: Växjö | D21: Lessebo | E21: 2.0964115 | F21: X kr per invånare och år | G21: 3 år | H21: Avtalet löper ut och nytt avtal måste förhandlas och tecknas.
B22: Östergötland | C22: Västra Östergötland | D22: Mjölby | E22: 5.0575521 | F22: X kr per invånare och år | G22: 3 år | H22: Avtalet förlängs automatiskt om ingen påkallar omförhandling eller formellt säger upp avtalet.
B23: Östergötland | C23: Västra Östergötland | D23: Motala | E23: 4.9254862 | F23: X kr per invånare och år | G23: 3 år | H23: Avtalet förlängs automatiskt om ingen påkallar omförhandling eller formellt säger upp avtalet.
B24: Värmland | C24: Värmland | D24: Munkfors | E24: 3.9734255 | F24: X kr per invånare och år | G24: 3 år | H24: Avtalet förlängs automatiskt om ingen påkallar omförhandling eller formellt säger upp avtalet.
B25: Gävleborg | C25: Hudiksvall-Nordanstig | D25: Nordanstig | E25: 1.0547411 | F25: fast summa per år | G25: tills vidare
B26: Västerbotten | C26: Umeåregionen | D26: Nordmaling | E26: 3.0122483 | F26: X kr per invånare och år | G26: 3 år | H26: Avtalet förlängs automatiskt om ingen påkallar omförhandling eller formellt säger upp avtalet.
B27: Stockholm | C27: Roslagen | D27: Norrtälje | E27: 1.0113801 | F27: X kr per invånare och år | G27: 3 år | H27: Avtalet förlängs automatiskt om ingen påkallar omförhandling eller formellt säger upp avtalet. | I27: Summan förhandlas vid behov årligen
B28: Kalmar | C28: Södra Kalmar län | D28: Nybro | E28: 2.9239929 | F28: X kr per invånare och år | G28: 3 år | H28: Avtalet förlängs automatiskt om ingen påkallar omförhandling eller formellt säger upp avtalet.
B29: Södermanland | C29: Östra Sörmland | D29: Nyköping | E29: 1.9946996 | F29: X kr per invånare och år | G29: 3 år | H29: Avtalet löper ut och nytt avtal måste förhandlas och tecknas. | I29: I avtalet står det att det finns möjlighet till 3 års förlängning, men det krävs åtminstone ett samtal parterna emellan för att förnya avtalet.
B30: Västerbotten | C30: Umeåregionen | D30: Robertsfors | E30: 3 | F30: X kr per invånare och år | G30: 3 år | H30: Avtalet förlängs automatiskt om ingen påkallar omförhandling eller formellt säger upp avtalet.
B31: Gävleborg | C31: Gästrike Västra | D31: Sandviken | E31: 2.0377493 | F31: fast summa per år | G31: 1 år | H31: Avtalet löper ut och nytt avtal måste förhandlas och tecknas.
B32: Stockholm | C32: Stockholm-Gotland | D32: Sigtuna | E32: 3.6694523 | F32: fast summa per år | G32: 3 år | H32: Avtalet förlängs automatiskt om ingen påkallar omförhandling eller formellt säger upp avtalet.
B33: Skåne | C33: Landskrona-Svalöv | D33: Svalöv | E33: 3.9928699 | F33: fast summa per år | G33: 1 år | H33: Avtalet löper ut och nytt avtal måste förhandlas och tecknas.
B34: Uppsala | C34: Uppsala län | D34: Tierp | E34: 3.8604873 | F34: ingen garanterad bidragsnivå | G34: tills vidare
B35: Värmland | C35: Värmland | D35: Torsby | E35: 5.9929352 | F35: X kr per invånare och år | G35: 3 år | H35: Avtalet förlängs automatiskt om ingen påkallar omförhandling eller formellt säger upp avtalet.
B36: Västra Götaland | C36: Trollhättan-Lilla Edet | D36: Trollhättan | E36: 2.7242694 | F36: fast summa per år | G36: tills vidare
B37: Västerbotten | C37: Umeåregionen | D37: Umeå | E37: 2.9902862 | F37: X kr per invånare och år | G37: 3 år | H37: Avtalet förlängs automatiskt om ingen påkallar omförhandling eller formellt säger upp avtalet.
B38: Stockholm | C38: Stockholm-Gotland | D38: Upplands Väsby | E38: 3.6991369 | F38: fast summa per år | G38: 3 år | H38: Avtalet förlängs automatiskt om ingen påkallar omförhandling eller formellt säger upp avtalet.
B39: Kronoberg | C39: Växjö | D39: Uppvidinge | E39: 2.0412091 | F39: X kr per invånare och år | G39: 3 år | H39: Avtalet löper ut och nytt avtal måste förhandlas och tecknas.
B40: Västerbotten | C40: Umeåregionen | D40: Vindeln | E40: 3.0005543 | F40: X kr per invånare och år | G40: 3 år | H40: Avtalet förlängs automatiskt om ingen påkallar omförhandling eller formellt säger upp avtalet.
B41: Västerbotten | C41: Umeåregionen | D41: Vännäs | E41: 2.9911121 | F41: X kr per invånare och år | G41: 3 år | H41: Avtalet förlängs automatiskt om ingen påkallar omförhandling eller formellt säger upp avtalet.
B42: Västmanland | C42: Västmanland | D42: Västerås | E42: 9.0652351 | F42: fast summa per år | G42: 3 år | H42: Avtalet löper ut och nytt avtal måste förhandlas och tecknas.
B43: Uppsala | C43: Uppsala län | D43: Älvkarleby | E43: 1.9144863 | F43: ingen garanterad bidragsnivå | G43: tills vidare
B44: Östergötland | C44: Västra Östergötland | D44: Ödeshög | E44: 4.86618 | F44: X kr per invånare och år | G44: 3 år | H44: Avtalet förlängs automatiskt om ingen påkallar omförhandling eller formellt säger upp avtalet.
D45: =SUBTOTAL(103,Tabell9[Kommun]) -> 39

Sheet s-avtal
B2: Kommuner som tecknat samverkansavtal med lokala brottsofferjouren
B5: Län | C5: Brottsofferjour | D5: Kommun | E5: Bidrag per inv och år | F5: Hur är bidragsnivån uttryckt i avtalet? | G5: Löptid | H5: Vad händer när avtalstiden går ut?
B6: Jämtland | C6: Jämtland | D6: Berg | E6: 4.3386689 | F6: fast summa per år | G6: tills vidare
B7: Skåne | C7: Helsingborg | D7: Bjuv | E7: 2.5925206 | F7: fast summa per år | G7: 3 år | H7: Avtalet löper ut och nytt avtal måste förhandlas och tecknas.
B8: Gävleborg | C8: Bollnäs-Ovanåker | D8: Bollnäs | E8: 2.9979939 | F8: Bidraget är uttryckt i kronor per invånare och år | G8: 3 år | H8: Avtalet löper ut och nytt avtal måste förhandlas och tecknas.
B9: Dalarna | C9: Mellersta Dalarna | D9: Borlänge | E9: 2.8866138 | F9: fast summa per år | G9: 3 år | H9: Avtalet förlängs automatiskt om ingen påkallar omförhandling eller formellt säger upp avtalet.
B10: Västra Götaland | C10: Borås-Sjuhärad | D10: Borås | E10: 0.72955884 | F10: fast summa per år | G10: 1 år | H10: Avtalet löper ut och nytt avtal måste förhandlas och tecknas.
B11: Skåne | C11: Nordöstra Skåne | D11: Bromölla | E11: 3 | F11: Bidraget är uttryckt i kronor per invånare och år | G11: 3 år | H11: Avtalet förlängs automatiskt om ingen påkallar omförhandling eller formellt säger upp avtalet.
B12: Jämtland | C12: Jämtland | D12: Bräcke | E12: 3.5379172 | F12: fast summa per år | G12: tills vidare
B13: Skåne | C13: Ängelholm | D13: Båstad | E13: 3.5907002 | F13: Bidraget är uttryckt i kronor per invånare och år | G13: tills vidare
B14: Stockholm | C14: Västerort | D14: Ekerö | E14: 3.0266998 | F14: fast summa per år | G14: 3 år | H14: Avtalet löper ut och nytt avtal måste förhandlas och tecknas.
B15: Södermanland | C15: Eskilstuna | D15: Eskilstuna | E15: 2.1965638 | F15: fast summa per år | G15: 3 år | H15: Avtalet förlängs automatiskt om ingen påkallar omförhandling eller formellt säger upp avtalet.
B16: Skåne | C16: Mellersta Skåne | D16: Eslöv | E16: 2.9893489 | F16: Bidraget är uttryckt i kronor per invånare och år | G16: tills vidare
B17: Västra Götaland | C17: Östra Skaraborg | D17: Falköping | E17: 2.9998186 | F17: Bidraget är uttryckt i kronor per invånare och år | G17: tills vidare
B18: Dalarna | C18: Mellersta Dalarna | D18: Falun | E18: 1.7140898 | F18: fast summa per år | G18: tills vidare
B19: Gävleborg | C19: Gävle | D19: Gävle | E19: 2.4691113 | F19: ingen garanterad bidragsnivå | G19: tills vidare
B20: Stockholm | C20: Haninge-Nynäshamn | D20: Haninge | E20: 3.9712848 | F20: Bidraget är uttryckt i kronor per invånare och år | G20: 4 år | H20: Avtalet löper ut och nytt avtal måste förhandlas och tecknas.
B21: Skåne | C21: Helsingborg | D21: Helsingborg | E21: 10.223022 | F21: fast summa per år | G21: 3 år | H21: Avtalet löper ut och nytt avtal måste förhandlas och tecknas.
B22: Västra Götaland | C22: Östra Skaraborg | D22: Hjo | E22: 3.0023095 | F22: Bidraget är uttryckt i kronor per invånare och år | G22: tills vidare
B23: Gävleborg | C23: Gästrike Västra | D23: Hofors | E23: 0 | F23: fast summa per år | G23: tills vidare | H23: Avtalet förlängs automatiskt om ingen påkallar omförhandling eller formellt säger upp avtalet.
B24: Örebro | C24: Örebro län | D24: Hällefors | E24: 5.9558306 | F24: fast summa per år | G24: tills vidare
B25: Jämtland | C25: Jämtland | D25: Härjedalen | E25: 3.5335828 | F25: fast summa per år | G25: tills vidare
B26: Västra Götaland | C26: Storgöteborg | D26: Härryda | E26: 3.9880252 | F26: Bidraget är uttryckt i kronor per invånare och år | G26: 1 år | H26: Avtalet löper ut och nytt avtal måste förhandlas och tecknas.
B27: Skåne | C27: Mellersta Skåne | D27: Hörby | E27: 2.9972994 | F27: Bidraget är uttryckt i kronor per invånare och år | G27: tills vidare
B28: Skåne | C28: Mellersta Skåne | D28: Höör | E28: 2.9967229 | F28: Bidraget är uttryckt i kronor per invånare och år | G28: tills vidare
B29: Västra Götaland | C29: Östra Skaraborg | D29: Karlsborg | E29: 3.015962 | F29: Bidraget är uttryckt i kronor per invånare och år | G29: tills vidare
B30: Örebro | C30: Örebro län | D30: Karlskoga | E30: 3.6168744 | F30: fast summa per år | G30: 2 år | H30: Avtalet löper ut och nytt avtal måste förhandlas och tecknas.
B31: Västernorrland | C31: Västernorrland | D31: Kramfors | E31: 2.9595379 | F31: Bidraget är uttryckt i kronor per invånare och år | G31: tills vidare
B32: Jämtland | C32: Jämtland | D32: Krokom | E32: 4.3577889 | F32: Bidraget är uttryckt i kronor per invånare och år | G32: tills vidare
B33: Skåne | C33: Mellersta Skåne | D33: Kävlinge | E33: 2.9898253 | F33: Bidraget är uttryckt i kronor per invånare och år | G33: tills vidare
B34: Västra Götaland | C34: Alingsås-Lerum-Vårgårda-Herrljunga | D34: Lerum | E34: 0.49048422 | F34: fast summa per år | G34: 1 år | H34: Avtalet förlängs automatiskt om ingen påkallar omförhandling eller formellt säger upp avtalet.
B35: Gävleborg | C35: Ljusdal | D35: Ljusdal | E35: 3.0988543 | F35: fast summa per år | G35: 1 år | H35: Avtalet förlängs automatiskt om ingen påkallar omförhandling eller formellt säger upp avtalet.
B36: Örebro | C36: Örebro län | D36: Ljusnarsberg | E36: 5.9538648 | F36: fast summa per år | G36: tills vidare
B37: Skåne | C37: Mellersta Skåne | D37: Lomma | E37: 2.9112677 | F37: Bidraget är uttryckt i kronor per invånare och år | G37: tills vidare
B38: Skåne | C38: Mellersta Skåne | D38: Lund | E38: 2.9972789 | F38: Bidraget är uttryckt i kronor per invånare och år | G38: tills vidare
B39: Örebro | C39: Örebro län | D39: Nora | E39: 2.9581278 | F39: fast summa per år | G39: tills vidare
B40: Stockholm | C40: Haninge-Nynäshamn | D40: Nynäshamn | E40: 4 | F40: Bidraget är uttryckt i kronor per invånare och år | G40: tills vidare
B41: Gävleborg | C41: Gästrike Västra | D41: Ockelbo | E41: 0 | F41: fast summa per år | G41: tills vidare | H41: Avtalet förlängs automatiskt om ingen påkallar omförhandling eller formellt säger upp avtalet.
B42: Gävleborg | C42: Bollnäs-Ovanåker | D42: Ovanåker | E42: 2.4980618 | F42: Bidraget är uttryckt i kronor per invånare och år | G42: 3 år | H42: Avtalet löper ut och nytt avtal måste förhandlas och tecknas.
B43: Västra Götaland | C43: Storgöteborg | D43: Partille | E43: 4.0053854 | F43: Bidraget är uttryckt i kronor per invånare och år | G43: 1 år | H43: Avtalet förlängs automatiskt om ingen påkallar omförhandling eller formellt säger upp avtalet.
B44: Jämtland | C44: Jämtland | D44: Ragunda | E44: 3.5488611 | F44: fast summa per år | G44: tills vidare
B45: Skåne | C45: Freezonen | D45: Sjöbo | E45: 11.430968 | F45: fast summa per år | G45: 1 år | H45: Avtalet löper ut och nytt avtal måste förhandlas och tecknas.
B46: Skåne | C46: Freezonen | D46: Skurup | E46: 13.936837 | F46: fast summa per år | G46: 1 år | H46: Avtalet förlängs automatiskt om ingen påkallar omförhandling eller formellt säger upp avtalet.
B47: Västra Götaland | C47: Östra Skaraborg | D47: Skövde | E47: 3.0122783 | F47: Bidraget är uttryckt i kronor per invånare och år | G47: tills vidare
B48: Västernorrland | C48: Västernorrland | D48: Sollefteå | E48: 3.0442945 | F48: Bidraget är uttryckt i kronor per invånare och år | G48: tills vidare
B49: Stockholm | C49: Västerort | D49: Solna | E49: 2.9482981 | F49: fast summa per år | G49: 3 år | H49: Avtalet löper ut och nytt avtal måste förhandlas och tecknas.
B50: Skåne | C50: Mellersta Skåne | D50: Staffanstorp | E50: 3.0001241 | F50: Bidraget är uttryckt i kronor per invånare och år | G50: tills vidare
B51: Jämtland | C51: Jämtland | D51: Strömsund | E51: 4.5000424 | F51: fast summa per år | G51: tills vidare
B52: Stockholm | C52: Västerort | D52: Sundbyberg | E52: 2.7516996 | F52: fast summa per år | G52: 3 år | H52: Avtalet löper ut och nytt avtal måste förhandlas och tecknas.
B53: Västernorrland | C53: Västernorrland | D53: Sundsvall | E53: 3.0361299 | F53: Bidraget är uttryckt i kronor per invånare och år | G53: tills vidare
B54: Skåne | C54: Söderslätt | D54: Svedala | E54: 1 | F54: Bidraget är uttryckt i kronor per invånare och år | G54: 1 år | H54: Avtalet löper ut och nytt avtal måste förhandlas och tecknas.
B55: Gävleborg | C55: Söderhamn | D55: Söderhamn | E55: 0.77573501 | F55: fast summa per år | G55: 1 år | H55: Avtalet förlängs automatiskt om ingen påkallar omförhandling eller formellt säger upp avtalet.
B56: Västra Götaland | C56: Strömstad-Tanum | D56: Tanum | E56: 1.7237327 | F56: Bidraget är uttryckt i kronor per invånare och år | G56: 1 år | H56: Avtalet löper ut och nytt avtal måste förhandlas och tecknas.
B57: Västra Götaland | C57: Östra Skaraborg | D57: Tibro | E57: 3.010261 | F57: Bidraget är uttryckt i kronor per invånare och år | G57: tills vidare
B58: Kronoberg | C58: Växjö | D58: Tingsryd | E58: 1.9935748 | F58: Bidraget är uttryckt i kronor per invånare och år | G58: 3 år | H58: Avtalet löper ut och nytt avtal måste förhandlas och tecknas.
B59: Skåne | C59: Söderslätt | D59: Vellinge | E59: 1 | F59: Bidraget är uttryckt i kronor per invånare och år | G59: 1 år | H59: Avtalet löper ut och nytt avtal måste förhandlas och tecknas.
B60: Västra Götaland | C60: Alingsås-Lerum-Vårgårda-Herrljunga | D60: Vårgårda | E60: 0.52219321 | F60: fast summa per år | G60: 1 år | H60: Avtalet förlängs automatiskt om ingen påkallar omförhandling eller formellt säger upp avtalet.
B61: Skåne | C61: Freezonen | D61: Ystad | E61: 7.3036719 | F61: fast summa per år | G61: 1 år | H61: Avtalet förlängs automatiskt om ingen påkallar omförhandling eller formellt säger upp avtalet.
B62: Västernorrland | C62: Västernorrland | D62: Ånge | E62: 3.0012658 | F62: Bidraget är uttryckt i kronor per invånare och år | G62: tills vidare
B63: Jämtland | C63: Jämtland | D63: Åre | E63: 4.543841 | F63: fast summa per år | G63: tills vidare
B64: Örebro | C64: Örebro län | D64: Örebro | E64: 3.413378 | F64: fast summa per år | G64: 3 år | H64: Avtalet löper ut och nytt avtal måste förhandlas och tecknas.
B65: Västernorrland | C65: Västernorrland | D65: Örnsköldsvik | E65: 2.9391332 | F65: Bidraget är uttryckt i kronor per invånare och år | G65: tills vidare
B66: Jämtland | C66: Jämtland | D66: Östersund | E66: 3.5143209 | F66: fast summa per år | G66: tills vidare
B67: Skåne | C67: Nordöstra Skåne | D67: Östra Göinge | E67: 3 | F67: Bidraget är uttryckt i kronor per invånare och år | G67: 3 år | H67: Avtalet förlängs automatiskt om ingen påkallar omförhandling eller formellt säger upp avtalet.
D68: =SUBTOTAL(103,Tabell910[Kommun]) -> 62

Sheet sammanräkn
B3: Sammanräkning Sverige
B5: Län | C5: Bidrag (kr) | D5: Brott där BOJ finns | E5: Inv där BOJ finns | F5: I detta län finns X kommuner som inte ingår i BOJ
B6: Blekinge | C6: =Blekinge!$C$11 -> 225000 | D6: =Blekinge!$H$11 -> 14941.403 | E6: =Blekinge!$I$11 -> 159371
B7: Dalarna | C7: =Dalarna!$C$21 -> 518789 | D7: =Dalarna!$H$21 -> 28324.752 | E7: =Dalarna!$I$21 -> 286165
B8: Gotland | C8: =Gotland!$C$7 -> 70000 | D8: =Gotland!$H$7 -> 5356.7364 | E8: =Gotland!$I$7 -> 58595
B9: Gävleborg | C9: =Gävleborg!$C$16 -> 565635 | D9: =Gävleborg!$H$16 -> 27616.116 | E9: =Gävleborg!$I$16 -> 285637
B10: Halland | C10: =Halland!$C$12 -> 335000 | D10: =Halland!$H$12 -> 32403.7 | E10: =Halland!$I$12 -> 324825
B11: Jämtland | C11: =Jämtland!$C$14 -> 498400 | D11: =Jämtland!$H$14 -> 10567.921 | E11: =Jämtland!$I$14 -> 129806
B12: Jönköping | C12: =Jönköping!$C$19 -> 587797 | D12: =Jönköping!$H$19 -> 31914.577 | E12: =Jönköping!$I$19 -> 357237
B13: Kalmar | C13: =Kalmar!$C$18 -> 580725 | D13: =Kalmar!$H$18 -> 23796.868 | E13: =Kalmar!$I$18 -> 243536
B14: Kronoberg | C14: =Kronoberg!$C$14 -> 368553 | D14: =Kronoberg!$H$14 -> 19246.255 | E14: =Kronoberg!$I$14 -> 197519
B15: Norrbotten | C15: =Norrbotten!$C$20 -> 1090700 | D15: =Norrbotten!$H$20 -> 14710.095 | E15: =Norrbotten!$I$20 -> 165370 | F15: 8
B16: Skåne | C16: =Skåne!$C$39 -> 4767268 | D16: =Skåne!$H$39 -> 118677.82 | E16: =Skåne!$I$39 -> 992983 | F16: 2
B17: Stockholm | C17: =Stockholm!$C$32 -> 5839224 | D17: =Stockholm!$H$32 -> 384134.1 | E17: =Stockholm!$I$32 -> 2297483 | F17: 1
B18: Södermanland | C18: =Södermanland!$C$15 -> 655428 | D18: =Södermanland!$H$15 -> 36303.678 | E18: =Södermanland!$I$15 -> 291341
B19: Uppsala | C19: =Uppsala!$C$14 -> 1032110 | D19: =Uppsala!$H$14 -> 34973.518 | E19: =Uppsala!$I$14 -> 368971
B20: Värmland | C20: =Värmland!$C$22 -> 1612205 | D20: =Värmland!$H$22 -> 26393.426 | E20: =Värmland!$I$22 -> 280399
B21: Västerbotten | C21: =Västerbotten!$C$21 -> 485624 | D21: =Västerbotten!$H$21 -> 22684.498 | E21: =Västerbotten!$I$21 -> 268465
B22: Västernorrland | C22: =Västernorrland!$C$13 -> 683529 | D22: =Västernorrland!$H$13 -> 21952.775 | E22: =Västernorrland!$I$13 -> 227938
B23: Västmanland | C23: =Västmanland!$C$16 -> 1586200 | D23: =Västmanland!$H$16 -> 31097.366 | E23: =Västmanland!$I$16 -> 271095
B24: Västra Götaland | C24: ='Västra Götaland'!$C$55 -> 2175295 | D24: ='Västra Götaland'!$H$55 -> 206661.26 | E24: ='Västra Götaland'!$I$55 -> 1677859 | F24: 1
B25: Örebro | C25: =Örebro!$C$18 -> 1033190 | D25: =Örebro!$H$18 -> 36648.822 | E25: =Örebro!$I$18 -> 298907
B26: Östergötland | C26: =Östergötland!$C$19 -> 403150 | D26: =Östergötland!$H$19 -> 47671.745 | E26: =Östergötland!$I$19 -> 457496
B27: TOTALT SVERIGE | C27: =SUM(C6:C26) -> 25113822 | D27: =SUM(D6:D26) -> 1176077.4 | E27: =SUM(E6:E26) -> 9640998 | F27: =SUM(F6:F26) -> 12
B28: (278 av 290 kommuner)

Sheet Blekinge
B2: Blekinge läns kommuner
B4: Kommun | C4: Kommunbidrag i kronor | E4: Kommunbidrag per invånare (kr) | G4: Övrigt (kommunen betalar/subventionerar lokal, tjänst eller övrigt) | H4: Anmälda brott där det kan finnas enskilda brottsutsatta* 180101 | I4: Invånare 180101 | J4: Brottsofferjour
C5: 2018 | D5: 2015 | E5: 2018 | F5: 2015
B6: Karlshamn | C6: 30000 | D6: 30000 | E6: 0.93167702 | F6: 0.94942718 | H6: 3232.6904 | I6: 32200 | J6: Blekinge
B7: Karlskrona | C7: 100000 | D7: 67000 | E7: 1.500015 | F7: 1.0412134 | H7: 5694.3422 | I7: 66666 | J7: Blekinge
B8: Olofström | C8: 40000 | D8: 5000 | E8: 2.9669189 | F8: 0.38370041 | H8: 1199.0932 | I8: 13482 | J8: Blekinge
B9: Ronneby | C9: 35000 | D9: 25000 | E9: 1.1837121 | F9: 0.88586514 | H9: 2980.1786 | I9: 29568 | J9: Blekinge
B10: Sölvesborg | C10: 20000 | D10: 20000 | E10: 1.1458035 | F10: 1.1793148 | H10: 1835.0987 | I10: 17455 | J10: Blekinge
B11: HELA LÄNET | C11: =SUM(C6:C10) -> 225000 | E11: =SUM(C11/I11) -> 1.4118001 | H11: =SUM(H6:H10) -> 14941.403 | I11: =SUM(I6:I10) -> 159371
B13: * Alla anmälda brott under Brottsbalken samt lag (1988:688) om kontaktförbud (se utförligare förklaring under INFO).

Sheet Dalarna
B2: Dalarna läns kommuner
B4: Kommun | C4: Kommunbidrag i kronor | E4: Kommunbidrag per invånare (kr) | G4: Övrigt (kommunen betalar/subventionerar lokal, tjänst eller övrigt) | H4: Anmälda brott där det kan finnas enskilda brottsutsatta* 180101 | I4: Invånare 180101 | J4: Brottsofferjour
C5: 2018 | D5: 2015 | E5: 2018 | F5: 2015
B6: Avesta | C6: 46344 | D6: 36000 | E6: 1.9927761 | F6: 1.6347289 | H6: 2564.19 | I6: 23256 | J6: Avesta-Hedemora
B7: Borlänge | C7: 150000 | D7: 140000 | E7: 2.8866138 | F7: 2.7605245 | G7: Subventionerar lokal | H7: 6830.5657 | I7: 51964 | J7: Mellersta Dalarna
B8: Falun | C8: 100000 | D8: 100000 | E8: 1.7140898 | F8: 1.7575928 | H8: 5182.9372 | I8: 58340 | J8: Mellersta Dalarna
B9: Gagnef | C9: 2000 | D9: 3000 | E9: 0.19529343 | F9: 0.29928172 | H9: 523.74945 | I9: 10241 | J9: Mellersta Dalarna
B10: Hedemora | C10: 15000 | D10: 0 | E10: 0.9636387 | F10: 0 | H10: 1654.4481 | I10: 15566 | J10: Avesta-Hedemora
B11: Leksand | C11: 23460 | D11: 7321 | E11: 1.5 | F11: 0.48000262 | H11: 1014.7646 | I11: 15640 | J11: Leksand-Rättvik
B12: Ludvika | C12: 50000 | D12: 60000 | E12: 1.8524007 | F12: 2.3050327 | H12: 2941.9989 | I12: 26992 | J12: Mellersta Dalarna
B13: Malung-Sälen 1 | C13: 0 | D13: 0 | E13: 0 | F13: 0 | H13: 1283.4589 | I13: 10114 | J13: Norra Dalarna
B14: Mora | C14: 50698 | D14: 50068 | E14: 2.4889783 | F14: 2.5026492 | H14: 2079.9946 | I14: 20369 | J14: Norra Dalarna
B15: Orsa 2 | C15: 0 | D15: 0 | E15: 0 | F15: 0 | H15: 643.77536 | I15: 6887 | J15: Norra Dalarna
B16: Rättvik | C16: 21674 | D16: 10748 | E16: 2 | F16: 1 | H16: 965.66304 | I16: 10837 | J16: Leksand-Rättvik
B17: Smedjebacken | C17: 20000 | D17: 21400 | E17: 1.835873 | F17: 1.9977595 | H17: 698.3326 | I17: 10894 | J17: Mellersta Dalarna
B18: Säter | C18: 22000 | D18: 0 | E18: 1.9713262 | F18: 0 | H18: 1042.0432 | I18: 11160 | J18: Mellersta Dalarna
B19: Vansbro 1 | C19: 0 | D19: 0 | E19: 0 | F19: 0 | H19: 402.3596 | I19: 6837 | J19: Norra Dalarna
B20: Älvdalen | C20: 17613 | D20: 0 | E20: 2.4919355 | F20: 0 | H20: 496.47083 | I20: 7068 | J20: Norra Dalarna
B21: HELA LÄNET | C21: =SUM(C6:C20) -> 518789 | E21: =SUM(C21/I21) -> 1.8129016 | F21: 0 | H21: =SUM(H6:H20) -> 28324.752 | I21: =SUM(I6:I20) -> 286165
B23: * Alla anmälda brott under Brottsbalken samt lag (1988:688) om kontaktförbud (se utförligare förklaring under INFO).
B25: 1. Kommunen har avslagit jourens ansökan om bidrag.
B26: 2. Kommunen har inte besvarat jourens ansökan om bidrag.

Sheet Gotland
B2: Gotlands läns kommuner
B4: Kommun | C4: Kommunbidrag i kronor | E4: Kommunbidrag per invånare (kr) | G4: Övrigt (kommunen betalar/subventionerar lokal, tjänst eller övrigt) | H4: Anmälda brott där det kan finnas enskilda brottsutsatta* 180101 | I4: Invånare 180101 | J4: Brottsofferjour
C5: 2018 | D5: 2015 | E5: 2018 | F5: 2015
B6: Gotland | C6: 70000 | D6: 70000 | E6: 1.19 | F6: 1.2226006 | H6: 5356.7364 | I6: 58595 | J6: Stockholm-Gotland
B7: HELA LÄNET | C7: =SUM(C6) -> 70000 | E7: =SUM(C7/I7) -> 1.1946412 | H7: =SUM(H6) -> 5356.7364 | I7: =SUM(I6) -> 58595
B9: * Alla anmälda brott under Brottsbalken samt lag (1988:688) om kontaktförbud (se utförligare förklaring under INFO).

Sheet Gävleborg
B2: Gävleborgs läns kommuner
B4: Kommun | C4: Kommunbidrag i kronor | E4: Kommunbidrag per invånare (kr) | G4: Övrigt (kommunen betalar/subventionerar lokal, tjänst eller övrigt) | H4: Anmälda brott där det kan finnas enskilda brottsutsatta* 180101 | I4: Invånare 180101 | J4: Brottsofferjour
C5: 2018 | D5: 2015 | E5: 2018 | F5: 2015
B6: Bollnäs | C6: 80700 | D6: 79800 | E6: 2.9979939 | F6: 3.0234144 | H6: 2216.6232 | I6: 26918 | J6: Bollnäs-Ovanåker
B7: Gävle | C7: 248400 | D7: 265000 | E7: 2.4691113 | F7: 2.6954452 | H7: 12078.598 | I7: 100603 | J7: Gävle
B8: Hofors 1 | C8: 0 | D8: 7500 | E8: 0 | F8: 0.79524971 | H8: 713.40947 | I8: 9660 | J8: Gästrike Västra
B9: Hudiksvall | C9: 38570 | D9: 35000 | E9: 1.0312558 | F9: 0.94789297 | H9: 3308.4805 | I9: 37401 | J9: Hudiksvall-Nordanstig
B10: Ljusdal | C10: 58965 | D10: 57000 | E10: 3.0988543 | F10: 3.0080743 | G10: Subventionerar lokal | H10: 1690.087 | I10: 19028 | J10: Ljusdal
B11: Nordanstig | C11: 10000 | D11: 10000 | E11: 1.0547411 | F11: 1.0534078 | H11: 669.92322 | I11: 9481 | J11: Hudiksvall-Nordanstig
B12: Ockelbo 1 | C12: 0 | D12: 6000 | E12: 0 | F12: 1.0407632 | H12: 590.00256 | I12: 5896 | J12: Gästrike Västra
B13: Ovanåker | C13: 29000 | D13: 34000 | E13: 2.4980618 | F13: 2.9741078 | H13: 547.69162 | I13: 11609 | J13: Bollnäs-Ovanåker
B14: Sandviken | C14: 80000 | D14: 85000 | E14: 2.0377493 | F14: 2.2467158 | H14: 3081.6468 | I14: 39259 | J14: Gästrike Västra
B15: Söderhamn | C15: 20000 | D15: 20000 | E15: 0.77573501 | F15: 0.78566939 | H15: 2719.6532 | I15: 25782 | J15: Söderhamn
B16: HELA LÄNET | C16: =SUM(C6:C15) -> 565635 | E16: =SUM(C16/I16) -> 1.9802582 | H16: =SUM(H6:H15) -> 27616.116 | I16: =SUM(I6:I15) -> 285637
B18: * Alla anmälda brott under Brottsbalken samt lag (1988:688) om kontaktförbud (se utförligare förklaring under INFO).
B19: 1. Jouren har avtal med kommunen om viss bidragsnivå, men utbetalning av bidraget gjordes aldrig.

Sheet Halland
B2: Hallands läns kommuner
B4: Kommun | C4: Kommunbidrag i kronor | E4: Kommunbidrag per invånare (kr) | G4: Övrigt (kommunen betalar/subventionerar lokal, tjänst eller övrigt) | H4: Anmälda brott där det kan finnas enskilda brottsutsatta* 180101 | I4: Invånare 180101 | J4: Brottsofferjour
C5: 2018 | D5: 2015 | E5: 2018 | F5: 2015
B6: Falkenberg | C6: 20000 | D6: 25000 | E6: 0.45253988 | F6: 0.58916409 | G6: Subventionerar lokal | H6: 5080.5639 | I6: 44195 | J6: Falkenberg
B7: Halmstad | C7: 100000 | D7: 100000 | E7: 1.0024862 | F7: 1.0467697 | H7: 12834.072 | I7: 99752 | J7: Södra Halland
B8: Hylte | C8: 15000 | D8: 5100 | E8: 1.3648772 | F8: 0.49620549 | H8: 1288.5298 | I8: 10990 | J8: Södra Halland
B9: Kungsbacka | C9: 50000 | D9: 100000 | E9: 0.60986022 | F9: 1.2784618 | G9: Subventionerar telefon | H9: 5556.0458 | I9: 81986 | J9: Kungsbacka
B10: Laholm | C10: 15000 | D10: 15000 | E10: 0.59649262 | F10: 0.63075565 | H10: 2436.5166 | I10: 25147 | J10: Södra Halland
B11: Varberg | C11: 135000 | D11: 162536 | E11: 2.151223 | F11: 2.6900136 | H11: 5207.9721 | I11: 62755 | J11: Varberg
B12: HELA LÄNET | C12: =SUM(C6:C11) -> 335000 | E12: =SUM(C12/I12) -> 1.0313246 | H12: =SUM(H6:H11) -> 32403.7 | I12: =SUM(I6:I11) -> 324825
B14: * Alla anmälda brott under Brottsbalken samt lag (1988:688) om kontaktförbud (se utförligare förklaring under INFO).

Sheet Jämtland
B2: Jämtlands läns kommuner 1
B4: Kommun | C4: Kommunbidrag i kronor | E4: Kommunbidrag per invånare (kr) | G4: Övrigt (kommunen betalar/subventionerar lokal, tjänst eller övrigt) | H4: Anmälda brott där det kan finnas enskilda brottsutsatta* 180101 | I4: Invånare 180101 | J4: Brottsofferjour
C5: 2018 | D5: 2015 | E5: 2018 | F5: 2015
B6: Berg | C6: 30900 | D6: 25760 | E6: 4.3386689 | F6: 3.6451111 | H6: 505.92246 | I6: 7122 | J6: Jämtland
B7: Bräcke | C7: 23000 | D7: 23460 | E7: 3.5379172 | F7: 3.6298932 | H7: 415.38897 | I7: 6501 | J7: Jämtland
B8: Härjedalen | C8: 35880 | D8: 36800 | E8: 3.5335828 | F8: 3.599374 | H8: 774.32764 | I8: 10154 | J8: Jämtland
B9: Krokom | C9: 65040 | D9: 53360 | E9: 4.3577889 | F9: 3.6428181 | H9: 826.51754 | I9: 14925 | J9: Jämtland
B10: Ragunda | C10: 19320 | D10: 19780 | E10: 3.5488611 | F10: 3.6360294 | H10: 399.41247 | I10: 5444 | J10: Jämtland
B11: Strömsund | C11: 53060 | D11: 43240 | E11: 4.5000424 | F11: 3.6418765 | H11: 750.89545 | I11: 11791 | J11: Jämtland
B12: Åre | C12: 51200 | D12: 38180 | E12: 4.543841 | F12: 3.617243 | H12: 1172.675 | I12: 11268 | J12: Jämtland
B13: Östersund | C13: 220000 | D13: 300620 | E13: 3.5143209 | F13: 4.9693363 | H13: 5722.7819 | I13: 62601 | J13: Jämtland
B14: HELA LÄNET | C14: =SUM(C6:C13) -> 498400 | E14: =SUM(C14/I14) -> 3.839576 | H14: =SUM(H6:H13) -> 10567.921 | I14: =SUM(I6:I13) -> 129806
B16: * Alla anmälda brott under Brottsbalken samt lag (1988:688) om kontaktförbud (se utförligare förklaring under INFO).
B18: 1. Primärkommunala nämnden tog beslut om att tillskjuta ett grundbidrag om 460 000 kr. Bördan för detta bidrag delas mellan de åtta kommuner jouren är verksam i och fördelningen sker utifrån invånarantal. Samma nämnd uppmanar också kommunerna att utbetala ett extra verksamhetsstöd om 140 000 kr, detta fördelas mellan kommunerna utifrån antal hjälpsökande / kommun.

Sheet Jönköping
B2: Jönköpings läns kommuner
B4: Kommun | C4: Kommunbidrag i kronor | E4: Kommunbidrag per invånare (kr) | G4: Övrigt (kommunen betalar/subventionerar lokal, tjänst eller övrigt) | H4: Anmälda brott där det kan finnas enskilda brottsutsatta* 180101 | I4: Invånare 180101 | J4: Brottsofferjour
C5: 2018 | D5: 2015 | E5: 2018 | F5: 2015
B6: Aneby | C6: 6445 | D6: 6378 | E6: 0.95115112 | F6: 0.99253035 | H6: 709.34966 | I6: 6776 | J6: Höglandskommunerna
B7: Eksjö | C7: 16683 | D7: 16474 | E7: 0.95791226 | F7: 0.99252922 | H7: 1730.2713 | I7: 17416 | J7: Höglandskommunerna
B8: Gislaved | C8: 59240 | D8: 57000 | E8: 1.9993925 | F8: 1.9835056 | H8: 2153.9107 | I8: 29629 | J8: Småland West
B9: Gnosjö | C9: 19466 | D9: 19018 | E9: 2 | F9: 2 | H9: 592.35622 | I9: 9733 | J9: Småland West
B10: Habo | C10: 20000 | D10: 16500 | E10: 1.6884762 | F10: 1.4851485 | H10: 483.98336 | I10: 11845 | J10: Jönköping
B11: Jönköping | C11: 270000 | D11: 197000 | E11: 1.9639077 | F11: 1.490843 | H11: 14217.781 | I11: 137481 | J11: Jönköping
B12: Mullsjö | C12: 15000 | D12: 10000 | E12: 2.0469432 | F12: 1.4066676 | H12: 614.5234 | I12: 7328 | J12: Jönköping
B13: Nässjö | C13: 29756 | D13: 29683 | E13: 0.95439092 | F13: 0.99251011 | H13: 2901.4371 | I13: 31178 | J13: Höglandskommunerna
B14: Sävsjö | C14: 10986 | D14: 11017 | E14: 0.95563674 | F14: 0.99252252 | H14: 901.46519 | I14: 11496 | J14: Höglandskommunerna
B15: Tranås | C15: 18000 | D15: 18000 | E15: 0.95268339 | F15: 0.97741095 | H15: 1580.0271 | I15: 18894 | J15: Höglandskommunerna
B16: Vaggeryd | C16: 27680 | D16: 26418 | E16: 2 | F16: 1.9969763 | H16: 944.56803 | I16: 13840 | J16: Småland West
B17: Vetlanda | C17: 26129 | D17: 26448 | E17: 0.95309137 | F17: 0.99253199 | H17: 2059.0844 | I17: 27415 | J17: Höglandskommunerna
B18: Värnamo | C18: 68412 | D18: 66000 | E18: 2 | F18: 1.9799604 | H18: 3025.8196 | I18: 34206 | J18: Småland West
B19: HELA LÄNET | C19: =SUM(C6:C18) -> 587797 | E19: =SUM(C19/I19) -> 1.6453979 | H19: =SUM(H6:H18) -> 31914.577 | I19: =SUM(I6:I18) -> 357237
B21: * Alla anmälda brott under Brottsbalken samt lag (1988:688) om kontaktförbud (se utförligare förklaring under INFO).

Sheet Kalmar
B2: Kalmar läns kommuner
B4: Kommun | C4: Kommunbidrag i kronor | E4: Kommunbidrag per invånare (kr) | G4: Övrigt (kommunen betalar/subventionerar lokal, tjänst eller övrigt) | H4: Anmälda brott där det kan finnas enskilda brottsutsatta* 180101 | I4: Invånare 180101 | J4: Brottsofferjour
C5: 2018 | D5: 2015 | E5: 2018 | F5: 2015
B6: Borgholm | C6: 32265 | D6: 31857 | E6: 2.9718154 | F6: 2.9825859 | H6: 1026.2509 | I6: 10857 | J6: Södra Kalmar län
B7: Emmaboda | C7: 27558 | D7: 26892 | E7: 2.9417165 | F7: 2.985015 | H7: 1041.1045 | I7: 9368 | J7: Södra Kalmar län
B8: Hultsfred | C8: 43689 | D8: 30000 | E8: 2.9967076 | F8: 2.183724 | H8: 1336.8268 | I8: 14579 | J8: Vimmerby-Hultsfred-Västervik
B9: Högsby 1 | C9: 0 | D9: 0 | E9: 0 | F9: 0 | H9: 729.17828 | I9: 6087 | J9: Oskarshamn-Mönsterås-Högsby
B10: Kalmar | C10: 197301 | D10: 191661 | E10: 2.9251012 | F10: 2.9634022 | H10: 7235.0689 | I10: 67451 | J10: Södra Kalmar län
B11: Mönsterås 1 | C11: 0 | D11: 0 | E11: 0 | F11: 0 | H11: 1332.7758 | I11: 13498 | J11: Oskarshamn-Mönsterås-Högsby
B12: Mörbylånga | C12: 44130 | D12: 43104 | E12: 2.942 | F12: 2.9730997 | H12: 750.78356 | I12: 15000 | J12: Södra Kalmar län
B13: Nybro | C13: 59667 | D13: 29571 | E13: 2.9239929 | F13: 1.5 | H13: 1939.0741 | I13: 20406 | J13: Södra Kalmar län
B14: Oskarshamn 1 | C14: 0 | D14: 0 | E14: 0 | F14: 0 | H14: 2467.0532 | I14: 26928 | J14: Oskarshamn-Mönsterås-Högsby
B15: Torsås | C15: 21207 | D15: 13000 | E15: 2.9940703 | F15: 1.8772563 | H15: 772.38884 | I15: 7083 | J15: Södra Kalmar län
B16: Vimmerby | C16: 46908 | D16: 30574 | E16: 2.9824517 | F16: 1.9986926 | H16: 1484.0128 | I16: 15728 | J16: Vimmerby-Hultsfred-Västervik
B17: Västervik | C17: 108000 | D17: 72000 | E17: 2.9547755 | F17: 2.0044543 | H17: 3682.3503 | I17: 36551 | J17: Vimmerby-Hultsfred-Västervik
B18: HELA LÄNET | C18: =SUM(C6:C17) -> 580725 | E18: =SUM(C18/I18) -> 2.3845551 | H18: 23796.868 | I18: =SUM(I6:I17) -> 243536
B20: * Alla anmälda brott under Brottsbalken samt lag (1988:688) om kontaktförbud (se utförligare förklaring under INFO).
B22: 1. Jouren har inte ansökt om kommunbidrag.

Sheet Kronoberg
B2: Kronobergs läns kommuner
B4: Kommun | C4: Kommunbidrag i kronor | E4: Kommunbidrag per invånare (kr) | G4: Övrigt (kommunen betalar/subventionerar lokal, tjänst eller övrigt) | H4: Anmälda brott där det kan finnas enskilda brottsutsatta* 180101 | I4: Invånare 180101 | J4: Brottsofferjour
C5: 2018 | D5: 2015 | E5: 2018 | F5: 2015
B6: Alvesta | C6: 43754 | D6: 38000 | E6: 2.18 | F6: 1.9484182 | H6: 1740.5756 | I6: 20026 | J6: Växjö
B7: Lessebo | C7: 18461 | D7: 12000 | E7: 2.0964115 | F7: 1.4534884 | H7: 722.42662 | I7: 8806 | J7: Växjö
B8: Ljungby | C8: 55000 | D8: 55000 | E8: 1.9436689 | F8: 1.9984013 | H8: 2758.7245 | I8: 28297 | J8: Sunnerbo
B9: Markaryd | C9: 15000 | D9: 15000 | E9: 1.4749263 | F9: 1.5708451 | H9: 1105.9204 | I9: 10170 | J9: Sunnerbo
B10: Tingsryd | C10: 24822 | D10: 12000 | E10: 1.9935748 | F10: 0.98376783 | H10: 1027.6012 | I10: 12451 | J10: Växjö
B11: Uppvidinge | C11: 19516 | D11: 13900 | E11: 2.0412091 | F11: 1.5072652 | H11: 664.36243 | I11: 9561 | J11: Växjö
B12: Växjö | C12: 192000 | D12: 165000 | E12: 2.1084999 | F12: 1.8972059 | H12: 9811.4988 | I12: 91060 | J12: Växjö
B13: Älmhult 1 | C13: 0 | D13: 23862 | E13: 0 | F13: 1.5 | H13: 1415.146 | I13: 17148 | J13: Älmhult
B14: HELA LÄNET | C14: =SUM(C6:C13) -> 368553 | E14: =SUM(C14/I14) -> 1.8659116 | H14: =SUM(H6:H13) -> 19246.255 | I14: =SUM(I6:I13) -> 197519
B16: * Alla anmälda brott under Brottsbalken samt lag (1988:688) om kontaktförbud (se utförligare förklaring under INFO).
B17: 1. Jouren har inte ansökt om kommunbidrag.

Sheet Norrbotten
B2: Norrbottens läns kommuner
B4: Kommun | C4: Kommunbidrag i kronor | E4: Kommunbidrag per invånare (kr) | G4: Övrigt (kommunen betalar/subventionerar lokal, tjänst eller övrigt) | H4: Anmälda brott där det kan finnas enskilda brottsutsatta* 180101 | I4: Invånare 180101 | J4: Brottsofferjour
C5: 2018 | D5: 2015 | E5: 2018 | F5: 2015
B6: Arjeplog 1 | C6: 0 | D6: 0 | E6: 0 | F6: 0 | H6: 203.43409 | I6: 2821 | J6: Piteå-Älvdal
B7: Arvidsjaur 1 | C7: 0 | D7: 0 | E7: 0 | F7: 0 | H7: 553.85196 | I7: 6440 | J7: Piteå-Älvdal
B8: Boden | C8: 35000 | D8: 30000 | E8: 1.2419715 | F8: 1.0757701 | H8: 2603.1042 | I8: 28181 | J8: Boden
B9: Gällivare 2 | C9: 0 | D9: 0 | E9: 0 | F9: 0 | H9: 1446.4057 | I9: 17825
B10: Haparanda 2 | C10: 0 | D10: 0 | E10: 0 | F10: 0 | H10: 875.51214 | I10: 9805
B11: Jokkmokk 2 | C11: 0 | D11: 0 | E11: 0 | F11: 0 | H11: 484.62047 | I11: 5081
B12: Kalix 2 | C12: 0 | D12: 0 | E12: 0 | F12: 0 | H12: 1524.158 | I12: 16169
B13: Kiruna 2 | C13: 0 | D13: 0 | E13: 0 | F13: 0 | H13: 1698.8344 | I13: 23116
B14: Luleå 3 | C14: 982000 | D14: 785000 | E14: 12.675875 | F14: 10.33 | G14: Subventionerar lokal | H14: 7789.0757 | I14: 77470 | J14: Luleå
B15: Pajala 2 | C15: 0 | D15: 0 | E15: 0 | F15: 0 | H15: 271.60048 | I15: 6101
B16: Piteå | C16: 65700 | D16: 45000 | E16: 1.5574625 | F16: 1.0841284 | H16: 2903.4624 | I16: 42184 | J16: Piteå-Älvdal
B17: Älvsbyn | C17: 8000 | D17: 8000 | E17: 0.96688422 | F17: 0.97907233 | H17: 657.16665 | I17: 8274 | J17: Piteå-Älvdal
B18: Överkalix 2 | C18: 0 | D18: 0 | E18: 0 | F18: 0 | H18: 287.57698 | I18: 3367
B19: Övertorneå 2 | C19: 0 | D19: 0 | E19: 0 | F19: 0 | H19: 319.52998 | I19: 4461
B20: HELA LÄNET** | C20: =SUM(C6:C19) -> 1090700 | E20: 4.3403172 | H20: =SUM(H6:H8,H14,H16,H17) -> 14710.095 | I20: =SUM(I6:I8,I14,I16,I17) -> 165370
B22: * Alla anmälda brott under Brottsbalken samt lag (1988:688) om kontaktförbud (se utförligare förklaring under INFO).
B23: ** Sammanräkningen gäller enbart kommuner som samverkar med Brottsofferjouren, dvs i det här fallet är inte skuggmarkerade kommuner noten 2 medräknade.
B24: 1. Jouren har ansökt om bidrag och fått avslag från kommunen.
B25: 2. Kommunen samverkar inte med Brottsofferjouren för brottsofferstödjande verksamhet.
B26: 3. Luleå brottsofferjour får även hela lokalhyran betald genom att kommunen hyr lokalen av fastighetsbolaget. Jouren driver inom ramen för bidragen både Stödcentrum för unga och en brottsofferjour för vuxna stödsökande.

Sheet Skåne
B2: Skåne läns kommuner
B4: Kommun | C4: Kommunbidrag i kronor | E4: Kommunbidrag per invånare (kr) | G4: Övrigt (kommunen betalar/subventionerar lokal, tjänst eller övrigt) | H4: Anmälda brott där det kan finnas enskilda brottsutsatta* 180101 | I4: Invånare 180101 | J4: Brottsofferjour
C5: 2018 | D5: 2015 | E5: 2018 | F5: 2015
B6: Bjuv | C6: 40000 | D6: 40000 | E6: 2.5925206 | F6: 2.6856452 | H6: 1960.6794 | I6: 15429 | J6: Helsingborg
B7: Bromölla | C7: 38097 | D7: 37329 | E7: 3 | F7: 3.0104032 | H7: 1243.6541 | I7: 12699 | J7: Nordöstra Skåne
B8: Burlöv 1 | C8: 0 | D8: 0 | E8: 0 | F8: 0 | H8: 2487.3081 | I8: 18073
B9: Båstad | C9: 53128 | D9: 53164 | E9: 3.5907002 | F9: 3.6870795 | H9: 1894.5132 | I9: 14796 | J9: Ängelholm
B10: Eslöv | C10: 99354 | D10: 96630 | E10: 2.9893489 | F10: 3.0028901 | H10: 4042.8884 | I10: 33236 | J10: Mellersta Skåne
B11: Helsingborg | C11: 1465000 | D11: 900000 | E11: 10.223022 | F11: 6.6497222 | H11: 23559.21 | I11: 143304 | J11: Helsingborg
B12: Hässleholm | C12: 300000 | D12: 150000 | E12: 5.7688979 | F12: 2.9664788 | H12: 5929.2996 | I12: 52003 | J12: Hässleholm-Osby-Perstorp
B13: Höganäs | C13: 50000 | D13: 0 | E13: 1.908907 | F13: 0 | H13: 1957.9787 | I13: 26193 | J13: Helsingborg
B14: Hörby | C14: 46614 | D14: 44775 | E14: 2.9972994 | F14: 2.999598 | H14: 2064.6548 | I14: 15552 | J14: Mellersta Skåne
B15: Höör | C15: 49380 | D15: 47298 | E15: 2.9967229 | F15: 2.9992391 | H15: 2016.0429 | I15: 16478 | J15: Mellersta Skåne
B16: Klippan | C16: 57219 | D16: 62252 | E16: 3.2767724 | F16: 3.7203132 | H16: 2457.6009 | I16: 17462 | J16: Ängelholm
B17: Kristianstad | C17: 420175 | D17: 410000 | E17: 4.9931076 | F17: 5.0106323 | H17: 10700.016 | I17: 84151 | J17: Nordöstra Skåne
B18: Kävlinge | C18: 92562 | D18: 89409 | E18: 2.9898253 | F18: 2.9994968 | H18: 2753.3232 | I18: 30959 | J18: Mellersta Skåne
B19: Landskrona | C19: 158502 | D19: 17055 | E19: 3.5000221 | F19: 0.39140313 | H19: 6620.6687 | I19: 45286 | J19: Landskrona-Svalöv
B20: Lomma | C20: 70639 | D20: 68763 | E20: 2.9112677 | F20: 2.9967315 | H20: 1783.7861 | I20: 24264 | J20: Mellersta Skåne
B21: Lund | C21: 363492 | D21: 347754 | E21: 2.9972789 | F21: 2.9987065 | H21: 15056.181 | I21: 121274 | J21: Mellersta Skåne
B22: Malmö 1 | C22: 0 | D22: 0 | E22: 0 | F22: 0 | H22: 64829.35 | I22: 333633
B23: Osby | C23: 64200 | D23: 64000 | E23: 4.8702777 | F23: 4.9890864 | H23: 1269.3103 | I23: 13182 | J23: Hässleholm-Osby-Perstorp
B24: Perstorp | C24: 22100 | D24: 21300 | E24: 3.0129516 | F24: 2.9690549 | H24: 1004.6456 | I24: 7335 | J24: Hässleholm-Osby-Perstorp
B25: Simrishamn 2 3 | C25: 0 | D25: 243000 | E25: 0 | F25: 12.853742 | H25: 1775.6841 | I25: 19376 | J25: Freezonen
B26: Sjöbo 3 | C26: 218000 | D26: 218000 | E26: 11.430968 | F26: 11.838175 | H26: 1747.3272 | I26: 19071 | J26: Freezonen
B27: Skurup 3 | C27: 218000 | D27: 218000 | E27: 13.936837 | F27: 14.37331 | H27: 1563.6823 | I27: 15642 | J27: Freezonen
B28: Staffanstorp | C28: 72504 | D28: 69012 | E28: 3.0001241 | F28: 3.0013047 | H28: 2229.3951 | I28: 24167 | J28: Mellersta Skåne
B29: Svalöv | C29: 56000 | D29: 0 | E29: 3.9928699 | F29: 0 | H29: 1583.9373 | I29: 14025 | J29: Landskrona-Svalöv
B30: Svedala | C30: 21074 | D30: 10000 | E30: 1 | F30: 0.49387594 | H30: 1993.0873 | I30: 21074 | J30: Söderslätt
B31: Tomelilla 3 | C31: 218000 | D31: 231000 | E31: 16.249255 | F31: 17.759668 | H31: 1849.9523 | I31: 13416 | J31: Freezonen
B32: Trelleborg | C32: 44625 | D32: 43100 | E32: 1.0006727 | F32: 1.0029553 | H32: 4489.8477 | I32: 44595 | J32: Söderslätt
B33: Vellinge | C33: 35790 | D33: 33000 | E33: 1 | F33: 0.96745822 | H33: 2350.9248 | I33: 35790 | J33: Söderslätt
B34: Ystad 3 | C34: 218000 | D34: 218000 | E34: 7.3036719 | F34: 7.5770741 | H34: 3043.6441 | I34: 29848 | J34: Freezonen
... B38: Östra Göinge | C38: 44145 | D38: 41700 | E38: 3 | F38: 3.00779 | H38: 1435.4009 | I38: 14715 | J38: Nordöstra Skåne
B39: HELA LÄNET** | C39: =SUM(C6:C38) -> 4767268 | E39: =SUM(C39/I39) -> 4.8009563 | H39: =SUM(H6:H7,H9:H21,H23:H38) -> 118677.82 | I39: =SUM(I6:I7,I9:I21,I23:I38) -> 992983
B41: * Alla anmälda brott under Brottsbalken samt lag (1988:688) om kontaktförbud (se utförligare förklaring under INFO).
B42: ** Sammanräkningen gäller enbart kommuner som samverkar med Brottsofferjouren, dvs i det här fallet är inte Malmö och Burlöv medräknade.
B43: 1. Kommunen samverkar inte med Brottsofferjouren. Malmö kommun har brottsofferstödjande verksamhet i egen regi.
B44: 2. Kommunen har avslagit jourens ansökan om bidrag.
B45: 3. Brottsofferjouren Freezonen som har hand om de här kommunerna är både brottsofferjour och kvinnojour.

Sheet Stockholm
B2: Stockholms läns kommuner
B4: Kommun | C4: Kommunbidrag i kronor | E4: Kommunbidrag per invånare (kr) | G4: Övrigt (kommunen betalar/subventionerar lokal, tjänst eller övrigt) | H4: Anmälda brott där det kan finnas enskilda brottsutsatta* 180101 | I4: Invånare 180101 | J4: Brottsofferjour
C5: 2018 | D5: 2015 | E5: 2018 | F5: 2015
B6: Botkyrka | C6: 320000 | D6: 265100 | E6: 3.4810987 | F6: 2.9819687 | H6: 12059.138 | I6: 91925 | J6: Huddinge-Botkyrka
B7: Danderyd | C7: 40000 | D7: 35000 | E7: 1.2162491 | F7: 1.0837591 | H7: 4345.6354 | I7: 32888 | J7: Roslagen
B8: Ekerö | C8: 84000 | D8: 81000 | E8: 3.0266998 | F8: 3.0339351 | H8: 2250.5947 | I8: 27753 | J8: Västerort
B9: Haninge | C9: 349620 | D9: 330000 | E9: 3.9712848 | F9: 4.0045142 | G9: Subventionerar lokal | H9: 11480.132 | I9: 88037 | J9: Haninge-Nynäshamn
B10: Huddinge | C10: 350000 | D10: 313000 | E10: 3.1817314 | F10: 3.0042712 | H10: 14239.363 | I10: 110003 | J10: Huddinge-Botkyrka
B11: Järfälla | C11: 197000 | D11: 184156 | E11: 2.5767465 | F11: 2.6047156 | H11: 10613.474 | I11: 76453 | J11: Stockholm-Gotland
B12: Lidingö | C12: 90000 | D12: 30000 | E12: 1.9073858 | F12: 0.65984823 | H12: 3874.0352 | I12: 47185 | J12: Stockholm-Gotland
B13: Nacka | C13: 397436 | D13: 377792 | E13: 3.9260306 | F13: 3.9264579 | H13: 9869.0368 | I13: 101231 | J13: Nacka-Tyresö-Värmdö
B14: Norrtälje | C14: 61500 | D14: 57568 | E14: 1.0113801 | F14: 1 | H14: 7113.5089 | I14: 60808 | J14: Roslagen
B15: Nykvarn 1 | C15: 0 | D15: 0 | E15: 0 | F15: 0 | H15: 751.84431 | I15: 10660
B16: Nynäshamn | C16: 112436 | D16: 108000 | E16: 4 | F16: 3.9939351 | H16: 3374.0402 | I16: 28109 | J16: Haninge-Nynäshamn
B17: Salem | C17: 25000 | D17: 25000 | E17: 1.50015 | F17: 1.5489467 | H17: 1470.3556 | I17: 16665 | J17: Södertälje
B18: Sigtuna | C18: 173000 | D18: 115000 | E18: 3.6694523 | F18: 2.608597 | H18: 8980.1569 | I18: 47146 | J18: Stockholm-Gotland
B19: Sollentuna | C19: 140000 | D19: 180000 | E19: 1.9485581 | F19: 2.5964659 | H19: 9403.6094 | I19: 71848 | J19: Stockholm-Gotland
B20: Solna | C20: 235000 | D20: 220000 | E20: 2.9482981 | F20: 2.9713267 | H20: 13275.176 | I20: 79707 | J20: Västerort
B21: Stockholm 3 | C21: 2102000 | D21: 2050000 | E21: 2.21 | F21: 2.2478341 | H21: 213521 | I21: 949761 | J21: flera jourer, se not 3
B22: Sundbyberg | C22: 136000 | D22: 125000 | E22: 2.7516996 | F22: 2.83511 | H22: 7748.0704 | I22: 49424 | J22: Västerort
B23: Södertälje | C23: 310000 | D23: 300000 | E23: 3.2280906 | F23: 3.2525614 | H23: 15659.102 | I23: 96032 | J23: Södertälje
B24: Tyresö | C24: 188800 | D24: 181600 | E24: 3.9912058 | F24: 4.0008813 | H24: 5364.1437 | I24: 47304 | J24: Nacka-Tyresö-Värmdö
B25: Täby | C25: 70232 | D25: 65000 | E25: 0.99754279 | F25: 0.96533698 | H25: 6485.1201 | I25: 70405 | J25: Roslagen
B26: Upplands Väsby | C26: 165000 | D26: 145000 | E26: 3.6991369 | F26: 3.4675722 | H26: 6459.1945 | I26: 44605 | J26: Stockholm-Gotland
B27: Upplands-Bro | C27: 70000 | D27: 0 | E27: 2.534946 | F27: 0 | H27: 4201.1924 | I27: 27614 | J27: Stockholm-Gotland
... B31: Österåker | C31: 35200 | D31: 41000 | E31: 0.79764333 | F31: 0.99562895 | H31: 4775.2608 | I31: 44130 | J31: Roslagen
B32: HELA LÄNET** | C32: =SUM(C6:C31) -> 5839224 | E32: =SUM(C32/I32) -> 2.5415744 | H32: =SUM(H6:H14,H16:H31) -> 384134.1 | I32: =SUM(I6:I14,I16:I31) -> 2297483
B34: * Alla anmälda brott under Brottsbalken samt lag (1988:688) om kontaktförbud (se utförligare förklaring under INFO).
B35: ** Sammanräkningen gäller enbart kommuner som samverkar med Brottsofferjouren, dvs i det här fallet är inte Nykvarn medräknat.
B36: 1. Kommunen har avslagit Södertäljejourens ansökan om bidrag. Kommunen samverkar inte med Brottsofferjouren.
B37: 2. Stockholms kommun har tre jourer som verkar i olika stadsdelar inom dess område: Stockholm-Gotland, Västerort och Södra Stockholm. För uträkning av vad det här innebär i bidrag per invånare för varje jour verksam i Stockholms kommun, var god se tabell för jourernas totala bidrag.

Sheet Södermanland
B2: Södermanlands läns kommuner
B4: Kommun | C4: Kommunbidrag i kronor | E4: Kommunbidrag per invånare (kr) | G4: Övrigt (kommunen betalar/subventionerar lokal, tjänst eller övrigt) | H4: Anmälda brott där det kan finnas enskilda brottsutsatta* 180101 | I4: Invånare 180101 | J4: Brottsofferjour
C5: 2018 | D5: 2015 | E5: 2018 | F5: 2015
B6: Eskilstuna | C6: 230000 | D6: 230000 | E6: 2.1965638 | F6: 2.2789652 | G6: Subventionerar lokal | H6: 15140.182 | I6: 104709 | J6: Eskilstuna
B7: Flen | C7: 55150 | D7: 41750 | E7: 3.2702799 | F7: 2.5704962 | H7: 1834.9496 | I7: 16864 | J7: Katrineholm-Flen-Vingåker
B8: Gnesta | C8: 10988 | D8: 10500 | E8: 0.99718668 | F8: 0.99876344 | H8: 779.54572 | I8: 11019 | J8: Östra Sörmland
B9: Katrineholm | C9: 165000 | D9: 165000 | E9: 4.8340316 | F9: 4.9597211 | H9: 4535.6507 | I9: 34133 | J9: Katrineholm-Flen-Vingåker
B10: Nyköping | C10: 110640 | D10: 106960 | E10: 1.9946996 | F10: 1.9989534 | H10: 6962.9565 | I10: 55467 | J10: Östra Sörmland
B11: Oxelösund | C11: 19750 | D11: 9000 | E11: 1.6447368 | F11: 0.77915332 | H11: 1296.7798 | I11: 12008 | J11: Östra Sörmland
B12: Strängnäs 1 | C12: 0 | D12: 84620 | E12: 0 | F12: 2.4977862 | H12: 3912.5067 | I12: 35045 | J12: Strängnäs
B13: Trosa 2 | C13: 12900 | D13: 0 | E13: 0.99876123 | F13: 0 | H13: 985.20786 | I13: 12916 | J13: Östra Sörmland
B14: Vingåker | C14: 51000 | D14: 53145 | E14: 5.5555556 | F14: 5.9586276 | H14: 855.89932 | I14: 9180 | J14: Katrineholm-Flen-Vingåker
B15: HELA LÄNET | C15: =SUM(C6:C14) -> 655428 | E15: =SUM(C15/I15) -> 2.2496937 | H15: =SUM(H6:H14) -> 36303.678 | I15: =SUM(I6:I14) -> 291341
B17: * Alla anmälda brott under Brottsbalken samt lag (1988:688) om kontaktförbud (se utförligare förklaring under INFO).
B19: 1. Kommunen har inte svarat på jourens ansökan.
B20: 2. Södertäljejouren, som också är verksam i Trosa, ansökte om kommunbidrag men fick inte svar från kommunen.

Sheet Uppsala
B2: Uppsala läns kommuner
B4: Kommun | C4: Kommunbidrag i kronor | E4: Kommunbidrag per invånare (kr) | G4: Övrigt (kommunen betalar/subventionerar lokal, tjänst eller övrigt) | H4: Anmälda brott där det kan finnas enskilda brottsutsatta* 180101 | I4: Invånare 180101 | J4: Brottsofferjour
C5: 2018 | D5: 2015 | E5: 2018 | F5: 2015
B6: Enköping | C6: 240000 | D6: 240000 | E6: 5.4798274 | F6: 5.8304788 | H6: 3979.579 | I6: 43797 | J6: Enköping
B7: Heby | C7: 27510 | D7: 10000 | E7: 1.9857081 | F7: 0.74128984 | H7: 1061.2994 | I7: 13854 | J7: Uppsala län
B8: Håbo | C8: 80000 | D8: 50000 | E8: 3.7945264 | F8: 2.4957572 | H8: 1822.8964 | I8: 21083 | J8: Uppsala län
B9: Knivsta | C9: 69400 | D9: 48300 | E9: 3.8418955 | F9: 2.9990686 | H9: 1098.9091 | I9: 18064 | J9: Uppsala län
B10: Tierp | C10: 80800 | D10: 0 | E10: 3.8604873 | F10: 0 | H10: 1492.636 | I10: 20930 | J10: Uppsala län
B11: Uppsala | C11: 430000 | D11: 390000 | E11: 1.9553098 | F11: 1.8807689 | H11: 23491.974 | I11: 219914 | J11: Uppsala län
B12: Älvkarleby | C12: 18000 | D12: 18000 | E12: 1.9144863 | F12: 1.9631367 | H12: 651.11836 | I12: 9402 | J12: Uppsala län
B13: Östhammar | C13: 86400 | D13: 28400 | E13: 3.9403475 | F13: 1.3287171 | H13: 1375.1056 | I13: 21927 | J13: Uppsala län
B14: HELA LÄNET | C14: =SUM(C6:C13) -> 1032110 | E14: =SUM(C14/I14) -> 2.7972659 | H14: =SUM(H6:H13) -> 34973.518 | I14: =SUM(I6:I13) -> 368971
B16: * Alla anmälda brott under Brottsbalken samt lag (1988:688) om kontaktförbud (se utförligare förklaring under INFO).

Sheet Värmland
B2: Värmlands läns kommuner
B4: Kommun | C4: Kommunbidrag i kronor | E4: Kommunbidrag per invånare (kr) | G4: Övrigt (kommunen betalar/subventionerar lokal, tjänst eller övrigt) | H4: Anmälda brott där det kan finnas enskilda brottsutsatta* 180101 | I4: Invånare 180101 | J4: Brottsofferjour
C5: 2018 | D5: 2015 | E5: 2018 | F5: 2015
B6: Arvika | C6: 95000 | D6: 95000 | E6: 3.6454336 | F6: 3.6863141 | H6: 2329.5939 | I6: 26060 | J6: Värmland
B7: Eda | C7: 13000 | D7: 10800 | E7: 1.5084706 | F7: 1.2776529 | H7: 1127.9708 | I7: 8618 | J7: Värmland
B8: Filipstad | C8: 50000 | D8: 44000 | E8: 4.6369285 | F8: 4.1458589 | H8: 1293.0064 | I8: 10783 | J8: Östra Värmland
B9: Forshaga | C9: 46000 | D9: 44800 | E9: 3.996872 | F9: 3.9370771 | H9: 964.29911 | I9: 11509 | J9: Värmland
B10: Grums | C10: 55000 | D10: 54000 | E10: 6.1036511 | F10: 6.0281313 | H10: 877.00754 | I10: 9011 | J10: Värmland
B11: Hagfors | C11: 47128 | D11: 47684 | E11: 4 | F11: 4 | H11: 975.21056 | I11: 11782 | J11: Värmland
B12: Hammarö | C12: 97044 | D12: 90816 | E12: 6 | F12: 5.9528055 | H12: 676.5097 | I12: 16174 | J12: Värmland
B13: Karlstad | C13: 541000 | D13: 526000 | E13: 5.9372256 | F13: 5.9535937 | H13: 9486.1391 | I13: 91120 | J13: Värmland
B14: Kil | C14: 39200 | D14: 38125 | E14: 3.2913518 | F14: 3.207825 | H14: 842.90927 | I14: 11910 | J14: Värmland
B15: Kristinehamn | C15: 310275 | D15: 98296 | E15: 12.587221 | F15: 4.0763042 | H15: 3021.1068 | I15: 24650 | J15: Östra Värmland
B16: Munkfors | C16: 14952 | D16: 21000 | E16: 3.9734255 | F16: 5.7439825 | H16: 380.53671 | I16: 3763 | J16: Värmland
B17: Storfors | C17: 42000 | D17: 42000 | E17: 10.186757 | F17: 10.228933 | H17: 339.61878 | I17: 4123 | J17: Östra Värmland
... B21: Årjäng | C21: 29850 | D21: 39400 | E21: 3.0006031 | F21: 4.0187678 | H21: 703.78832 | I21: 9948 | J21: Värmland
B22: HELA LÄNET | C22: =SUM(C6:C21) -> 1612205 | E22: =SUM(C22/I22) -> 5.7496817 | H22: =SUM(H6:H21) -> 26393.426 | I22: =SUM(I6:I21) -> 280399
B24: * Alla anmälda brott under Brottsbalken samt lag (1988:688) om kontaktförbud (se utförligare förklaring under INFO).

Sheet Västerbotten
B2: Västerbottens läns kommuner
B4: Kommun | C4: Kommunbidrag i kronor | E4: Kommunbidrag per invånare (kr) | G4: Övrigt (kommunen betalar/subventionerar lokal, tjänst eller övrigt) | H4: Anmälda brott där det kan finnas enskilda brottsutsatta* 180101 | I4: Invånare 180101 | J4: Brottsofferjour
C5: 2018 | D5: 2015 | E5: 2018 | F5: 2015
B6: Bjurholm | C6: 7362 | D6: 0 | E6: 3.003672 | F6: 0 | H6: 200.23879 | I6: 2451 | J6: Umeåregionen
B7: Dorotea 1 | C7: 0 | D7: 0 | E7: 0 | F7: 0 | H7: 211.95488 | I7: 2646 | J7: Dorotea
B8: Lycksele 1 | C8: 0 | D8: 0 | E8: 0 | F8: 0 | H8: 1068.2952 | I8: 12257 | J8: Lycksele
B9: Malå 1 | C9: 0 | D9: 0 | E9: 0 | F9: 0 | H9: 145.91869 | I9: 3133 | J9: Skellefteå
B10: Nordmaling | C10: 21396 | D10: 0 | E10: 3.0122483 | F10: 0 | H10: 515.50836 | I10: 7103 | J10: Umeåregionen
B11: Norsjö 1 | C11: 0 | D11: 0 | E11: 0 | F11: 0 | H11: 252.42868 | I11: 4086 | J11: Skellefteå
B12: Robertsfors | C12: 20352 | D12: 0 | E12: 3 | F12: 0 | H12: 414.32387 | I12: 6784 | J12: Umeåregionen
B13: Skellefteå | C13: 20000 | D13: 28000 | E13: 0.27501616 | F13: 0.3887593 | H13: 6677.1114 | I13: 72723 | J13: Skellefteå
B14: Sorsele 1 | C14: 0 | D14: 0 | E14: 0 | F14: 0 | H14: 138.46299 | I14: 2516 | J14: Lycksele
B15: Storuman 1 | C15: 0 | D15: 0 | E15: 0 | F15: 0 | H15: 366.39437 | I15: 5902 | J15: Lycksele
B16: Umeå | C16: 374025 | D16: 20000 | E16: 2.9902862 | F16: 0.16720591 | H16: 11011.003 | I16: 125080 | J16: Umeåregionen
B17: Vilhelmina 1 2 | C17: 0 | D17: 0 | E17: 0 | F17: 0 | H17: 546.39626 | I17: 6787 | J17: Vilhelmina
... B20: Åsele 1 | C20: 0 | D20: 0 | E20: 0 | F20: 0 | H20: 227.93138 | I20: 2809 | J20: Lycksele
B21: HELA LÄNET | C21: =SUM(C6:C20) -> 485624 | E21: =SUM(C21/I21) -> 1.8088913 | H21: =SUM(H6:H20) -> 22684.498 | I21: =SUM(I6:I20) -> 268465
B23: * Alla anmälda brott under Brottsbalken samt lag (1988:688) om kontaktförbud (se utförligare förklaring under INFO).
B25: 1. Jouren har inte ansökt om kommunbidrag. Planer på samgående av tre jourer, förhandlingar med flera kommuner pågår.
B26: 2. Anställda inom Vilhelmina kommun som är medlemmar i jouren har möjlighet att utföra jourens ärenden på betald arbetstid.

Sheet Västernorrland
B2: Västernorrlands läns kommuner
B4: Kommun | C4: Kommunbidrag i kronor | E4: Kommunbidrag per invånare (kr) | G4: Övrigt (kommunen betalar/subventionerar lokal, tjänst eller övrigt) | H4: Anmälda brott där det kan finnas enskilda brottsutsatta* 180101 | I4: Invånare 180101 | J4: Brottsofferjour
C5: 2018 | D5: 2015 | E5: 2018 | F5: 2015
B6: Härnösand | C6: 75000 | D6: 10000 | E6: 2.977372 | F6: 0.4039588 | H6: 3004.6469 | I6: 25190 | J6: Västernorrland
B7: Kramfors | C7: 55077 | D7: 0 | E7: 2.9595379 | F7: 0 | H7: 2205.8219 | I7: 18610 | J7: Västernorrland
B8: Sollefteå | C8: 60000 | D8: 0 | E8: 3.0442945 | F8: 0 | H8: 1887.3571 | I8: 19709 | J8: Västernorrland
B9: Sundsvall | C9: 300000 | D9: 300000 | E9: 3.0361299 | F9: 3.082044 | H9: 10353.836 | I9: 98810 | J9: Västernorrland
B10: Timrå 1 | C10: 0 | D10: 0 | E10: 0 | F10: 0 | H10: 1627.4727 | I10: 18030
B11: Ånge | C11: 28452 | D11: 28452 | E11: 3.0012658 | F11: 3 | H11: 721.07265 | I11: 9480 | J11: Västernorrland
B12: Örnsköldsvik | C12: 165000 | D12: 0 | E12: 2.9391332 | F12: 0 | H12: 3780.0396 | I12: 56139 | J12: Västernorrland
B13: HELA LÄNET** | C13: =SUM(C6:C12) -> 683529 | E13: =SUM(C13/I13) -> 2.9987497 | H13: =SUM(H6,H7,H8,H9,H11,H12) -> 21952.775 | I13: =SUM(I6,I7,I8,I9,I11,I12) -> 227938
B15: * Alla anmälda brott under Brottsbalken samt lag (1988:688) om kontaktförbud (se utförligare förklaring under INFO).
B16: ** Sammanräkningen gäller enbart kommuner som samverkar med Brottsofferjouren, dvs i det här fallet är inte Timrå medräknad.
B18: 1. Jouren i Västernorrland ansökte om kommunbidrag men fick avslag av Timrå. Kommunen samverkar inte med Brottsofferjouren.

Sheet Västmanland
B2: Västmanlands läns kommuner
B4: Kommun | C4: Kommunbidrag i kronor | E4: Kommunbidrag per invånare (kr) | G4: Övrigt (kommunen betalar/subventionerar lokal, tjänst eller övrigt) | H4: Anmälda brott där det kan finnas enskilda brottsutsatta* 180101 | I4: Invånare 180101 | J4: Brottsofferjour
C5: 2018 | D5: 2015 | E5: 2018 | F5: 2015
B6: Arboga 1 | C6: 0 | D6: 13600 | E6: 0 | F6: 0.99772577 | H6: 1058.9488 | I6: 13934 | J6: Västmanland
B7: Fagersta | C7: 40000 | D7: 40000 | E7: 2.9817369 | F7: 3.0457626 | H7: 1357.476 | I7: 13415 | J7: Västmanland
B8: Hallstahammar 1 | C8: 45000 | D8: 0 | E8: 2.8128516 | F8: 0 | H8: 1382.1574 | I8: 15998 | J8: Västmanland
B9: Kungsör | C9: 8200 | D9: 8200 | E9: 0.95315588 | F9: 0.99165558 | H9: 523.01024 | I9: 8603 | J9: Västmanland
B10: Köping 2 | C10: 0 | D10: 28560 | E10: 0 | F10: 1.1254729 | H10: 2280.0896 | I10: 26116 | J10: Västmanland
B11: Norberg | C11: 27000 | D11: 27000 | E11: 4.6583851 | F11: 4.7211051 | H11: 612.33333 | I11: 5796 | J11: Västmanland
B12: Sala | C12: 45000 | D12: 21900 | E12: 1.988423 | F12: 0.99885975 | H12: 2114.3717 | I12: 22631 | J12: Västmanland
B13: Skinnskatteberg | C13: 25000 | D13: 25000 | E13: 5.6420673 | F13: 5.6382499 | H13: 473.64747 | I13: 4431 | J13: Västmanland
B14: Surahammar 1 | C14: 35000 | D14: 0 | E14: 3.4870977 | F14: 0 | H14: 713.40947 | I14: 10037 | J14: Västmanland
B15: Västerås 3 | C15: 1361000 | D15: 1265000 | E15: 9.0652351 | F15: 8.8029394 | H15: 20581.922 | I15: 150134 | J15: Västmanland
B16: HELA LÄNET | C16: =SUM(C6:C15) -> 1586200 | E16: =SUM(C16/I16) -> 5.8510854 | H16: =SUM(H6:H15) -> 31097.366 | I16: =SUM(I6:I15) -> 271095
B18: * Alla anmälda brott under Brottsbalken samt lag (1988:688) om kontaktförbud (se utförligare förklaring under INFO).
B20: 1. Jouren ansökte om kommunbidrag men har inte fått svar från kommunen.
B21: 2. Jouren har inte ansökt om kommunbidrag eftersom kommunen precis flyttats dit från en nedlagd jour.
B22: 3. Bidraget gäller både verksamheten för vuxna brottsoffer, anhöriga och vittnen samt Stödcentrum för Unga brottsoffer.

Sheet Västra Götaland
B2: Västra Götalands läns kommuner
B4: Kommun | C4: Kommunbidrag i kronor | E4: Kommunbidrag per invånare (kr) | G4: Övrigt (kommunen betalar/subventionerar lokal, tjänst eller övrigt) | H4: Anmälda brott där det kan finnas enskilda brottsutsatta* 180101 | I4: Invånare 180101 | J4: Brottsofferjour
C5: 2018 | D5: 2015 | E5: 2018 | F5: 2015
B6: Ale 1 | C6: 0 | D6: 0 | E6: 0 | F6: 0 | H6: 2311.7354 | I6: 30223 | J6: Ale
B7: Alingsås | C7: 16380 | D7: 15000 | E7: 0.40554593 | F7: 0.38277024 | H7: 4000.8784 | I7: 40390 | J7: Alingsås-Lerum-Vårgårda-Herrljunga
B8: Bengtsfors 2 | C8: 0 | D8: 10000 | E8: 0 | F8: 1.046463 | H8: 845.88499 | I8: 9905 | J8: Bohus-Norra Älvsborg
B9: Bollebygd 2 | C9: 0 | D9: 0 | E9: 0 | F9: 0 | H9: 580.56082 | I9: 9262 | J9: Borås-Sjuhärad
B10: Borås | C10: 81000 | D10: 41000 | E10: 0.72955884 | F10: 0.3830988 | H10: 11770.148 | I10: 111026 | J10: Borås-Sjuhärad
B11: Dals-Ed | C11: 1500 | D11: 3000 | E11: 0.31492757 | F11: 0.62972292 | H11: 375.657 | I11: 4763 | J11: Bohus-Norra Älvsborg
B12: Essunga | C12: 5647 | D12: 5400 | E12: 1 | F12: 0.97508126 | H12: 484.67634 | I12: 5647 | J12: Västra Skaraborg
B13: Falköping | C13: 99225 | D13: 64370 | E13: 2.9998186 | F13: 2 | H13: 3212.7868 | I13: 33077 | J13: Östra Skaraborg
B14: Färgelanda 3 | C14: 0 | D14: 3500 | E14: 0 | F14: 0.53829591 | H14: 538.52927 | I14: 6592 | J14: Bohus-Norra Älvsborg
B15: Grästorp | C15: 5750 | D15: 2815 | E15: 1 | F15: 0.5 | H15: 404.55369 | I15: 5750 | J15: Västra Skaraborg
B16: Gullspång 3 | C16: 0 | D16: 0 | E16: 0 | F16: 0 | H16: 614.71146 | I16: 5280 | J16: Norra Skaraborg
B17: Göteborg 4 | C17: 400000 | D17: 240000 | E17: 0.70917082 | F17: 0.44350405 | H17: 98030.715 | I17: 564039 | J17: Storgöteborg
... B38: Stenungsund | C38: 20000 | D38: 10000 | E38: 0.76266016 | F38: 0.39564787 | H38: 2525.8336 | I38: 26224 | J38: Kungälv-Stenungsund-Orust-Tjörn
B39: Strömstad | C39: 12000 | D39: 0 | E39: 0.90785293 | F39: 0 | G39: Subventionerar lokal | H39: 1940.0188 | I39: 13218 | J39: Strömstad-Tanum
B40: Svenljunga 3 | C40: 0 | D40: 0 | E40: 0 | F40: 0 | H40: 1150.6138 | I40: 10659 | J40: Borås-Sjuhärad
B41: Tanum | C41: 22000 | D41: 0 | E41: 1.7237327 | F41: 0 | G41: Subventionerar lokal | H41: 1284.5893 | I41: 12763 | J41: Strömstad-Tanum
B42: Tibro | C42: 33444 | D42: 10800 | E42: 3.010261 | F42: 0.99410898 | H42: 696.14759 | I42: 11110 | J42: Östra Skaraborg
B43: Tidaholm | C43: 38325 | D43: 25234 | E43: 2.9878382 | F43: 2 | H43: 1285.9028 | I43: 12827 | J43: Östra Skaraborg
B44: Tjörn | C44: 5000 | D44: 10000 | E44: 0.31665611 | F44: 0.66072019 | H44: 960.15828 | I44: 15790 | J44: Kungälv-Stenungsund-Orust-Tjörn
B45: Tranemo 3 | C45: 0 | D45: 0 | E45: 0 | F45: 0 | H45: 750.00052 | I45: 11841 | J45: Borås-Sjuhärad
B46: Trollhättan | C46: 158656 | D46: 100000 | E46: 2.7242694 | F46: 1.756574 | H46: 6365.1532 | I46: 58238 | J46: Trollhättan-Lilla Edet
B47: Töreboda | C47: 18828 | D47: 0 | E47: 2 | F47: 0 | H47: 1036.3405 | I47: 9414 | J47: Norra Skaraborg
B48: Uddevalla | C48: 72000 | D48: 25000 | E48: 1.2911787 | F48: 0.46714128 | H48: 7345.0138 | I48: 55763 | J48: Bohus-Norra Älvsborg
B49: Ulricehamn | C49: 6250 | D49: 0 | E49: 0.25724399 | F49: 0 | H49: 1699.6509 | I49: 24296 | J49: Borås-Sjuhärad
B50: Vara | C50: 15942 | D50: 1561 | E50: 1 | F50: 0.10008335 | H50: 1693.0835 | I50: 15942 | J50: Västra Skaraborg
B51: Vårgårda | C51: 6000 | D51: 6000 | E51: 0.52219321 | F51: 0.54107674 | H51: 962.78525 | I51: 11490 | J51: Alingsås-Lerum-Vårgårda-Herrljunga
B52: Vänersborg | C52: 65000 | D52: 45000 | E52: 1.6602386 | F52: 1.1876485 | H52: 4109.8977 | I52: 39151 | J52: Bohus-Norra Älvsborg
B53: Åmål | C53: 20000 | D53: 13000 | E53: 1.5734403 | F53: 1.0546812 | H53: 1242.5578 | I53: 12711 | J53: Bohus-Norra Älvsborg
B54: Öckerö 5 | C54: 0 | D54: 0 | E54: 0 | F54: 0 | H54: 549.03715 | I54: 12923
B55: HELA LÄNET** | C55: =SUM(C6:C53) -> 2175295 | E55: =SUM(C55/I55) -> 1.2964707 | H55: =SUM(H6:H53) -> 206661.26 | I55: =SUM(I6:I53) -> 1677859
B57: * Alla anmälda brott under Brottsbalken samt lag (1988:688) om kontaktförbud (se utförligare förklaring under INFO).
B58: ** Sammanräkningen gäller enbart kommuner som samverkar med Brottsofferjouren, dvs i det här fallet är inte Öckerö medräknat.
B59: 1. Jouren har inte ansökt om kommunbidrag.
B60: 2. Kommunen har avslagit jourens ansökan om kommunbidrag.
B61: 3. Kommunen har inte svarat på jourens ansökan.
B62: 4. Göteborgs kommun bedriver egen brottsofferstödjande verksamhet, varför Brottsofferjouren i den kommunen är mer att se som ett komplement.
B63: 5. Kommunen samverkar inte med Brottsofferjouren.

Sheet Örebro
B2: Örebro läns kommuner
B4: Kommun | C4: Kommunbidrag i kronor | E4: Kommunbidrag per invånare (kr) | G4: Övrigt (kommunen betalar/subventionerar lokal, tjänst eller övrigt) | H4: Anmälda brott där det kan finnas enskilda brottsutsatta* 180101 | I4: Invånare 180101 | J4: Brottsofferjour
C5: 2018 | D5: 2015 | E5: 2018 | F5: 2015
B6: Askersund | C6: 14823 | D6: 7500 | E6: 1.326443 | F6: 0.67452109 | H6: 897.4665 | I6: 11175 | J6: Örebro län
B7: Degerfors | C7: 45000 | D7: 45000 | E7: 4.6545304 | F7: 4.7214353 | H7: 778.80452 | I7: 9668 | J7: Örebro län
B8: Hallsberg | C8: 31780 | D8: 30534 | E8: 1.9947276 | F8: 1.9937316 | H8: 1841.3067 | I8: 15932 | J8: Örebro län
B9: Hällefors | C9: 42340 | D9: 41586 | E9: 5.9558306 | F9: 5.9956747 | H9: 493.74297 | I9: 7109 | J9: Örebro län
B10: Karlskoga | C10: 110000 | D10: 110000 | E10: 3.6168744 | F10: 3.6600785 | G10: Subventionerar lokal | H10: 3711.2559 | I10: 30413 | J10: Örebro län
B11: Kumla | C11: 42032 | D11: 0 | E11: 1.9544313 | F11: 0 | H11: 2067.7192 | I11: 21506 | J11: Örebro län
B12: Laxå | C12: 6000 | D12: 5000 | E12: 1.0632642 | F12: 0.88276836 | H12: 568.75917 | I12: 5643 | J12: Örebro län
B13: Lekeberg | C13: 27000 | D13: 19000 | E13: 3.4316218 | F13: 2.5804699 | H13: 413.27105 | I13: 7868 | J13: Örebro län
B14: Lindesberg | C14: 140000 | D14: 138000 | E14: 5.9289374 | F14: 5.9306373 | H14: 2145.4632 | I14: 23613 | J14: Örebro län
B15: Ljusnarsberg | C15: 29424 | D15: 29358 | E15: 5.9538648 | F15: 5.975575 | H15: 537.38876 | I15: 4942 | J15: Örebro län
B16: Nora | C16: 31791 | D16: 32000 | E16: 2.9581278 | F16: 3.0911901 | H16: 694.2408 | I16: 10747 | J16: Örebro län
B17: Örebro | C17: 513000 | D17: 438322 | E17: 3.413378 | F17: 3.0733989 | H17: 22499.403 | I17: 150291 | J17: Örebro län
B18: HELA LÄNET | C18: =SUM(C6:C17) -> 1033190 | E18: =SUM(C18/I18) -> 3.4565601 | H18: =SUM(H6:H17) -> 36648.822 | I18: =SUM(I6:I17) -> 298907
B20: * Alla anmälda brott under Brottsbalken samt lag (1988:688) om kontaktförbud (se utförligare förklaring under INFO).

Sheet Östergötland
B2: Östergötlands läns kommuner
B4: Kommun | C4: Kommunbidrag i kronor | E4: Kommunbidrag per invånare (kr) | G4: Övrigt (kommunen betalar/subventionerar lokal, tjänst eller övrigt) | H4: Anmälda brott där det kan finnas enskilda brottsutsatta* 180101 | I4: Invånare 180101 | J4: Brottsofferjour
C5: 2018 | D5: 2015 | E5: 2018 | F5: 2015
B6: Boxholm | C6: 26000 | D6: 10000 | E6: 4.7680176 | F6: 1.8789929 | H6: 310.34047 | I6: 5453 | J6: Västra Östergötland
B7: Finspång 1 | C7: 0 | D7: 27764 | E7: 0 | F7: 1.3127187 | H7: 1713.0302 | I7: 21577 | J7: Östergötland
B8: Kinda 1 | C8: 0 | D8: 9795 | E8: 0 | F8: 1 | H8: 599.74528 | I8: 9882 | J8: Östergötland
B9: Linköping 1 | C9: 0 | D9: 492743 | E9: 0 | F9: 3.2442702 | H9: 18037.924 | I9: 158520 | J9: Östergötland
B10: Mjölby | C10: 136650 | D10: 80000 | E10: 5.0575521 | F10: 3.0270925 | H10: 2200.708 | I10: 27019 | J10: Västra Östergötland
B11: Motala | C11: 214500 | D11: 56000 | E11: 4.9254862 | F11: 1.3159131 | H11: 3917.4327 | I11: 43549 | J11: Västra Östergötland
B12: Norrköping 2 | C12: 0 | D12: 152591 | E12: 0 | F12: 1.1279392 | H12: 17221.433 | I12: 140927 | J12: Östergötland
B13: Söderköping 1 | C13: 0 | D13: 21518 | E13: 0 | F13: 1.5081301 | H13: 955.65162 | I13: 14521 | J13: Östergötland
B14: Vadstena 3 | C14: 0 | D14: 10000 | E14: 0 | F14: 1.3526309 | H14: 512.30808 | I14: 7421 | J14: Västra Östergötland
B15: Valdemarsvik 1 | C15: 0 | D15: 14255 | E15: 0 | F15: 1.8616952 | H15: 708.11815 | I15: 7920 | J15: Östergötland
B16: Ydre 1 | C16: 0 | D16: 0 | E16: 0 | F16: 0 | H16: 168.71685 | I16: 3733 | J16: Östergötland
B17: Åtvidaberg 1 | C17: 0 | D17: 12000 | E17: 0 | F17: 1.0460251 | H17: 826.34309 | I17: 11631 | J17: Östergötland
B18: Ödeshög | C18: 26000 | D18: 5000 | E18: 4.86618 | F18: 0.95419847 | H18: 499.99299 | I18: 5343 | J18: Västra Östergötland
B19: HELA LÄNET | C19: =SUM(C6:C18) -> 403150 | E19: =SUM(C19/I19) -> 0.88120989 | H19: =SUM(H6:H18) -> 47671.745 | I19: =SUM(I6:I18) -> 457496
B21: * Alla anmälda brott under Brottsbalken samt lag (1988:688) om kontaktförbud (se utförligare förklaring under INFO).
B23: 1. Jouren i området startades under 2018, endast inledande kontakter med de flesta kommuner har tagits.
B24: 2. Kommunen valde att göra en upphandling där en annan aktör gav ett lägre anbud.
B25: 3. Jourens ansökan har avslagits av kommunen.
